BEGIN:VCALENDAR
VERSION:2.0
PRODID:-//DGOB - ECPv6.15.20//NONSGML v1.0//EN
CALSCALE:GREGORIAN
METHOD:PUBLISH
X-WR-CALNAME:DGOB
X-ORIGINAL-URL:https://dgob.info/en
X-WR-CALDESC:Events for DGOB
REFRESH-INTERVAL;VALUE=DURATION:PT1H
X-Robots-Tag:noindex
X-PUBLISHED-TTL:PT1H
BEGIN:VTIMEZONE
TZID:Europe/Berlin
BEGIN:DAYLIGHT
TZOFFSETFROM:+0100
TZOFFSETTO:+0200
TZNAME:CEST
DTSTART:20250330T010000
END:DAYLIGHT
BEGIN:STANDARD
TZOFFSETFROM:+0200
TZOFFSETTO:+0100
TZNAME:CET
DTSTART:20251026T010000
END:STANDARD
BEGIN:DAYLIGHT
TZOFFSETFROM:+0100
TZOFFSETTO:+0200
TZNAME:CEST
DTSTART:20260329T010000
END:DAYLIGHT
BEGIN:STANDARD
TZOFFSETFROM:+0200
TZOFFSETTO:+0100
TZNAME:CET
DTSTART:20261025T010000
END:STANDARD
BEGIN:DAYLIGHT
TZOFFSETFROM:+0100
TZOFFSETTO:+0200
TZNAME:CEST
DTSTART:20270328T010000
END:DAYLIGHT
BEGIN:STANDARD
TZOFFSETFROM:+0200
TZOFFSETTO:+0100
TZNAME:CET
DTSTART:20271031T010000
END:STANDARD
END:VTIMEZONE
BEGIN:VEVENT
DTSTART;TZID=Europe/Berlin:20260131T090000
DTEND;TZID=Europe/Berlin:20260201T170000
DTSTAMP:20260420T001324
CREATED:20251012T100048Z
LAST-MODIFIED:20251012T100048Z
UID:10000968-1769850000-1769965200@dgob.info
SUMMARY:Kurs 5\, Dynamische Techniken Phase 5
DESCRIPTION:Ausbildungskurs mit Dr. med. Hans-Ulrich Wegner. \nThema: Einführung Phase 5\, Bewegungsmuster\, Art des Kontaktes\, erste Reflexe. \nBitte direkt anmelden unter info@freieheilpraktiker.com. \nSorry\, this entry is only available in Deutsch at the moment. \n\nDies ist keine Veranstaltung der DGOB – aber wir wollen gerne auf Veranstaltungen aufmerksam machen\, die wir für wichtig halten. Wir übernehmen keine Garantie für die Richtigkeit der Angaben\, bitte schauen Sie bei Fremdveranstaltungen immer auch bei den Anbietern selbst nach\, da wir eventuelle Termin- und Ortsverlegungen oder Absagen nicht in jedem Fall nachhalten können. Bitte achten Sie auch darauf\, dass der Großteil der Seminare kostenpflichtig ist. Vielen Dank!
URL:https://dgob.info/en/veranstaltung/kurs-5-dynamische-techniken-phase-5-9/
LOCATION:Freie Heilpraktiker (Düsseldorf)\, Benrather Schlossallee 49-53\, Düsseldorf\, Nordrhein-Westfalen\, 40597
CATEGORIES:Ausbildung
GEO:51.1624344;6.8612281
X-APPLE-STRUCTURED-LOCATION;VALUE=URI;X-ADDRESS=Freie Heilpraktiker (Düsseldorf) Benrather Schlossallee 49-53 Düsseldorf Nordrhein-Westfalen 40597;X-APPLE-RADIUS=500;X-TITLE=Benrather Schlossallee 49-53:geo:6.8612281,51.1624344
END:VEVENT
BEGIN:VEVENT
DTSTART;TZID=Europe/Berlin:20260206T120000
DTEND;TZID=Europe/Berlin:20260208T173000
DTSTAMP:20260420T001324
CREATED:20251212T193023Z
LAST-MODIFIED:20251212T193023Z
UID:10000993-1770379200-1770571800@dgob.info
SUMMARY:Phase 4\, Basic I
DESCRIPTION:Ausbildungskurs mit Susanne Bauer und Angelika Raum. \nThema: Wirbelsäule\, Kreuzdarmbeingelenke\, Psoas\, Beckenfehlstellung\, Philosophie der OB. \nBitte direkt anmelden unter OB-Schule@gmx.de. Weitere Informationen unter www.Ortho-Bionomy-Schule.de oder unter Telefonnummer 0179-4622193. \nSorry\, this entry is only available in Deutsch at the moment. \n\nDies ist keine Veranstaltung der DGOB – aber wir wollen gerne auf Veranstaltungen aufmerksam machen\, die wir für wichtig halten. Wir übernehmen keine Garantie für die Richtigkeit der Angaben\, bitte schauen Sie bei Fremdveranstaltungen immer auch bei den Anbietern selbst nach\, da wir eventuelle Termin- und Ortsverlegungen oder Absagen nicht in jedem Fall nachhalten können. Bitte achten Sie auch darauf\, dass der Großteil der Seminare kostenpflichtig ist. Vielen Dank!
URL:https://dgob.info/en/veranstaltung/phase-4-basic-i/
LOCATION:Wolfersfeld\, Wolfersfeld 5\, Wolfersfeld\, Bayern\, 92262\, Germany
CATEGORIES:Ausbildung
END:VEVENT
BEGIN:VEVENT
DTSTART;TZID=Europe/Berlin:20260219T180000
DTEND;TZID=Europe/Berlin:20260219T210000
DTSTAMP:20260420T001324
CREATED:20251118T193159Z
LAST-MODIFIED:20251118T193159Z
UID:10000991-1771524000-1771534800@dgob.info
SUMMARY:Facharbeitskreis
DESCRIPTION:Facharbeitskreis mit Sada H. Bist und Dagmar Müsch. \nThema: Ortho-Bionomy® ist eine sanfte Methode der Körperarbeit\, die vom Osteopathen A.L. Pauls D.O. entwickelt wurde. Sie bietet ein vielseitiges Behandlungsspektrum und lässt sich in verschiedenen Kontexten einsetzen. Im Arbeitskreis werden die Techniken vertieft\, Fragen geklärt und es besteht die Möglichkeit\, die Methode gegenseitig praktisch zu üben.\nVoraussetzung: Grundkenntnisse der Methode \nWeitere Informationen unter www.freieheilpraktiker.com. Bitte direkt anmelden unter info@freieheilpraktiker.com. \nSorry\, this entry is only available in Deutsch at the moment. \n\nDies ist keine Veranstaltung der DGOB – aber wir wollen gerne auf Veranstaltungen aufmerksam machen\, die wir für wichtig halten. Wir übernehmen keine Garantie für die Richtigkeit der Angaben\, bitte schauen Sie bei Fremdveranstaltungen immer auch bei den Anbietern selbst nach\, da wir eventuelle Termin- und Ortsverlegungen oder Absagen nicht in jedem Fall nachhalten können. Bitte achten Sie auch darauf\, dass der Großteil der Seminare kostenpflichtig ist. Vielen Dank!
URL:https://dgob.info/en/veranstaltung/facharbeitskreis-3/2026-02-19/
LOCATION:Freie Heilpraktiker (Düsseldorf)\, Benrather Schlossallee 49-53\, Düsseldorf\, Nordrhein-Westfalen\, 40597
CATEGORIES:Arbeitskreis
GEO:51.1624344;6.8612281
X-APPLE-STRUCTURED-LOCATION;VALUE=URI;X-ADDRESS=Freie Heilpraktiker (Düsseldorf) Benrather Schlossallee 49-53 Düsseldorf Nordrhein-Westfalen 40597;X-APPLE-RADIUS=500;X-TITLE=Benrather Schlossallee 49-53:geo:6.8612281,51.1624344
END:VEVENT
BEGIN:VEVENT
DTSTART;TZID=Europe/Berlin:20260221T090000
DTEND;TZID=Europe/Berlin:20260222T163000
DTSTAMP:20260420T001324
CREATED:20251212T212926Z
LAST-MODIFIED:20260116T180838Z
UID:10001002-1771664400-1771777800@dgob.info
SUMMARY:Ortho-Bionomy®  Kurs 7
DESCRIPTION:Ausbildungskurs mit Sada H. Bist. \nThema: Vertiefung und Erweiterung der Phase 4 Techniken\, Kombination mit Phase 5 Techniken bzw. Übergang in die dynamische Arbeit\, Technik an HWS\, BWS\, Scapulae\, Rippen\, Thorax\, Phase 5 Reflexe\, Aufbau einer Therapie-Sitzung. \nVorkenntnisse: mind. zwei Kurse in Phase 4 und ein Kurs in Phase 5. \nWeitere Informationen unter mail@praxis-bist.de . Bitte direkt anmelden unter mail@praxis-bist.de . \nSorry\, this entry is only available in Deutsch at the moment. \n\nDies ist keine Veranstaltung der DGOB – aber wir wollen gerne auf Veranstaltungen aufmerksam machen\, die wir für wichtig halten. Wir übernehmen keine Garantie für die Richtigkeit der Angaben\, bitte schauen Sie bei Fremdveranstaltungen immer auch bei den Anbietern selbst nach\, da wir eventuelle Termin- und Ortsverlegungen oder Absagen nicht in jedem Fall nachhalten können. Bitte achten Sie auch darauf\, dass der Großteil der Seminare kostenpflichtig ist. Vielen Dank!
URL:https://dgob.info/en/veranstaltung/ortho-bionomy-seminar-5/
LOCATION:Praxis Sada Hilde Bist\, Gruppelostraße 11\, Düsseldorf\, Nord-Rhein-Westfalen\, 40210
CATEGORIES:Ausbildung
GEO:51.2207468;6.7862249
X-APPLE-STRUCTURED-LOCATION;VALUE=URI;X-ADDRESS=Praxis Sada Hilde Bist Gruppelostraße 11 Düsseldorf Nord-Rhein-Westfalen 40210;X-APPLE-RADIUS=500;X-TITLE=Gruppelostraße 11:geo:6.7862249,51.2207468
END:VEVENT
BEGIN:VEVENT
DTSTART;TZID=Europe/Berlin:20260227T090000
DTEND;TZID=Europe/Berlin:20260228T170000
DTSTAMP:20260420T001324
CREATED:20260117T091118Z
LAST-MODIFIED:20260117T091118Z
UID:10001015-1772182800-1772298000@dgob.info
SUMMARY:Seminar 1 - strukturelle Techniken
DESCRIPTION:Ausbildungskurs mit Christa Hegele-Mack. \nThema: Grundlagen der Ortho-Bionomy® / therapeutische Schlüsselpunkte erarbeiten und erlernen. Erlernen von Gewebekontakten und Behandlung von Menschen von der Halswirbelsäule bis zum Zeh mit strukturellen Techniken. \nBitte direkt anmelden unter info@ortho-bionomy.de. Weitere Informationen unter www.ortho-bionomy.de. \nSorry\, this entry is only available in Deutsch at the moment. \n\nDies ist keine Veranstaltung der DGOB – aber wir wollen gerne auf Veranstaltungen aufmerksam machen\, die wir für wichtig halten. Wir übernehmen keine Garantie für die Richtigkeit der Angaben\, bitte schauen Sie bei Fremdveranstaltungen immer auch bei den Anbietern selbst nach\, da wir eventuelle Termin- und Ortsverlegungen oder Absagen nicht in jedem Fall nachhalten können. Bitte achten Sie auch darauf\, dass der Großteil der Seminare kostenpflichtig ist. Vielen Dank!
URL:https://dgob.info/en/veranstaltung/seminar-1-strukturelle-techniken/
LOCATION:localfit Fitnessstudio\, Lußweg 4\, Günzburg\, Bayern\, 89312\, Germany
CATEGORIES:Ausbildung
END:VEVENT
BEGIN:VEVENT
DTSTART;TZID=Europe/Berlin:20260228T090000
DTEND;TZID=Europe/Berlin:20260301T170000
DTSTAMP:20260420T001324
CREATED:20251118T181805Z
LAST-MODIFIED:20251118T181805Z
UID:10000969-1772269200-1772384400@dgob.info
SUMMARY:Kurs 13\, viszerale Techniken
DESCRIPTION:Ausbildungskurs mit Dr. med. Hans-Ulrich Wegner. \nThema: Behandlung innerer Organe in Phase 4-6\, Sphinkteren MD-Trakt\, Faszientechniken. \nBitte direkt anmelden unter sabine.welzig@web.de. \nSorry\, this entry is only available in Deutsch at the moment. \n\nDies ist keine Veranstaltung der DGOB – aber wir wollen gerne auf Veranstaltungen aufmerksam machen\, die wir für wichtig halten. Wir übernehmen keine Garantie für die Richtigkeit der Angaben\, bitte schauen Sie bei Fremdveranstaltungen immer auch bei den Anbietern selbst nach\, da wir eventuelle Termin- und Ortsverlegungen oder Absagen nicht in jedem Fall nachhalten können. Bitte achten Sie auch darauf\, dass der Großteil der Seminare kostenpflichtig ist. Vielen Dank!
URL:https://dgob.info/en/veranstaltung/kurs-13-viszerale-techniken-3/
LOCATION:Praxis Sperbergasse\, Sperbergasse 4\, Burgdorf\, Niedersachsen\, 31303\, Deutschland
CATEGORIES:Ausbildung
GEO:52.4560995;9.9977218
X-APPLE-STRUCTURED-LOCATION;VALUE=URI;X-ADDRESS=Praxis Sperbergasse Sperbergasse 4 Burgdorf Niedersachsen 31303 Deutschland;X-APPLE-RADIUS=500;X-TITLE=Sperbergasse 4:geo:9.9977218,52.4560995
END:VEVENT
END:VCALENDAR