BEGIN:VCALENDAR
VERSION:2.0
PRODID:-//DGOB - ECPv6.15.20//NONSGML v1.0//EN
CALSCALE:GREGORIAN
METHOD:PUBLISH
X-WR-CALNAME:DGOB
X-ORIGINAL-URL:https://dgob.info/en
X-WR-CALDESC:Events for DGOB
REFRESH-INTERVAL;VALUE=DURATION:PT1H
X-Robots-Tag:noindex
X-PUBLISHED-TTL:PT1H
BEGIN:VTIMEZONE
TZID:Europe/Berlin
BEGIN:DAYLIGHT
TZOFFSETFROM:+0100
TZOFFSETTO:+0200
TZNAME:CEST
DTSTART:20230326T010000
END:DAYLIGHT
BEGIN:STANDARD
TZOFFSETFROM:+0200
TZOFFSETTO:+0100
TZNAME:CET
DTSTART:20231029T010000
END:STANDARD
BEGIN:DAYLIGHT
TZOFFSETFROM:+0100
TZOFFSETTO:+0200
TZNAME:CEST
DTSTART:20240331T010000
END:DAYLIGHT
BEGIN:STANDARD
TZOFFSETFROM:+0200
TZOFFSETTO:+0100
TZNAME:CET
DTSTART:20241027T010000
END:STANDARD
BEGIN:DAYLIGHT
TZOFFSETFROM:+0100
TZOFFSETTO:+0200
TZNAME:CEST
DTSTART:20250330T010000
END:DAYLIGHT
BEGIN:STANDARD
TZOFFSETFROM:+0200
TZOFFSETTO:+0100
TZNAME:CET
DTSTART:20251026T010000
END:STANDARD
END:VTIMEZONE
BEGIN:VEVENT
DTSTART;TZID=Europe/Berlin:20241108T090000
DTEND;TZID=Europe/Berlin:20241109T173000
DTSTAMP:20260423T123113
CREATED:20240606T223230Z
LAST-MODIFIED:20240606T223230Z
UID:10000898-1731056400-1731173400@dgob.info
SUMMARY:Seminar 7
DESCRIPTION:Ausbildungskurs mit Christa Hegele-Mack. \nThema: Strukturelle und Dynamische Aufbautechniken: untere Extremität. \nSorry\, this entry is only available in Deutsch at the moment. \nBitte direkt anmelden unter info@ortho-bionomy.de  Weitere Informationen unter www.ortho-bionomy.de. \n\nSorry\, this entry is only available in Deutsch at the moment. \n\nDies ist keine Veranstaltung der DGOB – aber wir wollen gerne auf Veranstaltungen aufmerksam machen\, die wir für wichtig halten. Wir übernehmen keine Garantie für die Richtigkeit der Angaben\, bitte schauen Sie bei Fremdveranstaltungen immer auch bei den Anbietern selbst nach\, da wir eventuelle Termin- und Ortsverlegungen oder Absagen nicht in jedem Fall nachhalten können. Bitte achten Sie auch darauf\, dass der Großteil der Seminare kostenpflichtig ist. Vielen Dank!
URL:https://dgob.info/en/veranstaltung/seminar-7-2/
LOCATION:rehafit Fitnessstudio\, Lußweg 4\, Günzburg\, Bayern\, 89312
CATEGORIES:Ausbildung
GEO:48.4784749;10.2573777
X-APPLE-STRUCTURED-LOCATION;VALUE=URI;X-ADDRESS=rehafit Fitnessstudio Lußweg 4 Günzburg Bayern 89312;X-APPLE-RADIUS=500;X-TITLE=Lußweg 4:geo:10.2573777,48.4784749
END:VEVENT
BEGIN:VEVENT
DTSTART;TZID=Europe/Berlin:20241108T190000
DTEND;TZID=Europe/Berlin:20241110T130000
DTSTAMP:20260423T123113
CREATED:20240222T181418Z
LAST-MODIFIED:20240222T181418Z
UID:10000885-1731092400-1731243600@dgob.info
SUMMARY:PTI\, Positionierungstechniken innerer Organe\, als Möglichkeit der viszeralen Behandlung in der Ortho-Bionomy®\,
DESCRIPTION:Weiterbildungskurs mit Sada H. Bist. \nThema: Arbeit mit den inneren Organen und deren Verbindungen \nAnknüpfend an das wunderbare Seminar (“Best of” der Seminartrilogie Viszerale Ortho-Bionomy® in Phase 4 und 5)\, das Sada bei uns vor zwei Jahren gegeben hat\, wird Sada an diesem Wochenende in die Positionierungstechniken innerer Organe tiefer einsteigen. Die Techniken aus dem erwähnten vorherigen Seminar werden dabei wiederholt und eingefügt in harmonische Behandlungsabläufe. Garniert wird das Ganze dann noch mit diagnostischen Mitteln\, Rocking in die freie Richtung und Ortho-Bionomy® Reflexen\, sodass ein fließender Behandlungsablauf sich spielend leicht ergeben kann.\nWie immer werden wir dabei viel Raum für unsere persönliche Selbsterfahrung erleben\, uns gegenseitig mit den neuen Techniken behandeln und die Gelegenheit zum Austausch und für Fragen nutzen können. Wir freue uns auf Euch! \nVorraussetzung: Ortho-Bionomy®-Practitioner:in \nBitte direkt anmelden mit Name\, Wohnort\, Mobil-Nr.\, Practitioner*in ja/nein bei Andreas Fritz unter Andreas.Sabine.Fritz@gmail.com. Weitere Informationen unter www.manuelle-tier-therapie.de.\nSorry\, this entry is only available in Deutsch at the moment. \n\nDies ist keine Veranstaltung der DGOB – aber wir wollen gerne auf Veranstaltungen aufmerksam machen\, die wir für wichtig halten. Wir übernehmen keine Garantie für die Richtigkeit der Angaben\, bitte schauen Sie bei Fremdveranstaltungen immer auch bei den Anbietern selbst nach\, da wir eventuelle Termin- und Ortsverlegungen oder Absagen nicht in jedem Fall nachhalten können. Bitte achten Sie auch darauf\, dass der Großteil der Seminare kostenpflichtig ist. Vielen Dank!
URL:https://dgob.info/en/veranstaltung/pti-positionierungstechniken-innerer-organe-als-moeglichkeit-der-viszeralen-behandlung-in-der-ortho-bionomy/
LOCATION:Astor-Stift Pflegezentrum\, Winterstraße 8\, Walldorf\, Baden-Württemberg\, 69190\, Deutschland
CATEGORIES:Fortbildung,Weiterbildung
GEO:49.2967902;8.6387937
X-APPLE-STRUCTURED-LOCATION;VALUE=URI;X-ADDRESS=Astor-Stift Pflegezentrum Winterstraße 8 Walldorf Baden-Württemberg 69190 Deutschland;X-APPLE-RADIUS=500;X-TITLE=Winterstraße 8:geo:8.6387937,49.2967902
END:VEVENT
BEGIN:VEVENT
DTSTART;TZID=Europe/Berlin:20241109T090000
DTEND;TZID=Europe/Berlin:20241110T170000
DTSTAMP:20260423T123113
CREATED:20240221T153826Z
LAST-MODIFIED:20240221T153826Z
UID:10000884-1731142800-1731258000@dgob.info
SUMMARY:Kurs 9 - Phase 4
DESCRIPTION:Ausbildungskurs mit Dagmar Müsch. \nThema: Behandlung mit Chapman-Reflex-Punkten\, Haltungsarbeit\, Selbstbehandlung. Das Seminar eignet sich für alle\, die mit Menschen zusammen arbeiten\, in der Ortho-Bionomy zu Hause sind\, sowie an Hebammen\, Osteopathen und Manual- & Physiotherapeuten etc. \nVoraussetzungen: keine \nBitte direkt anmelden unter info@freieheilpraktiker.com. Weitere Informationen unter www.freieheilpraktiker.com.\nSorry\, this entry is only available in Deutsch at the moment. \n\nDies ist keine Veranstaltung der DGOB – aber wir wollen gerne auf Veranstaltungen aufmerksam machen\, die wir für wichtig halten. Wir übernehmen keine Garantie für die Richtigkeit der Angaben\, bitte schauen Sie bei Fremdveranstaltungen immer auch bei den Anbietern selbst nach\, da wir eventuelle Termin- und Ortsverlegungen oder Absagen nicht in jedem Fall nachhalten können. Bitte achten Sie auch darauf\, dass der Großteil der Seminare kostenpflichtig ist. Vielen Dank!
URL:https://dgob.info/en/veranstaltung/kurs-9-phase-4/
LOCATION:Freie Heilpraktiker (Düsseldorf)\, Benrather Schlossallee 49-53\, Düsseldorf\, Nordrhein-Westfalen\, 40597
CATEGORIES:Ausbildung
GEO:51.1624344;6.8612281
X-APPLE-STRUCTURED-LOCATION;VALUE=URI;X-ADDRESS=Freie Heilpraktiker (Düsseldorf) Benrather Schlossallee 49-53 Düsseldorf Nordrhein-Westfalen 40597;X-APPLE-RADIUS=500;X-TITLE=Benrather Schlossallee 49-53:geo:6.8612281,51.1624344
END:VEVENT
BEGIN:VEVENT
DTSTART;TZID=Europe/Berlin:20241115T090000
DTEND;TZID=Europe/Berlin:20241116T173000
DTSTAMP:20260423T123113
CREATED:20240606T223214Z
LAST-MODIFIED:20240606T223214Z
UID:10000899-1731661200-1731778200@dgob.info
SUMMARY:Seminar 15
DESCRIPTION:Ausbildungskurs mit Kurt Mölich. \nThema: Kraniomandibuläre Techniken: cervikothorakaler Übergang\, Gewölbehalt\, Tonleiter\, reziproke Membran. \nSorry\, this entry is only available in Deutsch at the moment. \nBitte direkt anmelden unter info@ortho-bionomy.de  Weitere Informationen unter www.ortho-bionomy.de. \n\nSorry\, this entry is only available in Deutsch at the moment. \n\nDies ist keine Veranstaltung der DGOB – aber wir wollen gerne auf Veranstaltungen aufmerksam machen\, die wir für wichtig halten. Wir übernehmen keine Garantie für die Richtigkeit der Angaben\, bitte schauen Sie bei Fremdveranstaltungen immer auch bei den Anbietern selbst nach\, da wir eventuelle Termin- und Ortsverlegungen oder Absagen nicht in jedem Fall nachhalten können. Bitte achten Sie auch darauf\, dass der Großteil der Seminare kostenpflichtig ist. Vielen Dank!
URL:https://dgob.info/en/veranstaltung/seminar-15/
LOCATION:rehafit Fitnessstudio\, Lußweg 4\, Günzburg\, Bayern\, 89312
CATEGORIES:Ausbildung
GEO:48.4784749;10.2573777
X-APPLE-STRUCTURED-LOCATION;VALUE=URI;X-ADDRESS=rehafit Fitnessstudio Lußweg 4 Günzburg Bayern 89312;X-APPLE-RADIUS=500;X-TITLE=Lußweg 4:geo:10.2573777,48.4784749
END:VEVENT
BEGIN:VEVENT
DTSTART;TZID=Europe/Berlin:20241122T090000
DTEND;TZID=Europe/Berlin:20241123T173000
DTSTAMP:20260423T123113
CREATED:20240606T223155Z
LAST-MODIFIED:20240606T223155Z
UID:10000900-1732266000-1732383000@dgob.info
SUMMARY:Funktionelle Anatomie und Selfcare in der Ortho-Bionomy
DESCRIPTION:Weiterbildungskurs mit Stefan Andrecht. \nThema: Wir erkunden wichtige anatomische Schlüsselregionen. Klarheit und Stimmigkeit in der Palpation\, unterschiedliche Möglichkeiten der Entlastung aus den Phasen 4 und 5 und Möglichkeiten der Selbstbehandlung werden in diesem Seminar erarbeitet. \nSorry\, this entry is only available in Deutsch at the moment. \nBitte direkt anmelden unter info@ortho-bionomy.de  Weitere Informationen unter www.ortho-bionomy.de. \n\nSorry\, this entry is only available in Deutsch at the moment. \n\nDies ist keine Veranstaltung der DGOB – aber wir wollen gerne auf Veranstaltungen aufmerksam machen\, die wir für wichtig halten. Wir übernehmen keine Garantie für die Richtigkeit der Angaben\, bitte schauen Sie bei Fremdveranstaltungen immer auch bei den Anbietern selbst nach\, da wir eventuelle Termin- und Ortsverlegungen oder Absagen nicht in jedem Fall nachhalten können. Bitte achten Sie auch darauf\, dass der Großteil der Seminare kostenpflichtig ist. Vielen Dank!
URL:https://dgob.info/en/veranstaltung/funktionelle-anatomie-und-selfcare-in-der-ortho-bionomy/
LOCATION:rehafit Fitnessstudio\, Lußweg 4\, Günzburg\, Bayern\, 89312
CATEGORIES:Fortbildung,Weiterbildung
GEO:48.4784749;10.2573777
X-APPLE-STRUCTURED-LOCATION;VALUE=URI;X-ADDRESS=rehafit Fitnessstudio Lußweg 4 Günzburg Bayern 89312;X-APPLE-RADIUS=500;X-TITLE=Lußweg 4:geo:10.2573777,48.4784749
END:VEVENT
BEGIN:VEVENT
DTSTART;TZID=Europe/Berlin:20241122T090000
DTEND;TZID=Europe/Berlin:20241124T173000
DTSTAMP:20260423T123113
CREATED:20231210T213935Z
LAST-MODIFIED:20231210T213935Z
UID:10000875-1732266000-1732469400@dgob.info
SUMMARY:Visceral
DESCRIPTION:Ausbildungskurs mit Susanne Bauer. \nThema: Wir behandeln die inneren Organe und Faszien\, wir widmen schauen uns der Beweglichkeit\, Vitalität und Gesundheit dieser Strukturen. Die Struktur regiert über die Funktion und die Funktion hat einen Einfluss auf die Struktur. \nBitte direkt anmelden unter OB-Schule@gmx.de. \nSorry\, this entry is only available in Deutsch at the moment. \n\nDies ist keine Veranstaltung der DGOB – aber wir wollen gerne auf Veranstaltungen aufmerksam machen\, die wir für wichtig halten. Wir übernehmen keine Garantie für die Richtigkeit der Angaben\, bitte schauen Sie bei Fremdveranstaltungen immer auch bei den Anbietern selbst nach\, da wir eventuelle Termin- und Ortsverlegungen oder Absagen nicht in jedem Fall nachhalten können. Bitte achten Sie auch darauf\, dass der Großteil der Seminare kostenpflichtig ist. Vielen Dank!
URL:https://dgob.info/en/veranstaltung/visceral/
LOCATION:Heilpraxis Susanne Bauer\, Gänseriedstr. 6\, Nürnberg\, Bayern\, 90475\, Deutschland
CATEGORIES:Ausbildung
END:VEVENT
BEGIN:VEVENT
DTSTART;TZID=Europe/Berlin:20241122T090000
DTEND;TZID=Europe/Berlin:20241124T173000
DTSTAMP:20260423T123113
CREATED:20240606T223126Z
LAST-MODIFIED:20240606T223126Z
UID:10000901-1732266000-1732469400@dgob.info
SUMMARY:Seminar 12
DESCRIPTION:Ausbildungskurs mit Susanne Seidel. \nThema: Energetische Techniken. \nSorry\, this entry is only available in Deutsch at the moment. \nBitte direkt anmelden unter info@ortho-bionomy.de  Weitere Informationen unter www.ortho-bionomy.de. \n\nSorry\, this entry is only available in Deutsch at the moment. \n\nDies ist keine Veranstaltung der DGOB – aber wir wollen gerne auf Veranstaltungen aufmerksam machen\, die wir für wichtig halten. Wir übernehmen keine Garantie für die Richtigkeit der Angaben\, bitte schauen Sie bei Fremdveranstaltungen immer auch bei den Anbietern selbst nach\, da wir eventuelle Termin- und Ortsverlegungen oder Absagen nicht in jedem Fall nachhalten können. Bitte achten Sie auch darauf\, dass der Großteil der Seminare kostenpflichtig ist. Vielen Dank!
URL:https://dgob.info/en/veranstaltung/seminar-12-2/
LOCATION:Privatpraxis Rottenburg am Neckar\, Gartenstraße 88\, Rottenburg am Neckar\, Baden-Württemberg\, 72108\, Deutschland
CATEGORIES:Ausbildung
END:VEVENT
BEGIN:VEVENT
DTSTART;TZID=Europe/Berlin:20241123T090000
DTEND;TZID=Europe/Berlin:20241124T170000
DTSTAMP:20260423T123113
CREATED:20231018T095203Z
LAST-MODIFIED:20231018T095203Z
UID:10000835-1732352400-1732467600@dgob.info
SUMMARY:Kurs 14\, Kraniale Techniken
DESCRIPTION:Ausbildungskurs mit Dr. med. Hans-Ulrich Wegner. \nThema: Anatomie\, Theorie der Arbeit am Cranium\, Grundtechniken. \nBitte direkt anmelden unter info@freieheilpraktiker.com. \nSorry\, this entry is only available in Deutsch at the moment. \n\nDies ist keine Veranstaltung der DGOB – aber wir wollen gerne auf Veranstaltungen aufmerksam machen\, die wir für wichtig halten. Wir übernehmen keine Garantie für die Richtigkeit der Angaben\, bitte schauen Sie bei Fremdveranstaltungen immer auch bei den Anbietern selbst nach\, da wir eventuelle Termin- und Ortsverlegungen oder Absagen nicht in jedem Fall nachhalten können. Bitte achten Sie auch darauf\, dass der Großteil der Seminare kostenpflichtig ist. Vielen Dank!
URL:https://dgob.info/en/veranstaltung/kurs-14-kraniale-techniken-5/
LOCATION:Freie Heilpraktiker (Düsseldorf)\, Benrather Schlossallee 49-53\, Düsseldorf\, Nordrhein-Westfalen\, 40597
CATEGORIES:Ausbildung
GEO:51.1624344;6.8612281
X-APPLE-STRUCTURED-LOCATION;VALUE=URI;X-ADDRESS=Freie Heilpraktiker (Düsseldorf) Benrather Schlossallee 49-53 Düsseldorf Nordrhein-Westfalen 40597;X-APPLE-RADIUS=500;X-TITLE=Benrather Schlossallee 49-53:geo:6.8612281,51.1624344
END:VEVENT
BEGIN:VEVENT
DTSTART;TZID=Europe/Berlin:20241123T090000
DTEND;TZID=Europe/Berlin:20241124T173000
DTSTAMP:20260423T123113
CREATED:20240606T223647Z
LAST-MODIFIED:20240606T223647Z
UID:10000902-1732352400-1732469400@dgob.info
SUMMARY:Seminar 3
DESCRIPTION:Ausbildungskurs mit Silke Lauritsen. \nThema: Strukturelle Techniken: untere Extremität. \nSorry\, this entry is only available in Deutsch at the moment. \nBitte direkt anmelden unter info@ortho-bionomy.de  Weitere Informationen unter www.ortho-bionomy.de. \n\nSorry\, this entry is only available in Deutsch at the moment. \n\nDies ist keine Veranstaltung der DGOB – aber wir wollen gerne auf Veranstaltungen aufmerksam machen\, die wir für wichtig halten. Wir übernehmen keine Garantie für die Richtigkeit der Angaben\, bitte schauen Sie bei Fremdveranstaltungen immer auch bei den Anbietern selbst nach\, da wir eventuelle Termin- und Ortsverlegungen oder Absagen nicht in jedem Fall nachhalten können. Bitte achten Sie auch darauf\, dass der Großteil der Seminare kostenpflichtig ist. Vielen Dank!
URL:https://dgob.info/en/veranstaltung/seminar-3-9/
LOCATION:Privatpraxis Göttingen\, Stegemühlenweg 26\, Göttingen\, Niedersachsen\, 37083\, Deutschland
CATEGORIES:Ausbildung
END:VEVENT
BEGIN:VEVENT
DTSTART;TZID=Europe/Berlin:20241128T180000
DTEND;TZID=Europe/Berlin:20241128T210000
DTSTAMP:20260423T123113
CREATED:20231129T154725Z
LAST-MODIFIED:20231129T154725Z
UID:10000843-1732816800-1732827600@dgob.info
SUMMARY:Facharbeitskreis Ortho-Bionomy®
DESCRIPTION:Arbeitskreis Ortho-Bionomy mit Sada H. Bist und Dagmar Müsch. \nAnmerkung: Nur mit Anmeldung. \nWeitere Informationen unter www.freieheilpraktiker.com. Bitte direkt anmelden unter info@freieheilpraktik.com. \nSorry\, this entry is only available in Deutsch at the moment. \n\nDies ist keine Veranstaltung der DGOB – aber wir wollen gerne auf Veranstaltungen aufmerksam machen\, die wir für wichtig halten. Wir übernehmen keine Garantie für die Richtigkeit der Angaben\, bitte schauen Sie bei Fremdveranstaltungen immer auch bei den Anbietern selbst nach\, da wir eventuelle Termin- und Ortsverlegungen oder Absagen nicht in jedem Fall nachhalten können. Bitte achten Sie auch darauf\, dass der Großteil der Seminare kostenpflichtig ist. Vielen Dank!
URL:https://dgob.info/en/veranstaltung/facharbeitskreis-ortho-bionomy-6/2024-11-28/
LOCATION:Freie Heilpraktiker (Düsseldorf)\, Benrather Schlossallee 49-53\, Düsseldorf\, Nordrhein-Westfalen\, 40597
CATEGORIES:Arbeitskreis
GEO:51.1624344;6.8612281
X-APPLE-STRUCTURED-LOCATION;VALUE=URI;X-ADDRESS=Freie Heilpraktiker (Düsseldorf) Benrather Schlossallee 49-53 Düsseldorf Nordrhein-Westfalen 40597;X-APPLE-RADIUS=500;X-TITLE=Benrather Schlossallee 49-53:geo:6.8612281,51.1624344
END:VEVENT
END:VCALENDAR