BEGIN:VCALENDAR
VERSION:2.0
PRODID:-//DGOB - ECPv6.15.20//NONSGML v1.0//EN
CALSCALE:GREGORIAN
METHOD:PUBLISH
X-ORIGINAL-URL:https://dgob.info/en
X-WR-CALDESC:Events for DGOB
REFRESH-INTERVAL;VALUE=DURATION:PT1H
X-Robots-Tag:noindex
X-PUBLISHED-TTL:PT1H
BEGIN:VTIMEZONE
TZID:Europe/Berlin
BEGIN:DAYLIGHT
TZOFFSETFROM:+0100
TZOFFSETTO:+0200
TZNAME:CEST
DTSTART:20230326T010000
END:DAYLIGHT
BEGIN:STANDARD
TZOFFSETFROM:+0200
TZOFFSETTO:+0100
TZNAME:CET
DTSTART:20231029T010000
END:STANDARD
BEGIN:DAYLIGHT
TZOFFSETFROM:+0100
TZOFFSETTO:+0200
TZNAME:CEST
DTSTART:20240331T010000
END:DAYLIGHT
BEGIN:STANDARD
TZOFFSETFROM:+0200
TZOFFSETTO:+0100
TZNAME:CET
DTSTART:20241027T010000
END:STANDARD
BEGIN:DAYLIGHT
TZOFFSETFROM:+0100
TZOFFSETTO:+0200
TZNAME:CEST
DTSTART:20250330T010000
END:DAYLIGHT
BEGIN:STANDARD
TZOFFSETFROM:+0200
TZOFFSETTO:+0100
TZNAME:CET
DTSTART:20251026T010000
END:STANDARD
END:VTIMEZONE
BEGIN:VEVENT
DTSTART;TZID=Europe/Berlin:20240705T090000
DTEND;TZID=Europe/Berlin:20240706T173000
DTSTAMP:20260423T194518
CREATED:20231210T201300Z
LAST-MODIFIED:20231210T201300Z
UID:10000867-1720170000-1720287000@dgob.info
SUMMARY:Seminar 5
DESCRIPTION:Ausbildungskurs mit Christa Hegele-Mack. \nThema: Dynamische Techniken. \nSorry\, this entry is only available in Deutsch at the moment. \nBitte direkt anmelden unter info@ortho-bionomy.de  Weitere Informationen unter www.ortho-bionomy.de. \n\nSorry\, this entry is only available in Deutsch at the moment. \n\nDies ist keine Veranstaltung der DGOB – aber wir wollen gerne auf Veranstaltungen aufmerksam machen\, die wir für wichtig halten. Wir übernehmen keine Garantie für die Richtigkeit der Angaben\, bitte schauen Sie bei Fremdveranstaltungen immer auch bei den Anbietern selbst nach\, da wir eventuelle Termin- und Ortsverlegungen oder Absagen nicht in jedem Fall nachhalten können. Bitte achten Sie auch darauf\, dass der Großteil der Seminare kostenpflichtig ist. Vielen Dank!
URL:https://dgob.info/en/veranstaltung/seminar-5-2/
LOCATION:rehafit Fitnessstudio\, Lußweg 4\, Günzburg\, Bayern\, 89312
CATEGORIES:Ausbildung
GEO:48.4784749;10.2573777
X-APPLE-STRUCTURED-LOCATION;VALUE=URI;X-ADDRESS=rehafit Fitnessstudio Lußweg 4 Günzburg Bayern 89312;X-APPLE-RADIUS=500;X-TITLE=Lußweg 4:geo:10.2573777,48.4784749
END:VEVENT
BEGIN:VEVENT
DTSTART;TZID=Europe/Berlin:20240712T090000
DTEND;TZID=Europe/Berlin:20240713T173000
DTSTAMP:20260423T194518
CREATED:20231210T202106Z
LAST-MODIFIED:20231210T202106Z
UID:10000868-1720774800-1720891800@dgob.info
SUMMARY:Regret-Reflex - In Resonanz gehen
DESCRIPTION:Weiterbildungskurs mit Christa Hegele-Mack und Dipl. Psych Susanne Hörger. \nThema: Wir erarbeiten den Regret-Reflex. Wir gehen in Resonanz und erarbeiten verschiedene Möglichkeiten der Übertragung und Gegenübertragung. Wie realisiere ich die Übertragungsphänomene in mir und wie kann ich in der Therapie damit umgehen. \nSorry\, this entry is only available in Deutsch at the moment. \nBitte direkt anmelden unter info@ortho-bionomy.de  Weitere Informationen unter www.ortho-bionomy.de. \n\nSorry\, this entry is only available in Deutsch at the moment. \n\nDies ist keine Veranstaltung der DGOB – aber wir wollen gerne auf Veranstaltungen aufmerksam machen\, die wir für wichtig halten. Wir übernehmen keine Garantie für die Richtigkeit der Angaben\, bitte schauen Sie bei Fremdveranstaltungen immer auch bei den Anbietern selbst nach\, da wir eventuelle Termin- und Ortsverlegungen oder Absagen nicht in jedem Fall nachhalten können. Bitte achten Sie auch darauf\, dass der Großteil der Seminare kostenpflichtig ist. Vielen Dank!
URL:https://dgob.info/en/veranstaltung/regret-reflex-in-resonanz-gehen/
LOCATION:rehafit Fitnessstudio\, Lußweg 4\, Günzburg\, Bayern\, 89312
CATEGORIES:Fortbildung,Weiterbildung
GEO:48.4784749;10.2573777
X-APPLE-STRUCTURED-LOCATION;VALUE=URI;X-ADDRESS=rehafit Fitnessstudio Lußweg 4 Günzburg Bayern 89312;X-APPLE-RADIUS=500;X-TITLE=Lußweg 4:geo:10.2573777,48.4784749
END:VEVENT
BEGIN:VEVENT
DTSTART;TZID=Europe/Berlin:20240719T090000
DTEND;TZID=Europe/Berlin:20240721T173000
DTSTAMP:20260423T194518
CREATED:20231210T214131Z
LAST-MODIFIED:20231210T214131Z
UID:10000873-1721379600-1721583000@dgob.info
SUMMARY:Basic II
DESCRIPTION:Ausbildungskurs mit Susanne Bauer. \nThema: In diesem Seminar geht es hauptsächlich um die Behandlung der unteren Extremitäten und des Beckens. Wir werden beim gegenseitigen Behandeln unsere Sensibilität für Rhythmus\, Timing und Druckstärke üben. \nBitte direkt anmelden unter OB-Schule@gmx.de. \nSorry\, this entry is only available in Deutsch at the moment. \n\nDies ist keine Veranstaltung der DGOB – aber wir wollen gerne auf Veranstaltungen aufmerksam machen\, die wir für wichtig halten. Wir übernehmen keine Garantie für die Richtigkeit der Angaben\, bitte schauen Sie bei Fremdveranstaltungen immer auch bei den Anbietern selbst nach\, da wir eventuelle Termin- und Ortsverlegungen oder Absagen nicht in jedem Fall nachhalten können. Bitte achten Sie auch darauf\, dass der Großteil der Seminare kostenpflichtig ist. Vielen Dank!
URL:https://dgob.info/en/veranstaltung/basic-ii/
LOCATION:Heilpraxis Susanne Bauer\, Gänseriedstr. 6\, Nürnberg\, Bayern\, 90475\, Deutschland
CATEGORIES:Ausbildung
END:VEVENT
BEGIN:VEVENT
DTSTART;TZID=Europe/Berlin:20240720T090000
DTEND;TZID=Europe/Berlin:20240721T173000
DTSTAMP:20260423T194518
CREATED:20240606T223454Z
LAST-MODIFIED:20240606T223454Z
UID:10000889-1721466000-1721583000@dgob.info
SUMMARY:Seminar 2
DESCRIPTION:Ausbildungskurs mit Kerstin Niklas. \nThema: Strukturelle Techniken: Obere Extremität \nSorry\, this entry is only available in Deutsch at the moment. \nBitte direkt anmelden unter info@ortho-bionomy.de  Weitere Informationen unter www.ortho-bionomy.de. \n\nSorry\, this entry is only available in Deutsch at the moment. \n\nDies ist keine Veranstaltung der DGOB – aber wir wollen gerne auf Veranstaltungen aufmerksam machen\, die wir für wichtig halten. Wir übernehmen keine Garantie für die Richtigkeit der Angaben\, bitte schauen Sie bei Fremdveranstaltungen immer auch bei den Anbietern selbst nach\, da wir eventuelle Termin- und Ortsverlegungen oder Absagen nicht in jedem Fall nachhalten können. Bitte achten Sie auch darauf\, dass der Großteil der Seminare kostenpflichtig ist. Vielen Dank!
URL:https://dgob.info/en/veranstaltung/seminar-2-9/
LOCATION:Hebammenpraxis “Hebammen und mehr”\, Gelbinger Gasse 11\, Schwäbisch Hall\, Baden-Württemberg\, 74523\, Deutschland
CATEGORIES:Ausbildung
GEO:49.11444;9.73607
X-APPLE-STRUCTURED-LOCATION;VALUE=URI;X-ADDRESS=Hebammenpraxis “Hebammen und mehr” Gelbinger Gasse 11 Schwäbisch Hall Baden-Württemberg 74523 Deutschland;X-APPLE-RADIUS=500;X-TITLE=Gelbinger Gasse 11:geo:9.73607,49.11444
END:VEVENT
END:VCALENDAR