BEGIN:VCALENDAR
VERSION:2.0
PRODID:-//DGOB - ECPv6.15.20//NONSGML v1.0//EN
CALSCALE:GREGORIAN
METHOD:PUBLISH
X-WR-CALNAME:DGOB
X-ORIGINAL-URL:https://dgob.info/en
X-WR-CALDESC:Events for DGOB
REFRESH-INTERVAL;VALUE=DURATION:PT1H
X-Robots-Tag:noindex
X-PUBLISHED-TTL:PT1H
BEGIN:VTIMEZONE
TZID:Europe/Berlin
BEGIN:DAYLIGHT
TZOFFSETFROM:+0100
TZOFFSETTO:+0200
TZNAME:CEST
DTSTART:20230326T010000
END:DAYLIGHT
BEGIN:STANDARD
TZOFFSETFROM:+0200
TZOFFSETTO:+0100
TZNAME:CET
DTSTART:20231029T010000
END:STANDARD
BEGIN:DAYLIGHT
TZOFFSETFROM:+0100
TZOFFSETTO:+0200
TZNAME:CEST
DTSTART:20240331T010000
END:DAYLIGHT
BEGIN:STANDARD
TZOFFSETFROM:+0200
TZOFFSETTO:+0100
TZNAME:CET
DTSTART:20241027T010000
END:STANDARD
BEGIN:DAYLIGHT
TZOFFSETFROM:+0100
TZOFFSETTO:+0200
TZNAME:CEST
DTSTART:20250330T010000
END:DAYLIGHT
BEGIN:STANDARD
TZOFFSETFROM:+0200
TZOFFSETTO:+0100
TZNAME:CET
DTSTART:20251026T010000
END:STANDARD
END:VTIMEZONE
BEGIN:VEVENT
DTSTART;TZID=Europe/Berlin:20240406T090000
DTEND;TZID=Europe/Berlin:20240407T170000
DTSTAMP:20260424T005010
CREATED:20231129T154620Z
LAST-MODIFIED:20231129T154620Z
UID:10000845-1712394000-1712509200@dgob.info
SUMMARY:Cranio Seminar
DESCRIPTION:Weiterbildungskurs mit Sada H. Bist und Kurt Mölich. \nThema: Behandlungstechniken des CranioSacralen Systems nach Ortho-Bionomischen Prinzipien \nAnmerkung: Nur mit Anmeldung. \nWeitere Informationen unter www.praxis-bist.com. Bitte direkt anmelden unter praxisbist@mac.com. \nSorry\, this entry is only available in Deutsch at the moment. \n\nDies ist keine Veranstaltung der DGOB – aber wir wollen gerne auf Veranstaltungen aufmerksam machen\, die wir für wichtig halten. Wir übernehmen keine Garantie für die Richtigkeit der Angaben\, bitte schauen Sie bei Fremdveranstaltungen immer auch bei den Anbietern selbst nach\, da wir eventuelle Termin- und Ortsverlegungen oder Absagen nicht in jedem Fall nachhalten können. Bitte achten Sie auch darauf\, dass der Großteil der Seminare kostenpflichtig ist. Vielen Dank!
URL:https://dgob.info/en/veranstaltung/cranio-seminar/
LOCATION:Praxis Sada Hilde Bist\, Gruppelostraße 11\, Düsseldorf\, Nord-Rhein-Westfalen\, 40210
CATEGORIES:Fortbildung,Weiterbildung
GEO:51.2207468;6.7862249
X-APPLE-STRUCTURED-LOCATION;VALUE=URI;X-ADDRESS=Praxis Sada Hilde Bist Gruppelostraße 11 Düsseldorf Nord-Rhein-Westfalen 40210;X-APPLE-RADIUS=500;X-TITLE=Gruppelostraße 11:geo:6.7862249,51.2207468
END:VEVENT
BEGIN:VEVENT
DTSTART;TZID=Europe/Berlin:20240410T150000
DTEND;TZID=Europe/Berlin:20240410T180000
DTSTAMP:20260424T005010
CREATED:20231129T154536Z
LAST-MODIFIED:20231129T154536Z
UID:10000846-1712761200-1712772000@dgob.info
SUMMARY:Acon-Arbeitskreis Köln
DESCRIPTION:Workshop mit Sada H. Bist. \nThema: Behandlung von Schwangeren \nAnmerkung: Nur mit Anmeldung \nWeitere Informationen unter www.heilpraktiker-jentjens.de.  Bitte direkt anmelden unter praxis@heilpraktiker-jentjens.de. \nSorry\, this entry is only available in Deutsch at the moment. \n\nDies ist keine Veranstaltung der DGOB – aber wir wollen gerne auf Veranstaltungen aufmerksam machen\, die wir für wichtig halten. Wir übernehmen keine Garantie für die Richtigkeit der Angaben\, bitte schauen Sie bei Fremdveranstaltungen immer auch bei den Anbietern selbst nach\, da wir eventuelle Termin- und Ortsverlegungen oder Absagen nicht in jedem Fall nachhalten können. Bitte achten Sie auch darauf\, dass der Großteil der Seminare kostenpflichtig ist. Vielen Dank!
URL:https://dgob.info/en/veranstaltung/acon-arbeitskreis-koeln/
LOCATION:Acon Arbeitskreis Köln\, Deutschland
CATEGORIES:Workshop
END:VEVENT
BEGIN:VEVENT
DTSTART;TZID=Europe/Berlin:20240412T090000
DTEND;TZID=Europe/Berlin:20240413T173000
DTSTAMP:20260424T005010
CREATED:20231210T193510Z
LAST-MODIFIED:20231210T193510Z
UID:10000861-1712912400-1713029400@dgob.info
SUMMARY:Seminar 2
DESCRIPTION:Ausbildungskurs mit Christa Hegele-Mack. \nThema: Strukturelle Techniken. \nSorry\, this entry is only available in Deutsch at the moment. \nBitte direkt anmelden unter info@ortho-bionomy.de  Weitere Informationen unter www.ortho-bionomy.de. \n\nSorry\, this entry is only available in Deutsch at the moment. \n\nDies ist keine Veranstaltung der DGOB – aber wir wollen gerne auf Veranstaltungen aufmerksam machen\, die wir für wichtig halten. Wir übernehmen keine Garantie für die Richtigkeit der Angaben\, bitte schauen Sie bei Fremdveranstaltungen immer auch bei den Anbietern selbst nach\, da wir eventuelle Termin- und Ortsverlegungen oder Absagen nicht in jedem Fall nachhalten können. Bitte achten Sie auch darauf\, dass der Großteil der Seminare kostenpflichtig ist. Vielen Dank!
URL:https://dgob.info/en/veranstaltung/seminar-2-6/
LOCATION:rehafit Fitnessstudio\, Lußweg 4\, Günzburg\, Bayern\, 89312
CATEGORIES:Ausbildung
GEO:48.4784749;10.2573777
X-APPLE-STRUCTURED-LOCATION;VALUE=URI;X-ADDRESS=rehafit Fitnessstudio Lußweg 4 Günzburg Bayern 89312;X-APPLE-RADIUS=500;X-TITLE=Lußweg 4:geo:10.2573777,48.4784749
END:VEVENT
BEGIN:VEVENT
DTSTART;TZID=Europe/Berlin:20240413T090000
DTEND;TZID=Europe/Berlin:20240414T170000
DTSTAMP:20260424T005010
CREATED:20231018T092142Z
LAST-MODIFIED:20231018T092142Z
UID:10000830-1712998800-1713114000@dgob.info
SUMMARY:Kurs 5\, Dynamische Techniken Phase 5
DESCRIPTION:Ausbildungskurs mit Dr. med. Hans-Ulrich Wegner. \nThema: Einführung Phase 5\, Bewegungsmuster\, Art des Kontaktes\, erste Reflexe. \nBitte direkt anmelden unter sabine.welzig@web.de. \nSorry\, this entry is only available in Deutsch at the moment. \n\nDies ist keine Veranstaltung der DGOB – aber wir wollen gerne auf Veranstaltungen aufmerksam machen\, die wir für wichtig halten. Wir übernehmen keine Garantie für die Richtigkeit der Angaben\, bitte schauen Sie bei Fremdveranstaltungen immer auch bei den Anbietern selbst nach\, da wir eventuelle Termin- und Ortsverlegungen oder Absagen nicht in jedem Fall nachhalten können. Bitte achten Sie auch darauf\, dass der Großteil der Seminare kostenpflichtig ist. Vielen Dank!
URL:https://dgob.info/en/veranstaltung/kurs-5-dynamische-techniken-phase-5-7/
LOCATION:Praxis Sperbergasse\, Sperbergasse 4\, Burgdorf\, Niedersachsen\, 31303\, Deutschland
CATEGORIES:Ausbildung
GEO:52.4560995;9.9977218
X-APPLE-STRUCTURED-LOCATION;VALUE=URI;X-ADDRESS=Praxis Sperbergasse Sperbergasse 4 Burgdorf Niedersachsen 31303 Deutschland;X-APPLE-RADIUS=500;X-TITLE=Sperbergasse 4:geo:9.9977218,52.4560995
END:VEVENT
BEGIN:VEVENT
DTSTART;TZID=Europe/Berlin:20240413T090000
DTEND;TZID=Europe/Berlin:20240414T170000
DTSTAMP:20260424T005010
CREATED:20240221T151122Z
LAST-MODIFIED:20240221T151122Z
UID:10000879-1712998800-1713114000@dgob.info
SUMMARY:Kurs 2 - Phase 4
DESCRIPTION:Ausbildungskurs mit Dagmar Müsch. \nThema: Strukturelle Techniken\, Übergang BWS/ LWS\, Techniken an LWS\, Becken\, Kreuzbein\, Iliopsoas\, Narben. \nVoraussetzung: keine \nBitte direkt anmelden unter info@freieheilpraktiker.com. Weitere Informationen unter www.freieheilpraktiker.com. \nSorry\, this entry is only available in Deutsch at the moment. \n\nDies ist keine Veranstaltung der DGOB – aber wir wollen gerne auf Veranstaltungen aufmerksam machen\, die wir für wichtig halten. Wir übernehmen keine Garantie für die Richtigkeit der Angaben\, bitte schauen Sie bei Fremdveranstaltungen immer auch bei den Anbietern selbst nach\, da wir eventuelle Termin- und Ortsverlegungen oder Absagen nicht in jedem Fall nachhalten können. Bitte achten Sie auch darauf\, dass der Großteil der Seminare kostenpflichtig ist. Vielen Dank!
URL:https://dgob.info/en/veranstaltung/kurs-2-phase-4/
LOCATION:Freie Heilpraktiker (Düsseldorf)\, Benrather Schlossallee 49-53\, Düsseldorf\, Nordrhein-Westfalen\, 40597
CATEGORIES:Ausbildung
GEO:51.1624344;6.8612281
X-APPLE-STRUCTURED-LOCATION;VALUE=URI;X-ADDRESS=Freie Heilpraktiker (Düsseldorf) Benrather Schlossallee 49-53 Düsseldorf Nordrhein-Westfalen 40597;X-APPLE-RADIUS=500;X-TITLE=Benrather Schlossallee 49-53:geo:6.8612281,51.1624344
END:VEVENT
BEGIN:VEVENT
DTSTART;TZID=Europe/Berlin:20240426T090000
DTEND;TZID=Europe/Berlin:20240428T173000
DTSTAMP:20260424T005011
CREATED:20231210T211618Z
LAST-MODIFIED:20231210T214209Z
UID:10000872-1714122000-1714325400@dgob.info
SUMMARY:Cranium advanced
DESCRIPTION:Weiterbildungskurs mit Andreas Weissenbacher aus Österreich. \nThema: Wir behandeln Punkte am Cranium\, die sich auf tiefere Strukturen beziehen. Spüren die cranialen Verbindungen\, den Liquorfluss\, die Hirnhäute. Wir behandeln sanft und einfühlsam\, mit dem zarten Druck eines Schmetterlingsflügels. Unsere Achtsamkeit dabei ist ein aufmerksames Beobachten\, ein Gewahrsein\, das völlig frei von Motiven oder Wünschen ist\, ein Beobachten ohne jegliche Interpretation. \nBitte direkt anmelden unter OB-Schule@gmx.de. \nSorry\, this entry is only available in Deutsch at the moment. \n\nDies ist keine Veranstaltung der DGOB – aber wir wollen gerne auf Veranstaltungen aufmerksam machen\, die wir für wichtig halten. Wir übernehmen keine Garantie für die Richtigkeit der Angaben\, bitte schauen Sie bei Fremdveranstaltungen immer auch bei den Anbietern selbst nach\, da wir eventuelle Termin- und Ortsverlegungen oder Absagen nicht in jedem Fall nachhalten können. Bitte achten Sie auch darauf\, dass der Großteil der Seminare kostenpflichtig ist. Vielen Dank!
URL:https://dgob.info/en/veranstaltung/cranium-advanced/
LOCATION:Heilpraxis Susanne Bauer\, Gänseriedstr. 6\, Nürnberg\, Bayern\, 90475\, Deutschland
CATEGORIES:Fortbildung,Weiterbildung
END:VEVENT
BEGIN:VEVENT
DTSTART;TZID=Europe/Berlin:20240427T090000
DTEND;TZID=Europe/Berlin:20240428T170000
DTSTAMP:20260424T005011
CREATED:20231129T154514Z
LAST-MODIFIED:20231129T154514Z
UID:10000847-1714208400-1714323600@dgob.info
SUMMARY:Ortho-Bionomy® Seminar
DESCRIPTION:Weiterbildungskurs mit Sada H. Bist. \nThema: Ortho-Bionomy® – Behandlung von Schwangeren\, einfach und wirkungsvoll. \nAnmerkung: Nur mit Anmeldung. \nWeitere Informationen unter www.praxis-bist.com. Bitte direkt anmelden unter praxisbist@mac.com. \nSorry\, this entry is only available in Deutsch at the moment. \n\nDies ist keine Veranstaltung der DGOB – aber wir wollen gerne auf Veranstaltungen aufmerksam machen\, die wir für wichtig halten. Wir übernehmen keine Garantie für die Richtigkeit der Angaben\, bitte schauen Sie bei Fremdveranstaltungen immer auch bei den Anbietern selbst nach\, da wir eventuelle Termin- und Ortsverlegungen oder Absagen nicht in jedem Fall nachhalten können. Bitte achten Sie auch darauf\, dass der Großteil der Seminare kostenpflichtig ist. Vielen Dank!
URL:https://dgob.info/en/veranstaltung/ortho-bionomy-seminar/
LOCATION:Praxis Sada Hilde Bist\, Gruppelostraße 11\, Düsseldorf\, Nord-Rhein-Westfalen\, 40210
CATEGORIES:Fortbildung,Weiterbildung
GEO:51.2207468;6.7862249
X-APPLE-STRUCTURED-LOCATION;VALUE=URI;X-ADDRESS=Praxis Sada Hilde Bist Gruppelostraße 11 Düsseldorf Nord-Rhein-Westfalen 40210;X-APPLE-RADIUS=500;X-TITLE=Gruppelostraße 11:geo:6.7862249,51.2207468
END:VEVENT
BEGIN:VEVENT
DTSTART;TZID=Europe/Berlin:20240427T090000
DTEND;TZID=Europe/Berlin:20240428T170000
DTSTAMP:20260424T005011
CREATED:20240221T153405Z
LAST-MODIFIED:20240221T153405Z
UID:10000877-1714208400-1714323600@dgob.info
SUMMARY:Ortho-Bionomische® Behandlung von Schwangeren
DESCRIPTION:Weiterbildungskurs mit Dagmar Müsch. \nThema: In diesem Seminar werden einfache\, nebenwirkungsarme Behandlungskonzepte\, sowie Nachbehandlungsmöglichkeiten und Angebote der Selbstbehandlung für Schwangere vorgestellt\, die direkt in der Praxis anzuwenden und leicht zu erlernen sind. Das Seminar eignet sich für alle\, die bereits die Ortho-Bionomy Kurse 1-3 besucht haben\, sowie an Hebammen\, Osteopathen und Manual- & Physiotherapeuten etc. Die Anatomie wird vorausgesetzt. \nBitte direkt anmelden unter sabine.welzig@web.de. \nSorry\, this entry is only available in Deutsch at the moment. \n\nDies ist keine Veranstaltung der DGOB – aber wir wollen gerne auf Veranstaltungen aufmerksam machen\, die wir für wichtig halten. Wir übernehmen keine Garantie für die Richtigkeit der Angaben\, bitte schauen Sie bei Fremdveranstaltungen immer auch bei den Anbietern selbst nach\, da wir eventuelle Termin- und Ortsverlegungen oder Absagen nicht in jedem Fall nachhalten können. Bitte achten Sie auch darauf\, dass der Großteil der Seminare kostenpflichtig ist. Vielen Dank!
URL:https://dgob.info/en/veranstaltung/ortho-bionomische-behandlung-von-schwangeren/
LOCATION:Praxis Sperbergasse\, Sperbergasse 4\, Burgdorf\, Niedersachsen\, 31303\, Deutschland
CATEGORIES:Fortbildung,Weiterbildung
GEO:52.4560995;9.9977218
X-APPLE-STRUCTURED-LOCATION;VALUE=URI;X-ADDRESS=Praxis Sperbergasse Sperbergasse 4 Burgdorf Niedersachsen 31303 Deutschland;X-APPLE-RADIUS=500;X-TITLE=Sperbergasse 4:geo:9.9977218,52.4560995
END:VEVENT
END:VCALENDAR