BEGIN:VCALENDAR
VERSION:2.0
PRODID:-//DGOB - ECPv6.15.20//NONSGML v1.0//EN
CALSCALE:GREGORIAN
METHOD:PUBLISH
X-ORIGINAL-URL:https://dgob.info/en
X-WR-CALDESC:Events for DGOB
REFRESH-INTERVAL;VALUE=DURATION:PT1H
X-Robots-Tag:noindex
X-PUBLISHED-TTL:PT1H
BEGIN:VTIMEZONE
TZID:Europe/Berlin
BEGIN:DAYLIGHT
TZOFFSETFROM:+0100
TZOFFSETTO:+0200
TZNAME:CEST
DTSTART:20230326T010000
END:DAYLIGHT
BEGIN:STANDARD
TZOFFSETFROM:+0200
TZOFFSETTO:+0100
TZNAME:CET
DTSTART:20231029T010000
END:STANDARD
BEGIN:DAYLIGHT
TZOFFSETFROM:+0100
TZOFFSETTO:+0200
TZNAME:CEST
DTSTART:20240331T010000
END:DAYLIGHT
BEGIN:STANDARD
TZOFFSETFROM:+0200
TZOFFSETTO:+0100
TZNAME:CET
DTSTART:20241027T010000
END:STANDARD
BEGIN:DAYLIGHT
TZOFFSETFROM:+0100
TZOFFSETTO:+0200
TZNAME:CEST
DTSTART:20250330T010000
END:DAYLIGHT
BEGIN:STANDARD
TZOFFSETFROM:+0200
TZOFFSETTO:+0100
TZNAME:CET
DTSTART:20251026T010000
END:STANDARD
END:VTIMEZONE
BEGIN:VEVENT
DTSTART;TZID=Europe/Berlin:20240202T090000
DTEND;TZID=Europe/Berlin:20240203T173000
DTSTAMP:20260424T041536
CREATED:20231206T135724Z
LAST-MODIFIED:20231206T135724Z
UID:10000852-1706864400-1706981400@dgob.info
SUMMARY:Seminar 1
DESCRIPTION:Ausbildungskurs mit Christa Hegele-Mack. \nThema: Strukturelle Techniken. \nSorry\, this entry is only available in Deutsch at the moment. \nBitte direkt anmelden unter info@ortho-bionomy.de  Weitere Informationen unter www.ortho-bionomy.de. \n\nSorry\, this entry is only available in Deutsch at the moment. \n\nDies ist keine Veranstaltung der DGOB – aber wir wollen gerne auf Veranstaltungen aufmerksam machen\, die wir für wichtig halten. Wir übernehmen keine Garantie für die Richtigkeit der Angaben\, bitte schauen Sie bei Fremdveranstaltungen immer auch bei den Anbietern selbst nach\, da wir eventuelle Termin- und Ortsverlegungen oder Absagen nicht in jedem Fall nachhalten können. Bitte achten Sie auch darauf\, dass der Großteil der Seminare kostenpflichtig ist. Vielen Dank!
URL:https://dgob.info/en/veranstaltung/seminar-1-10/
LOCATION:rehafit Fitnessstudio\, Lußweg 4\, Günzburg\, Bayern\, 89312
CATEGORIES:Ausbildung
GEO:48.4784749;10.2573777
X-APPLE-STRUCTURED-LOCATION;VALUE=URI;X-ADDRESS=rehafit Fitnessstudio Lußweg 4 Günzburg Bayern 89312;X-APPLE-RADIUS=500;X-TITLE=Lußweg 4:geo:10.2573777,48.4784749
END:VEVENT
BEGIN:VEVENT
DTSTART;TZID=Europe/Berlin:20240202T160000
DTEND;TZID=Europe/Berlin:20240204T160000
DTSTAMP:20260424T041536
CREATED:20231210T204339Z
LAST-MODIFIED:20231210T204448Z
UID:10000870-1706889600-1707062400@dgob.info
SUMMARY:Ortho-Bionomy Kurs 3 Extremitäten Phase 4
DESCRIPTION:Ausbildungskurs mit Eduard Pfeifle. \nThema: Alles zum Thema Extremitäten. Wir beschäftigen uns in diesem Grundkurs mit den häufigsten Problematiken der Hände und Füße\, z.B. Karpaltunnelprobleme\, Rhizarthrose\, Senk-Spreizfuss\, häufige Verletzungen etc. Ist Haltung eher dynamisch oder statisch ? Viele interessante Fragen rund um unsere Hände\, Füße und unserer Haltung. \nWir lernen grundlegende und einfache Techniken mit denen wir bereits den meisten Herausforderungen im Praxisalltag effektiv begegnen können. Einfach zu erlernen\, sofort anzuwenden. \nBitte direkt anmelden unter info@pfeifle-ergotherapie.de. \nSorry\, this entry is only available in Deutsch at the moment. \n\nDies ist keine Veranstaltung der DGOB – aber wir wollen gerne auf Veranstaltungen aufmerksam machen\, die wir für wichtig halten. Wir übernehmen keine Garantie für die Richtigkeit der Angaben\, bitte schauen Sie bei Fremdveranstaltungen immer auch bei den Anbietern selbst nach\, da wir eventuelle Termin- und Ortsverlegungen oder Absagen nicht in jedem Fall nachhalten können. Bitte achten Sie auch darauf\, dass der Großteil der Seminare kostenpflichtig ist. Vielen Dank!
URL:https://dgob.info/en/veranstaltung/ortho-bionomy-kurs-3-extremitaeten-phase-4/
LOCATION:Detmold\, Am Klüter Bach 11\, Detmold\, 32758
CATEGORIES:Ausbildung
END:VEVENT
BEGIN:VEVENT
DTSTART;TZID=Europe/Berlin:20240203T110000
DTEND;TZID=Europe/Berlin:20240203T140000
DTSTAMP:20260424T041536
CREATED:20231129T155111Z
LAST-MODIFIED:20231129T155111Z
UID:10000839-1706958000-1706968800@dgob.info
SUMMARY:Hands On
DESCRIPTION:Infoworkshop mit Sada H. Bist. \nThema: Infoworkshop der Ortho-Bionomy® . \nAnmerkung: Voraussetzungen zur Teilnahme: keine. \nWeitere Informationen unter www.freieheilpraktiker.com. Bitte direkt anmelden unter info@freieheilpraktiker.com. \nSorry\, this entry is only available in Deutsch at the moment. \n\nDies ist keine Veranstaltung der DGOB – aber wir wollen gerne auf Veranstaltungen aufmerksam machen\, die wir für wichtig halten. Wir übernehmen keine Garantie für die Richtigkeit der Angaben\, bitte schauen Sie bei Fremdveranstaltungen immer auch bei den Anbietern selbst nach\, da wir eventuelle Termin- und Ortsverlegungen oder Absagen nicht in jedem Fall nachhalten können. Bitte achten Sie auch darauf\, dass der Großteil der Seminare kostenpflichtig ist. Vielen Dank!
URL:https://dgob.info/en/veranstaltung/hands-on/
LOCATION:Freie Heilpraktiker (Düsseldorf)\, Benrather Schlossallee 49-53\, Düsseldorf\, Nordrhein-Westfalen\, 40597
CATEGORIES:Vortrag,Workshop
GEO:51.1624344;6.8612281
X-APPLE-STRUCTURED-LOCATION;VALUE=URI;X-ADDRESS=Freie Heilpraktiker (Düsseldorf) Benrather Schlossallee 49-53 Düsseldorf Nordrhein-Westfalen 40597;X-APPLE-RADIUS=500;X-TITLE=Benrather Schlossallee 49-53:geo:6.8612281,51.1624344
END:VEVENT
BEGIN:VEVENT
DTSTART;TZID=Europe/Berlin:20240217T090000
DTEND;TZID=Europe/Berlin:20240218T173000
DTSTAMP:20260424T041536
CREATED:20231206T140607Z
LAST-MODIFIED:20231206T140607Z
UID:10000853-1708160400-1708277400@dgob.info
SUMMARY:Seminar 1
DESCRIPTION:Ausbildungskurs mit Kurt Mölich. \nThema: Strukturelle Techniken. \nSorry\, this entry is only available in Deutsch at the moment. \nBitte direkt anmelden unter info@ortho-bionomy.de  Weitere Informationen unter www.ortho-bionomy.de. \n\nSorry\, this entry is only available in Deutsch at the moment. \n\nDies ist keine Veranstaltung der DGOB – aber wir wollen gerne auf Veranstaltungen aufmerksam machen\, die wir für wichtig halten. Wir übernehmen keine Garantie für die Richtigkeit der Angaben\, bitte schauen Sie bei Fremdveranstaltungen immer auch bei den Anbietern selbst nach\, da wir eventuelle Termin- und Ortsverlegungen oder Absagen nicht in jedem Fall nachhalten können. Bitte achten Sie auch darauf\, dass der Großteil der Seminare kostenpflichtig ist. Vielen Dank!
URL:https://dgob.info/en/veranstaltung/seminar-1-11/
LOCATION:Praxis Kurt Mölich\, Wilhelmstraße 34\, Lahnstein\, Rheinland-Pfalz\, 56112\, Deutschland
CATEGORIES:Ausbildung
GEO:50.3023419;7.608029
X-APPLE-STRUCTURED-LOCATION;VALUE=URI;X-ADDRESS=Praxis Kurt Mölich Wilhelmstraße 34 Lahnstein Rheinland-Pfalz 56112 Deutschland;X-APPLE-RADIUS=500;X-TITLE=Wilhelmstraße 34:geo:7.608029,50.3023419
END:VEVENT
BEGIN:VEVENT
DTSTART;TZID=Europe/Berlin:20240223T090000
DTEND;TZID=Europe/Berlin:20240224T173000
DTSTAMP:20260424T041536
CREATED:20231206T141011Z
LAST-MODIFIED:20231206T141011Z
UID:10000854-1708678800-1708795800@dgob.info
SUMMARY:Seminar 11
DESCRIPTION:Ausbildungskurs mit Christa Hegele-Mack. \nThema: energetische Techniken. \nSorry\, this entry is only available in Deutsch at the moment. \nBitte direkt anmelden unter info@ortho-bionomy.de  Weitere Informationen unter www.ortho-bionomy.de. \n\nSorry\, this entry is only available in Deutsch at the moment. \n\nDies ist keine Veranstaltung der DGOB – aber wir wollen gerne auf Veranstaltungen aufmerksam machen\, die wir für wichtig halten. Wir übernehmen keine Garantie für die Richtigkeit der Angaben\, bitte schauen Sie bei Fremdveranstaltungen immer auch bei den Anbietern selbst nach\, da wir eventuelle Termin- und Ortsverlegungen oder Absagen nicht in jedem Fall nachhalten können. Bitte achten Sie auch darauf\, dass der Großteil der Seminare kostenpflichtig ist. Vielen Dank!
URL:https://dgob.info/en/veranstaltung/seminar-11/
LOCATION:rehafit Fitnessstudio\, Lußweg 4\, Günzburg\, Bayern\, 89312
CATEGORIES:Ausbildung
GEO:48.4784749;10.2573777
X-APPLE-STRUCTURED-LOCATION;VALUE=URI;X-ADDRESS=rehafit Fitnessstudio Lußweg 4 Günzburg Bayern 89312;X-APPLE-RADIUS=500;X-TITLE=Lußweg 4:geo:10.2573777,48.4784749
END:VEVENT
BEGIN:VEVENT
DTSTART;TZID=Europe/Berlin:20240224T090000
DTEND;TZID=Europe/Berlin:20240225T170000
DTSTAMP:20260424T041536
CREATED:20240221T150631Z
LAST-MODIFIED:20240221T150631Z
UID:10000878-1708765200-1708880400@dgob.info
SUMMARY:Kurs 1 - Phase 4
DESCRIPTION:Ausbildungskurs mit Dagmar Müsch. \nThema: Strukturelle Techniken an HWS/BWS\, Schulter\, Thorax \nGrundkenntnisse: keine \nBitte direkt anmelden unter info@freieheilpraktiker.com. Weitere Informationen unter www.freieheilpraktiker.com. \nSorry\, this entry is only available in Deutsch at the moment. \n\nDies ist keine Veranstaltung der DGOB – aber wir wollen gerne auf Veranstaltungen aufmerksam machen\, die wir für wichtig halten. Wir übernehmen keine Garantie für die Richtigkeit der Angaben\, bitte schauen Sie bei Fremdveranstaltungen immer auch bei den Anbietern selbst nach\, da wir eventuelle Termin- und Ortsverlegungen oder Absagen nicht in jedem Fall nachhalten können. Bitte achten Sie auch darauf\, dass der Großteil der Seminare kostenpflichtig ist. Vielen Dank!
URL:https://dgob.info/en/veranstaltung/kurs-1-phase-4/
LOCATION:Freie Heilpraktiker (Düsseldorf)\, Benrather Schlossallee 49-53\, Düsseldorf\, Nordrhein-Westfalen\, 40597
CATEGORIES:Ausbildung
GEO:51.1624344;6.8612281
X-APPLE-STRUCTURED-LOCATION;VALUE=URI;X-ADDRESS=Freie Heilpraktiker (Düsseldorf) Benrather Schlossallee 49-53 Düsseldorf Nordrhein-Westfalen 40597;X-APPLE-RADIUS=500;X-TITLE=Benrather Schlossallee 49-53:geo:6.8612281,51.1624344
END:VEVENT
BEGIN:VEVENT
DTSTART;TZID=Europe/Berlin:20240224T090000
DTEND;TZID=Europe/Berlin:20240225T173000
DTSTAMP:20260424T041536
CREATED:20231206T141326Z
LAST-MODIFIED:20231206T141326Z
UID:10000855-1708765200-1708882200@dgob.info
SUMMARY:Seminar 2
DESCRIPTION:Ausbildungskurs mit Susanne Seidel. \nThema: Strukturelle Techniken. \nSorry\, this entry is only available in Deutsch at the moment. \nBitte direkt anmelden unter info@ortho-bionomy.de  Weitere Informationen unter www.ortho-bionomy.de. \n\nSorry\, this entry is only available in Deutsch at the moment. \n\nDies ist keine Veranstaltung der DGOB – aber wir wollen gerne auf Veranstaltungen aufmerksam machen\, die wir für wichtig halten. Wir übernehmen keine Garantie für die Richtigkeit der Angaben\, bitte schauen Sie bei Fremdveranstaltungen immer auch bei den Anbietern selbst nach\, da wir eventuelle Termin- und Ortsverlegungen oder Absagen nicht in jedem Fall nachhalten können. Bitte achten Sie auch darauf\, dass der Großteil der Seminare kostenpflichtig ist. Vielen Dank!
URL:https://dgob.info/en/veranstaltung/seminar-2-4/
LOCATION:rehamed-neuro\, Industriestraße 3\, Stuttgart\, Baden-Württemberg\, 70565\, Deutschland
CATEGORIES:Ausbildung
END:VEVENT
END:VCALENDAR