BEGIN:VCALENDAR
VERSION:2.0
PRODID:-//DGOB - ECPv6.15.20//NONSGML v1.0//EN
CALSCALE:GREGORIAN
METHOD:PUBLISH
X-ORIGINAL-URL:https://dgob.info/en
X-WR-CALDESC:Events for DGOB
REFRESH-INTERVAL;VALUE=DURATION:PT1H
X-Robots-Tag:noindex
X-PUBLISHED-TTL:PT1H
BEGIN:VTIMEZONE
TZID:Europe/Berlin
BEGIN:DAYLIGHT
TZOFFSETFROM:+0100
TZOFFSETTO:+0200
TZNAME:CEST
DTSTART:20220327T010000
END:DAYLIGHT
BEGIN:STANDARD
TZOFFSETFROM:+0200
TZOFFSETTO:+0100
TZNAME:CET
DTSTART:20221030T010000
END:STANDARD
BEGIN:DAYLIGHT
TZOFFSETFROM:+0100
TZOFFSETTO:+0200
TZNAME:CEST
DTSTART:20230326T010000
END:DAYLIGHT
BEGIN:STANDARD
TZOFFSETFROM:+0200
TZOFFSETTO:+0100
TZNAME:CET
DTSTART:20231029T010000
END:STANDARD
BEGIN:DAYLIGHT
TZOFFSETFROM:+0100
TZOFFSETTO:+0200
TZNAME:CEST
DTSTART:20240331T010000
END:DAYLIGHT
BEGIN:STANDARD
TZOFFSETFROM:+0200
TZOFFSETTO:+0100
TZNAME:CET
DTSTART:20241027T010000
END:STANDARD
END:VTIMEZONE
BEGIN:VEVENT
DTSTART;TZID=Europe/Berlin:20231104T090000
DTEND;TZID=Europe/Berlin:20231105T160000
DTSTAMP:20260424T092035
CREATED:20230725T195331Z
LAST-MODIFIED:20230725T195331Z
UID:10000816-1699088400-1699200000@dgob.info
SUMMARY:Craniomandibuläre Dysfunktion
DESCRIPTION:Weiterbildungskurs mit Kurt Mölich. \nThema: Veränderungen von Körperhaltung und Dysfunktionen im Bereich des Kauapparats können ätiologisch miteinander verknüpft sein. Das Kiefergelenk ist dadurch häufig\, auch stressbedingt\, belastet. Neben einer kurzen Einführung in die funktionelle Anatomie\, geht es in diesem Seminar um Behandlungstechniken für das Kiefergelenk\, Kaumuskulatur (intraoral) sowie Hals- und mimische Muskulatur\, HWS und Atlas. Funktionelle Zusammenhänge zwischen Kiefergelenk und Diaphragmen\, Becken\, Extremitäten\, Isometrie und Isotonie Unterkiefer\, neurolymphatische Reflexpunkte. \nVoraussetzungen: dynamische und craniale Kurse. \nBitte direkt anmelden unter sabine.welzig@web.de.
URL:https://dgob.info/en/veranstaltung/craniomandibulaere-dysfunktion/
LOCATION:Praxis Sperbergasse\, Sperbergasse 4\, Burgdorf\, Niedersachsen\, 31303\, Deutschland
CATEGORIES:Fortbildung,Weiterbildung
GEO:52.4560995;9.9977218
X-APPLE-STRUCTURED-LOCATION;VALUE=URI;X-ADDRESS=Praxis Sperbergasse Sperbergasse 4 Burgdorf Niedersachsen 31303 Deutschland;X-APPLE-RADIUS=500;X-TITLE=Sperbergasse 4:geo:9.9977218,52.4560995
END:VEVENT
BEGIN:VEVENT
DTSTART;TZID=Europe/Berlin:20231110T190000
DTEND;TZID=Europe/Berlin:20231112T130000
DTSTAMP:20260424T092035
CREATED:20230426T184142Z
LAST-MODIFIED:20230426T184142Z
UID:10000817-1699642800-1699794000@dgob.info
SUMMARY:Stefan Andrechts „gold nuggets“ aus der Ortho-Bionomy® Praxis
DESCRIPTION:Sonderseminar mit Stefan Andrecht. \nThema: Wir wollen uns in diesem Seminar ganz der PRAXIS widmen. Welche Prinzipien\, Techniken und Ebenen wenden wir häufig in der Praxis an?\n„Gold nuggets“ sind Schlüsselzonen der Behandlung\, häufige Prioritäten\, die sich in den letzten 20 Jahren bewährt und entwickelt haben. \n1. Die erweiterte Stress – Achse\n2. Best of Faszien in der Ortho-Bionomy® Praxis\n3. Stammhirn\, Hypothalamus und Cerebellum – Post Concussion\, Post Covid\, Post VAC\, Post Pande-mie/Stress\n4. CMD und die Bedeutung des trigemino-cervicalen Komplexes\n5. Gold nuggets der Schulter\n6. Schlüsselzonen zur Integration des ZNS und des ANS\n7. Schmerzmatrix – Schmerzgedächtnis\n8. Gold nuggets der Füße\, Knie\, Ellbogen und Hände\n9. Haut und Narben\n10. Die Macht der Hormone\n11. Propriozeption \nBitte direkt anmelden bei Andreas Fritz per E-Mail Andreas.Sabine.Fritz@gmail.com oder www.manuelle-tier-therapie.de.
URL:https://dgob.info/en/veranstaltung/stefan-andrechts-gold-nuggets-aus-der-ortho-bionomy-praxis/
LOCATION:Astor-Stift Pflegezentrum\, Winterstraße 8\, Walldorf\, Baden-Württemberg\, 69190\, Deutschland
CATEGORIES:Fortbildung,Weiterbildung
GEO:49.2967902;8.6387937
X-APPLE-STRUCTURED-LOCATION;VALUE=URI;X-ADDRESS=Astor-Stift Pflegezentrum Winterstraße 8 Walldorf Baden-Württemberg 69190 Deutschland;X-APPLE-RADIUS=500;X-TITLE=Winterstraße 8:geo:8.6387937,49.2967902
END:VEVENT
BEGIN:VEVENT
DTSTART;TZID=Europe/Berlin:20231123T180000
DTEND;TZID=Europe/Berlin:20231123T210000
DTSTAMP:20260424T092035
CREATED:20230103T211758Z
LAST-MODIFIED:20230103T212538Z
UID:10000800-1700762400-1700773200@dgob.info
SUMMARY:Facharbeitskreis Ortho-Bionomy®
DESCRIPTION:Arbeitskreis Ortho-Bionomy mit Sada H. Bist und Dagmar Müsch. \nThema: Ortho-Bionomy®. \nBitte direkt anmelden unter info@freieheilpraktiker.com. \nNur mit Anmeldung. \nSorry\, this entry is only available in Deutsch at the moment. \n\nDies ist keine Veranstaltung der DGOB – aber wir wollen gerne auf Veranstaltungen aufmerksam machen\, die wir für wichtig halten. Wir übernehmen keine Garantie für die Richtigkeit der Angaben\, bitte schauen Sie bei Fremdveranstaltungen immer auch bei den Anbietern selbst nach\, da wir eventuelle Termin- und Ortsverlegungen oder Absagen nicht in jedem Fall nachhalten können. Bitte achten Sie auch darauf\, dass der Großteil der Seminare kostenpflichtig ist. Vielen Dank!
URL:https://dgob.info/en/veranstaltung/facharbeitskreis-ortho-bionomy-5/
LOCATION:Freie Heilpraktiker (Düsseldorf)\, Benrather Schlossallee 49-53\, Düsseldorf\, Nordrhein-Westfalen\, 40597
CATEGORIES:Arbeitskreis
GEO:51.1624344;6.8612281
X-APPLE-STRUCTURED-LOCATION;VALUE=URI;X-ADDRESS=Freie Heilpraktiker (Düsseldorf) Benrather Schlossallee 49-53 Düsseldorf Nordrhein-Westfalen 40597;X-APPLE-RADIUS=500;X-TITLE=Benrather Schlossallee 49-53:geo:6.8612281,51.1624344
END:VEVENT
BEGIN:VEVENT
DTSTART;TZID=Europe/Berlin:20231125T090000
DTEND;TZID=Europe/Berlin:20231126T170000
DTSTAMP:20260424T092035
CREATED:20230103T172626Z
LAST-MODIFIED:20230103T172626Z
UID:10000790-1700902800-1701018000@dgob.info
SUMMARY:Kurs 14\, Kraniale Techniken
DESCRIPTION:Ausbildungskurs mit Dr. med. Hans-Ulrich Wegner. \nThema: Anatomie\, Theorie der Arbeit am Kranium\, Grundtechniken. \nBitte direkt anmelden unter info@freieheilpraktiker.com. \nSorry\, this entry is only available in Deutsch at the moment. \n\nDies ist keine Veranstaltung der DGOB – aber wir wollen gerne auf Veranstaltungen aufmerksam machen\, die wir für wichtig halten. Wir übernehmen keine Garantie für die Richtigkeit der Angaben\, bitte schauen Sie bei Fremdveranstaltungen immer auch bei den Anbietern selbst nach\, da wir eventuelle Termin- und Ortsverlegungen oder Absagen nicht in jedem Fall nachhalten können. Bitte achten Sie auch darauf\, dass der Großteil der Seminare kostenpflichtig ist. Vielen Dank!
URL:https://dgob.info/en/veranstaltung/kurs-14-kraniale-techniken-4/
LOCATION:Freie Heilpraktiker (Düsseldorf)\, Benrather Schlossallee 49-53\, Düsseldorf\, Nordrhein-Westfalen\, 40597
CATEGORIES:Ausbildung
GEO:51.1624344;6.8612281
X-APPLE-STRUCTURED-LOCATION;VALUE=URI;X-ADDRESS=Freie Heilpraktiker (Düsseldorf) Benrather Schlossallee 49-53 Düsseldorf Nordrhein-Westfalen 40597;X-APPLE-RADIUS=500;X-TITLE=Benrather Schlossallee 49-53:geo:6.8612281,51.1624344
END:VEVENT
END:VCALENDAR