BEGIN:VCALENDAR
VERSION:2.0
PRODID:-//DGOB - ECPv6.15.20//NONSGML v1.0//EN
CALSCALE:GREGORIAN
METHOD:PUBLISH
X-ORIGINAL-URL:https://dgob.info/en
X-WR-CALDESC:Events for DGOB
REFRESH-INTERVAL;VALUE=DURATION:PT1H
X-Robots-Tag:noindex
X-PUBLISHED-TTL:PT1H
BEGIN:VTIMEZONE
TZID:Europe/Berlin
BEGIN:DAYLIGHT
TZOFFSETFROM:+0100
TZOFFSETTO:+0200
TZNAME:CEST
DTSTART:20220327T010000
END:DAYLIGHT
BEGIN:STANDARD
TZOFFSETFROM:+0200
TZOFFSETTO:+0100
TZNAME:CET
DTSTART:20221030T010000
END:STANDARD
BEGIN:DAYLIGHT
TZOFFSETFROM:+0100
TZOFFSETTO:+0200
TZNAME:CEST
DTSTART:20230326T010000
END:DAYLIGHT
BEGIN:STANDARD
TZOFFSETFROM:+0200
TZOFFSETTO:+0100
TZNAME:CET
DTSTART:20231029T010000
END:STANDARD
BEGIN:DAYLIGHT
TZOFFSETFROM:+0100
TZOFFSETTO:+0200
TZNAME:CEST
DTSTART:20240331T010000
END:DAYLIGHT
BEGIN:STANDARD
TZOFFSETFROM:+0200
TZOFFSETTO:+0100
TZNAME:CET
DTSTART:20241027T010000
END:STANDARD
END:VTIMEZONE
BEGIN:VEVENT
DTSTART;TZID=Europe/Berlin:20230902T090000
DTEND;TZID=Europe/Berlin:20230903T170000
DTSTAMP:20260424T124138
CREATED:20230103T212301Z
LAST-MODIFIED:20230103T212938Z
UID:10000801-1693645200-1693760400@dgob.info
SUMMARY:Behandlung von Schwangeren
DESCRIPTION:Sonderkurs mit Sada H. Bist. \nThema: Behandlung von Schwangeren. \nNur mit Anmeldung. \nWeitere Informationen www.acon-colleg.de. Bitte direkt anmelden unter info@acon-colleg.de. \nSorry\, this entry is only available in Deutsch at the moment. \n\nDies ist keine Veranstaltung der DGOB – aber wir wollen gerne auf Veranstaltungen aufmerksam machen\, die wir für wichtig halten. Wir übernehmen keine Garantie für die Richtigkeit der Angaben\, bitte schauen Sie bei Fremdveranstaltungen immer auch bei den Anbietern selbst nach\, da wir eventuelle Termin- und Ortsverlegungen oder Absagen nicht in jedem Fall nachhalten können. Bitte achten Sie auch darauf\, dass der Großteil der Seminare kostenpflichtig ist. Vielen Dank!
URL:https://dgob.info/en/veranstaltung/behandlung-von-schwangeren/
LOCATION:ACON-COLLEG e.V.\, Im Lipperfeld 33\, Oberhausen\, Nord-Rhein-Westfalen\, 46047\, Deutschland
CATEGORIES:Ausbildung,Fortbildung
GEO:51.4849154;6.8672384
X-APPLE-STRUCTURED-LOCATION;VALUE=URI;X-ADDRESS=ACON-COLLEG e.V. Im Lipperfeld 33 Oberhausen Nord-Rhein-Westfalen 46047 Deutschland;X-APPLE-RADIUS=500;X-TITLE=Im Lipperfeld 33:geo:6.8672384,51.4849154
END:VEVENT
BEGIN:VEVENT
DTSTART;TZID=Europe/Berlin:20230903T090000
DTEND;TZID=Europe/Berlin:20230907T140000
DTSTAMP:20260424T124138
CREATED:20200212T114927Z
LAST-MODIFIED:20230611T191332Z
UID:10000685-1693731600-1694095200@dgob.info
SUMMARY:DGOB Jahrestagung 2023\, Hofheim Unterfranken
DESCRIPTION:Dieses Jahr freuen wir uns wieder in der Bettenburg zu sein. \nWie auch schon letztes Jahr\, wird die Jahrestagung im Ablauf anders als gewohnt sein. Wir beginnen mit der Mitgliederversammlung am Sonntag. Die Anreise kann am Samstag ab 15 Uhr erfolgen. \nFür das 3 Tage Seminar kommt Dr. med. Hans-Ulrich Wegner. Uli ist Privatarzt in eigener Praxis in Freyburg (Unstrut) und unterrichtet seit 1995 als Lehrer für Ortho-Bionomy®. \nEs beginnt am Montag und endet am Mittwoch. Wir werden Spannendes über die Phase 6 erfahren und viel Raum zum Üben und zur Selbsterfahrung haben. \nAus organisatorischen Gründen wird es dieses mal kein 1 Tages Seminar geben. Dafür werden wir viel Zeit – Samstags Abend und Donnerstags Vormittag – für den kollegialen Austausch und für gegenseitige Behandlungen haben. \nBeenden werden wir die Jahrestagung wie gewohnt mit einem gemeinsamen Mittagessen. \nDie ausführliche Ausschreibung kann im Mitgliederbereich unter DGOB Direkt//Mitgliederversammlung/Jahrestagung//2022 heruntergeladen werden. \nFragen zur Veranstaltung bitte an info@dgob.info richten. \nWir freuen uns auf eine schöne und erfolgreiche Jahresversammlung mit Euch!
URL:https://dgob.info/en/veranstaltung/dgob-jahrestagung-2023-hofheim-unterfranken/
LOCATION:Seminarhaus Schloss Bettenburg\, Manau 22\, Hofheim/Unterfranken\, Bayern\, 97461\, Deutschland
CATEGORIES:Jahrestagung,Mitgliederversammlung,Weiterbildung
ORGANIZER;CN="Deutsche Gesellschaft f%C3%BCr Ortho-Bionomy e.V.":MAILTO:info@dgob.info
GEO:50.15414;10.55506
X-APPLE-STRUCTURED-LOCATION;VALUE=URI;X-ADDRESS=Seminarhaus Schloss Bettenburg Manau 22 Hofheim/Unterfranken Bayern 97461 Deutschland;X-APPLE-RADIUS=500;X-TITLE=Manau 22:geo:10.55506,50.15414
END:VEVENT
END:VCALENDAR