BEGIN:VCALENDAR
VERSION:2.0
PRODID:-//DGOB - ECPv6.15.20//NONSGML v1.0//EN
CALSCALE:GREGORIAN
METHOD:PUBLISH
X-WR-CALNAME:DGOB
X-ORIGINAL-URL:https://dgob.info/en
X-WR-CALDESC:Events for DGOB
REFRESH-INTERVAL;VALUE=DURATION:PT1H
X-Robots-Tag:noindex
X-PUBLISHED-TTL:PT1H
BEGIN:VTIMEZONE
TZID:Europe/Berlin
BEGIN:DAYLIGHT
TZOFFSETFROM:+0100
TZOFFSETTO:+0200
TZNAME:CEST
DTSTART:20220327T010000
END:DAYLIGHT
BEGIN:STANDARD
TZOFFSETFROM:+0200
TZOFFSETTO:+0100
TZNAME:CET
DTSTART:20221030T010000
END:STANDARD
BEGIN:DAYLIGHT
TZOFFSETFROM:+0100
TZOFFSETTO:+0200
TZNAME:CEST
DTSTART:20230326T010000
END:DAYLIGHT
BEGIN:STANDARD
TZOFFSETFROM:+0200
TZOFFSETTO:+0100
TZNAME:CET
DTSTART:20231029T010000
END:STANDARD
BEGIN:DAYLIGHT
TZOFFSETFROM:+0100
TZOFFSETTO:+0200
TZNAME:CEST
DTSTART:20240331T010000
END:DAYLIGHT
BEGIN:STANDARD
TZOFFSETFROM:+0200
TZOFFSETTO:+0100
TZNAME:CET
DTSTART:20241027T010000
END:STANDARD
END:VTIMEZONE
BEGIN:VEVENT
DTSTART;TZID=Europe/Berlin:20230819T090000
DTEND;TZID=Europe/Berlin:20230819T180000
DTSTAMP:20260424T141850
CREATED:20230103T210630Z
LAST-MODIFIED:20230103T210723Z
UID:10000798-1692435600-1692468000@dgob.info
SUMMARY:Ortho-Bionomy® Workshop
DESCRIPTION:Ausbildungskurs mit Sada H. Bist und Dagmar Müsch. \nThema: Ein ganztägiger Workshop um Praxisfälle zu besprechen\, Techniken einzuüben und zu vertiefen\, Fragen zu stellen\, Informationen zu sammeln und auszutauschen. \nZugangsvoraussetzung: mindestens vier Wochenendseminare im Bereich der Ortho-Bionomy®. \nBitte direkt anmelden unter info@freieheilpraktiker.com. \nSorry\, this entry is only available in Deutsch at the moment. \n\nDies ist keine Veranstaltung der DGOB – aber wir wollen gerne auf Veranstaltungen aufmerksam machen\, die wir für wichtig halten. Wir übernehmen keine Garantie für die Richtigkeit der Angaben\, bitte schauen Sie bei Fremdveranstaltungen immer auch bei den Anbietern selbst nach\, da wir eventuelle Termin- und Ortsverlegungen oder Absagen nicht in jedem Fall nachhalten können. Bitte achten Sie auch darauf\, dass der Großteil der Seminare kostenpflichtig ist. Vielen Dank!
URL:https://dgob.info/en/veranstaltung/ortho-bionomy-workshop/
LOCATION:Freie Heilpraktiker (Düsseldorf)\, Benrather Schlossallee 49-53\, Düsseldorf\, Nordrhein-Westfalen\, 40597
CATEGORIES:Fortbildung,Weiterbildung,Workshop
GEO:51.1624344;6.8612281
X-APPLE-STRUCTURED-LOCATION;VALUE=URI;X-ADDRESS=Freie Heilpraktiker (Düsseldorf) Benrather Schlossallee 49-53 Düsseldorf Nordrhein-Westfalen 40597;X-APPLE-RADIUS=500;X-TITLE=Benrather Schlossallee 49-53:geo:6.8612281,51.1624344
END:VEVENT
BEGIN:VEVENT
DTSTART;TZID=Europe/Berlin:20230824T180000
DTEND;TZID=Europe/Berlin:20230824T210000
DTSTAMP:20260424T141850
CREATED:20230103T211304Z
LAST-MODIFIED:20230103T211402Z
UID:10000799-1692900000-1692910800@dgob.info
SUMMARY:Facharbeitskreis Ortho-Bionomy®
DESCRIPTION:Facharbeitskreis mit Sada H. Bist. \nThema: Ortho-Bionomy®. \nBitte direkt anmelden unter info@freieheilpraktiker.com. \nNur mit Anmeldung. \nSorry\, this entry is only available in Deutsch at the moment. \n\nDies ist keine Veranstaltung der DGOB – aber wir wollen gerne auf Veranstaltungen aufmerksam machen\, die wir für wichtig halten. Wir übernehmen keine Garantie für die Richtigkeit der Angaben\, bitte schauen Sie bei Fremdveranstaltungen immer auch bei den Anbietern selbst nach\, da wir eventuelle Termin- und Ortsverlegungen oder Absagen nicht in jedem Fall nachhalten können. Bitte achten Sie auch darauf\, dass der Großteil der Seminare kostenpflichtig ist. Vielen Dank!
URL:https://dgob.info/en/veranstaltung/facharbeitskreis-ortho-bionomy-4/
LOCATION:Freie Heilpraktiker (Düsseldorf)\, Benrather Schlossallee 49-53\, Düsseldorf\, Nordrhein-Westfalen\, 40597
CATEGORIES:Arbeitskreis
GEO:51.1624344;6.8612281
X-APPLE-STRUCTURED-LOCATION;VALUE=URI;X-ADDRESS=Freie Heilpraktiker (Düsseldorf) Benrather Schlossallee 49-53 Düsseldorf Nordrhein-Westfalen 40597;X-APPLE-RADIUS=500;X-TITLE=Benrather Schlossallee 49-53:geo:6.8612281,51.1624344
END:VEVENT
END:VCALENDAR