BEGIN:VCALENDAR
VERSION:2.0
PRODID:-//DGOB - ECPv6.15.20//NONSGML v1.0//EN
CALSCALE:GREGORIAN
METHOD:PUBLISH
X-ORIGINAL-URL:https://dgob.info/en
X-WR-CALDESC:Events for DGOB
REFRESH-INTERVAL;VALUE=DURATION:PT1H
X-Robots-Tag:noindex
X-PUBLISHED-TTL:PT1H
BEGIN:VTIMEZONE
TZID:Europe/Berlin
BEGIN:DAYLIGHT
TZOFFSETFROM:+0100
TZOFFSETTO:+0200
TZNAME:CEST
DTSTART:20220327T010000
END:DAYLIGHT
BEGIN:STANDARD
TZOFFSETFROM:+0200
TZOFFSETTO:+0100
TZNAME:CET
DTSTART:20221030T010000
END:STANDARD
BEGIN:DAYLIGHT
TZOFFSETFROM:+0100
TZOFFSETTO:+0200
TZNAME:CEST
DTSTART:20230326T010000
END:DAYLIGHT
BEGIN:STANDARD
TZOFFSETFROM:+0200
TZOFFSETTO:+0100
TZNAME:CET
DTSTART:20231029T010000
END:STANDARD
BEGIN:DAYLIGHT
TZOFFSETFROM:+0100
TZOFFSETTO:+0200
TZNAME:CEST
DTSTART:20240331T010000
END:DAYLIGHT
BEGIN:STANDARD
TZOFFSETFROM:+0200
TZOFFSETTO:+0100
TZNAME:CET
DTSTART:20241027T010000
END:STANDARD
END:VTIMEZONE
BEGIN:VEVENT
DTSTART;TZID=Europe/Berlin:20230603T090000
DTEND;TZID=Europe/Berlin:20230604T170000
DTSTAMP:20260424T180518
CREATED:20230103T170344Z
LAST-MODIFIED:20230103T172959Z
UID:10000786-1685782800-1685898000@dgob.info
SUMMARY:Kurs 2\, Strukturelle Techniken Phase 4
DESCRIPTION:Ausbildungskurs mit Dr. med. Hans-Ulrich Wegner. \nThema: Fortsetzung OB-Grundtechniken\, LWS Becken\, M. Iliopsoas. \nBitte direkt anmelden unter sabine.welzig@web.de. \nSorry\, this entry is only available in Deutsch at the moment. \n\nDies ist keine Veranstaltung der DGOB – aber wir wollen gerne auf Veranstaltungen aufmerksam machen\, die wir für wichtig halten. Wir übernehmen keine Garantie für die Richtigkeit der Angaben\, bitte schauen Sie bei Fremdveranstaltungen immer auch bei den Anbietern selbst nach\, da wir eventuelle Termin- und Ortsverlegungen oder Absagen nicht in jedem Fall nachhalten können. Bitte achten Sie auch darauf\, dass der Großteil der Seminare kostenpflichtig ist. Vielen Dank!
URL:https://dgob.info/en/veranstaltung/kurs-2-strukturelle-techniken-phase-4/
LOCATION:Praxis Sperbergasse\, Sperbergasse 4\, Burgdorf\, Niedersachsen\, 31303\, Deutschland
CATEGORIES:Ausbildung
GEO:52.4560995;9.9977218
X-APPLE-STRUCTURED-LOCATION;VALUE=URI;X-ADDRESS=Praxis Sperbergasse Sperbergasse 4 Burgdorf Niedersachsen 31303 Deutschland;X-APPLE-RADIUS=500;X-TITLE=Sperbergasse 4:geo:9.9977218,52.4560995
END:VEVENT
BEGIN:VEVENT
DTSTART;TZID=Europe/Berlin:20230603T090000
DTEND;TZID=Europe/Berlin:20230604T170000
DTSTAMP:20260424T180518
CREATED:20230103T205757Z
LAST-MODIFIED:20230103T205757Z
UID:10000797-1685782800-1685898000@dgob.info
SUMMARY:Kurs 3 -  Phase 4 (Strukturelle Techniken)
DESCRIPTION:Ausbildungskurs mit Dagmar Müsch und Sada H. Bist. \nThema: Techniken an Hüftgelenken\, Kniegelenken\, Sprunggelenken\, an den Füßen\, Ellenbogengelenken\, Handgelenken\, an den Händen – Vorkenntnisse: keine. \nKeine Zugangsvorraussetzung. \nBitte direkt anmelden unter info@freieheilpraktiker.com. \nSorry\, this entry is only available in Deutsch at the moment. \n\nDies ist keine Veranstaltung der DGOB – aber wir wollen gerne auf Veranstaltungen aufmerksam machen\, die wir für wichtig halten. Wir übernehmen keine Garantie für die Richtigkeit der Angaben\, bitte schauen Sie bei Fremdveranstaltungen immer auch bei den Anbietern selbst nach\, da wir eventuelle Termin- und Ortsverlegungen oder Absagen nicht in jedem Fall nachhalten können. Bitte achten Sie auch darauf\, dass der Großteil der Seminare kostenpflichtig ist. Vielen Dank!
URL:https://dgob.info/en/veranstaltung/kurs-3-phase-4-strukturelle-techniken-3/
LOCATION:Freie Heilpraktiker (Düsseldorf)\, Benrather Schlossallee 49-53\, Düsseldorf\, Nordrhein-Westfalen\, 40597
CATEGORIES:Ausbildung
GEO:51.1624344;6.8612281
X-APPLE-STRUCTURED-LOCATION;VALUE=URI;X-ADDRESS=Freie Heilpraktiker (Düsseldorf) Benrather Schlossallee 49-53 Düsseldorf Nordrhein-Westfalen 40597;X-APPLE-RADIUS=500;X-TITLE=Benrather Schlossallee 49-53:geo:6.8612281,51.1624344
END:VEVENT
BEGIN:VEVENT
DTSTART;TZID=Europe/Berlin:20230615T090000
DTEND;TZID=Europe/Berlin:20230618T170000
DTSTAMP:20260424T180518
CREATED:20230103T171200Z
LAST-MODIFIED:20230103T212501Z
UID:10000787-1686819600-1687107600@dgob.info
SUMMARY:Schock und Trauma
DESCRIPTION:Sonderkurs mit  Sada Hilde Bist und Dr. med. Hans-Ulrich Wegner. \nThema: Intensivseminar\, Behandlung posttraumatischer Zustände\, Krisenintervention\, Stabilisierung. \nWeitere Indormaationen unter www.ortho-bionomy-germany.de. Bitte direkt anmelden unter info@schneegass-consulting.de. \nSorry\, this entry is only available in Deutsch at the moment. \n\nDies ist keine Veranstaltung der DGOB – aber wir wollen gerne auf Veranstaltungen aufmerksam machen\, die wir für wichtig halten. Wir übernehmen keine Garantie für die Richtigkeit der Angaben\, bitte schauen Sie bei Fremdveranstaltungen immer auch bei den Anbietern selbst nach\, da wir eventuelle Termin- und Ortsverlegungen oder Absagen nicht in jedem Fall nachhalten können. Bitte achten Sie auch darauf\, dass der Großteil der Seminare kostenpflichtig ist. Vielen Dank!
URL:https://dgob.info/en/veranstaltung/schock-und-trauma/
LOCATION:Haus Rosengart\, Am Klosterberg 2\, Friedrichroda\, Thüringen\, 99894\, Deutschland
CATEGORIES:Fortbildung,Weiterbildung
END:VEVENT
BEGIN:VEVENT
DTSTART;TZID=Europe/Berlin:20230616T090000
DTEND;TZID=Europe/Berlin:20230617T170000
DTSTAMP:20260424T180518
CREATED:20231129T155314Z
LAST-MODIFIED:20231129T155314Z
UID:10000824-1686906000-1687021200@dgob.info
SUMMARY:Seminar 5
DESCRIPTION:Ausbildungskurs mit Kurt Mölich. \nThema: Seminar 5: Dynamische Techniken am Schulterblatt\, Kreuzbein\, Becken und Reflexe. \nSorry\, this entry is only available in Deutsch at the moment. \nBitte direkt anmelden unter info@ortho-bionomy.de  Weitere Informationen unter www.ortho-bionomy.de.
URL:https://dgob.info/en/veranstaltung/seminar-5/
LOCATION:rehafit Fitnessstudio\, Lußweg 4\, Günzburg\, Bayern\, 89312
CATEGORIES:Ausbildung
GEO:48.4784749;10.2573777
X-APPLE-STRUCTURED-LOCATION;VALUE=URI;X-ADDRESS=rehafit Fitnessstudio Lußweg 4 Günzburg Bayern 89312;X-APPLE-RADIUS=500;X-TITLE=Lußweg 4:geo:10.2573777,48.4784749
END:VEVENT
BEGIN:VEVENT
DTSTART;TZID=Europe/Berlin:20230623T090000
DTEND;TZID=Europe/Berlin:20230624T170000
DTSTAMP:20260424T180518
CREATED:20231129T155321Z
LAST-MODIFIED:20231129T155321Z
UID:10000823-1687510800-1687626000@dgob.info
SUMMARY:PCS (Post-Concusions-Syndrom und HIS(Hirnstamm-Irritations-Syndrom)
DESCRIPTION:Ausbildungskurs mit Christa Hegele-Mack\, Susanne Seidel\, Stefan Andrecht\, Ulrike Volk\, Kurt Mölich\, Michaela Wiese\, Dr. med. Klaus G. Weber. \nThema: Auswirkungen nach Gehirnerschütterungen und Ohnmacht werden erarbeitet. Dabei werden ruckartige Krafteinwirkungen auf die Halswirbelsäule und den Hirnstamm mit einbezogen. \nSorry\, this entry is only available in Deutsch at the moment. \nBitte direkt anmelden unter info@ortho-bionomy.de  Weitere Informationen unter www.ortho-bionomy.de.
URL:https://dgob.info/en/veranstaltung/pcs-post-concusions-syndrom-und-hishirnstamm-irritations-syndrom/
LOCATION:rehafit Fitnessstudio\, Lußweg 4\, Günzburg\, Bayern\, 89312
CATEGORIES:Fortbildung,Weiterbildung
GEO:48.4784749;10.2573777
X-APPLE-STRUCTURED-LOCATION;VALUE=URI;X-ADDRESS=rehafit Fitnessstudio Lußweg 4 Günzburg Bayern 89312;X-APPLE-RADIUS=500;X-TITLE=Lußweg 4:geo:10.2573777,48.4784749
END:VEVENT
END:VCALENDAR