BEGIN:VCALENDAR
VERSION:2.0
PRODID:-//DGOB - ECPv6.15.20//NONSGML v1.0//EN
CALSCALE:GREGORIAN
METHOD:PUBLISH
X-WR-CALNAME:DGOB
X-ORIGINAL-URL:https://dgob.info/en
X-WR-CALDESC:Events for DGOB
REFRESH-INTERVAL;VALUE=DURATION:PT1H
X-Robots-Tag:noindex
X-PUBLISHED-TTL:PT1H
BEGIN:VTIMEZONE
TZID:Europe/Berlin
BEGIN:DAYLIGHT
TZOFFSETFROM:+0100
TZOFFSETTO:+0200
TZNAME:CEST
DTSTART:20220327T010000
END:DAYLIGHT
BEGIN:STANDARD
TZOFFSETFROM:+0200
TZOFFSETTO:+0100
TZNAME:CET
DTSTART:20221030T010000
END:STANDARD
BEGIN:DAYLIGHT
TZOFFSETFROM:+0100
TZOFFSETTO:+0200
TZNAME:CEST
DTSTART:20230326T010000
END:DAYLIGHT
BEGIN:STANDARD
TZOFFSETFROM:+0200
TZOFFSETTO:+0100
TZNAME:CET
DTSTART:20231029T010000
END:STANDARD
BEGIN:DAYLIGHT
TZOFFSETFROM:+0100
TZOFFSETTO:+0200
TZNAME:CEST
DTSTART:20240331T010000
END:DAYLIGHT
BEGIN:STANDARD
TZOFFSETFROM:+0200
TZOFFSETTO:+0100
TZNAME:CET
DTSTART:20241027T010000
END:STANDARD
END:VTIMEZONE
BEGIN:VEVENT
DTSTART;TZID=Europe/Berlin:20230304T090000
DTEND;TZID=Europe/Berlin:20230305T170000
DTSTAMP:20260424T233927
CREATED:20230103T164921Z
LAST-MODIFIED:20230103T172847Z
UID:10000783-1677920400-1678035600@dgob.info
SUMMARY:ORTHO-BIONOMY und Reintegration\, Phase 5 und 6
DESCRIPTION:Sonderkurs mit Dr. med. Hans-Ulrich Wegner. \nThema: Techniken an Cranium\, Aura\, Hirnen\, Nabelregion\, Dysbalancen (u.a nach Geburt). \nBitte direkt anmelden unter sabine.welzig@web.de. \nSorry\, this entry is only available in Deutsch at the moment. \n\nDies ist keine Veranstaltung der DGOB – aber wir wollen gerne auf Veranstaltungen aufmerksam machen\, die wir für wichtig halten. Wir übernehmen keine Garantie für die Richtigkeit der Angaben\, bitte schauen Sie bei Fremdveranstaltungen immer auch bei den Anbietern selbst nach\, da wir eventuelle Termin- und Ortsverlegungen oder Absagen nicht in jedem Fall nachhalten können. Bitte achten Sie auch darauf\, dass der Großteil der Seminare kostenpflichtig ist. Vielen Dank!
URL:https://dgob.info/en/veranstaltung/ortho-bionomy-und-reintegration-phase-5-und-6/
LOCATION:Seminarhaus Mahanbir\, Zum Roden 13\, Lehrte/Aligse\, Niedersachsen\, 31275\, Deutschland
CATEGORIES:Fortbildung,Weiterbildung
GEO:52.40111;9.9795028
X-APPLE-STRUCTURED-LOCATION;VALUE=URI;X-ADDRESS=Seminarhaus Mahanbir Zum Roden 13 Lehrte/Aligse Niedersachsen 31275 Deutschland;X-APPLE-RADIUS=500;X-TITLE=Zum Roden 13:geo:9.9795028,52.40111
END:VEVENT
BEGIN:VEVENT
DTSTART;TZID=Europe/Berlin:20230311T090000
DTEND;TZID=Europe/Berlin:20230315T170000
DTSTAMP:20260424T233927
CREATED:20230103T225526Z
LAST-MODIFIED:20230103T225526Z
UID:10000809-1678525200-1678899600@dgob.info
SUMMARY:Residential
DESCRIPTION:Ausbildungskurs mit Ulrike Volk und Christa Hegele-Mack. \nThema: Intensivseminar um alle gelernten Techniken zu vertiefen. \nSorry\, this entry is only available in Deutsch at the moment. \nBitte direkt anmelden unter info@ortho-bionomy.de  Weitere Informationen unter www.ortho-bionomy.de. \n\nSorry\, this entry is only available in Deutsch at the moment. \n\nDies ist keine Veranstaltung der DGOB – aber wir wollen gerne auf Veranstaltungen aufmerksam machen\, die wir für wichtig halten. Wir übernehmen keine Garantie für die Richtigkeit der Angaben\, bitte schauen Sie bei Fremdveranstaltungen immer auch bei den Anbietern selbst nach\, da wir eventuelle Termin- und Ortsverlegungen oder Absagen nicht in jedem Fall nachhalten können. Bitte achten Sie auch darauf\, dass der Großteil der Seminare kostenpflichtig ist. Vielen Dank!
URL:https://dgob.info/en/veranstaltung/residential-3/
LOCATION:Seminarzentrum Gut Helmeringen\, Helmeringer Weg 43\, Helmeringen\, Bayern\, 89415\, Deutschland
CATEGORIES:Ausbildung
END:VEVENT
BEGIN:VEVENT
DTSTART;TZID=Europe/Berlin:20230318T090000
DTEND;TZID=Europe/Berlin:20230319T170000
DTSTAMP:20260424T233927
CREATED:20230103T180205Z
LAST-MODIFIED:20230103T180539Z
UID:10000794-1679130000-1679245200@dgob.info
SUMMARY:Kurs 1 -  Phase 4 (Strukturelle Techniken)
DESCRIPTION:Ausbildungskurs mit Dagmar Müsch und Sada H. Bist. \nThema: Einführung in die Grundlagen der Ortho-Bionomy® – Techniken an HWS/BWS\, Thorax\, Schultergürtel – Vorkenntnisse: keine \nKeine Zugangsvorraussetzung. \nBitte direkt anmelden unter info@freieheilpraktiker.com. \nSorry\, this entry is only available in Deutsch at the moment. \n\nDies ist keine Veranstaltung der DGOB – aber wir wollen gerne auf Veranstaltungen aufmerksam machen\, die wir für wichtig halten. Wir übernehmen keine Garantie für die Richtigkeit der Angaben\, bitte schauen Sie bei Fremdveranstaltungen immer auch bei den Anbietern selbst nach\, da wir eventuelle Termin- und Ortsverlegungen oder Absagen nicht in jedem Fall nachhalten können. Bitte achten Sie auch darauf\, dass der Großteil der Seminare kostenpflichtig ist. Vielen Dank!
URL:https://dgob.info/en/veranstaltung/kurs-1-phase-4-strukturelle-techniken-3/
LOCATION:Freie Heilpraktiker (Düsseldorf)\, Benrather Schlossallee 49-53\, Düsseldorf\, Nordrhein-Westfalen\, 40597
CATEGORIES:Ausbildung
GEO:51.1624344;6.8612281
X-APPLE-STRUCTURED-LOCATION;VALUE=URI;X-ADDRESS=Freie Heilpraktiker (Düsseldorf) Benrather Schlossallee 49-53 Düsseldorf Nordrhein-Westfalen 40597;X-APPLE-RADIUS=500;X-TITLE=Benrather Schlossallee 49-53:geo:6.8612281,51.1624344
END:VEVENT
BEGIN:VEVENT
DTSTART;TZID=Europe/Berlin:20230324T090000
DTEND;TZID=Europe/Berlin:20230325T170000
DTSTAMP:20260424T233927
CREATED:20230103T231121Z
LAST-MODIFIED:20230103T231121Z
UID:10000812-1679648400-1679763600@dgob.info
SUMMARY:Seminar 3
DESCRIPTION:Ausbildungskurs mit Stefan Andrecht. \nThema: Seminar 3: Lendenwirbelsäule\, Beckenring mit Schambeinfuge und ISG\, Hüften\, Knie\, Achillessehne\, Füße\, Hallux valgus. \nSorry\, this entry is only available in Deutsch at the moment. \nBitte direkt anmelden unter info@ortho-bionomy.de  Weitere Informationen unter www.ortho-bionomy.de. \n\nSorry\, this entry is only available in Deutsch at the moment. \n\nDies ist keine Veranstaltung der DGOB – aber wir wollen gerne auf Veranstaltungen aufmerksam machen\, die wir für wichtig halten. Wir übernehmen keine Garantie für die Richtigkeit der Angaben\, bitte schauen Sie bei Fremdveranstaltungen immer auch bei den Anbietern selbst nach\, da wir eventuelle Termin- und Ortsverlegungen oder Absagen nicht in jedem Fall nachhalten können. Bitte achten Sie auch darauf\, dass der Großteil der Seminare kostenpflichtig ist. Vielen Dank!
URL:https://dgob.info/en/veranstaltung/seminar-3-3/
LOCATION:rehafit Fitnessstudio\, Lußweg 4\, Günzburg\, Bayern\, 89312
CATEGORIES:Ausbildung
GEO:48.4784749;10.2573777
X-APPLE-STRUCTURED-LOCATION;VALUE=URI;X-ADDRESS=rehafit Fitnessstudio Lußweg 4 Günzburg Bayern 89312;X-APPLE-RADIUS=500;X-TITLE=Lußweg 4:geo:10.2573777,48.4784749
END:VEVENT
BEGIN:VEVENT
DTSTART;TZID=Europe/Berlin:20230325T090000
DTEND;TZID=Europe/Berlin:20230326T170000
DTSTAMP:20260424T233927
CREATED:20230103T165432Z
LAST-MODIFIED:20230103T213136Z
UID:10000784-1679734800-1679850000@dgob.info
SUMMARY:Kurs 6\, Dynamische Techniken - Phase 5
DESCRIPTION:Ausbildungskurs mit Dr. med. Hans-Ulrich Wegner. \nThema: Qualitäten der Energie\, Verbindung Struktur und Bewegung\, weitere Reflexe. \nBitte direkt anmelden unter info@freieheilpraktiker.com. \nSorry\, this entry is only available in Deutsch at the moment. \n\nDies ist keine Veranstaltung der DGOB – aber wir wollen gerne auf Veranstaltungen aufmerksam machen\, die wir für wichtig halten. Wir übernehmen keine Garantie für die Richtigkeit der Angaben\, bitte schauen Sie bei Fremdveranstaltungen immer auch bei den Anbietern selbst nach\, da wir eventuelle Termin- und Ortsverlegungen oder Absagen nicht in jedem Fall nachhalten können. Bitte achten Sie auch darauf\, dass der Großteil der Seminare kostenpflichtig ist. Vielen Dank!
URL:https://dgob.info/en/veranstaltung/kurs-6-dynamische-techniken-phase-5-4/
LOCATION:Freie Heilpraktiker (Düsseldorf)\, Benrather Schlossallee 49-53\, Düsseldorf\, Nordrhein-Westfalen\, 40597
CATEGORIES:Ausbildung
GEO:51.1624344;6.8612281
X-APPLE-STRUCTURED-LOCATION;VALUE=URI;X-ADDRESS=Freie Heilpraktiker (Düsseldorf) Benrather Schlossallee 49-53 Düsseldorf Nordrhein-Westfalen 40597;X-APPLE-RADIUS=500;X-TITLE=Benrather Schlossallee 49-53:geo:6.8612281,51.1624344
END:VEVENT
BEGIN:VEVENT
DTSTART;TZID=Europe/Berlin:20230327T090000
DTEND;TZID=Europe/Berlin:20230330T170000
DTSTAMP:20260424T233927
CREATED:20230103T231506Z
LAST-MODIFIED:20230103T231506Z
UID:10000813-1679907600-1680195600@dgob.info
SUMMARY:Störfelder und Therapiehindernisse
DESCRIPTION:Fortbildungskurs mit Michaela Wiese u. Dr. med. Klaus G. Weber. \nThema: Kennt ihr die Klienten mit Verschlechterung durch Therapie oder chronische wiederkehrende Beschwerden? Diese werden oft durch Störfelder ausgelöst. Wir Erarbeiten das Auffinden und analysieren des Störfelds und werden Behandlungen und Lösungsstrategien entwickeln. \nSorry\, this entry is only available in Deutsch at the moment. \nBitte direkt anmelden unter info@ortho-bionomy.de  Weitere Informationen unter www.ortho-bionomy.de. \n\nSorry\, this entry is only available in Deutsch at the moment. \n\nDies ist keine Veranstaltung der DGOB – aber wir wollen gerne auf Veranstaltungen aufmerksam machen\, die wir für wichtig halten. Wir übernehmen keine Garantie für die Richtigkeit der Angaben\, bitte schauen Sie bei Fremdveranstaltungen immer auch bei den Anbietern selbst nach\, da wir eventuelle Termin- und Ortsverlegungen oder Absagen nicht in jedem Fall nachhalten können. Bitte achten Sie auch darauf\, dass der Großteil der Seminare kostenpflichtig ist. Vielen Dank!
URL:https://dgob.info/en/veranstaltung/stoerfelder-und-therapiehindernisse/
LOCATION:Privatpraxis\, Metzelplatz 5\, Rottenburg\, Baden-Württemberg\, 72108\, Deutschland
CATEGORIES:Fortbildung,Weiterbildung
GEO:48.4765536;8.9353335
X-APPLE-STRUCTURED-LOCATION;VALUE=URI;X-ADDRESS=Privatpraxis Metzelplatz 5 Rottenburg Baden-Württemberg 72108 Deutschland;X-APPLE-RADIUS=500;X-TITLE=Metzelplatz 5:geo:8.9353335,48.4765536
END:VEVENT
END:VCALENDAR