BEGIN:VCALENDAR
VERSION:2.0
PRODID:-//DGOB - ECPv6.15.20//NONSGML v1.0//EN
CALSCALE:GREGORIAN
METHOD:PUBLISH
X-WR-CALNAME:DGOB
X-ORIGINAL-URL:https://dgob.info/en
X-WR-CALDESC:Events for DGOB
REFRESH-INTERVAL;VALUE=DURATION:PT1H
X-Robots-Tag:noindex
X-PUBLISHED-TTL:PT1H
BEGIN:VTIMEZONE
TZID:Europe/Berlin
BEGIN:DAYLIGHT
TZOFFSETFROM:+0100
TZOFFSETTO:+0200
TZNAME:CEST
DTSTART:20220327T010000
END:DAYLIGHT
BEGIN:STANDARD
TZOFFSETFROM:+0200
TZOFFSETTO:+0100
TZNAME:CET
DTSTART:20221030T010000
END:STANDARD
BEGIN:DAYLIGHT
TZOFFSETFROM:+0100
TZOFFSETTO:+0200
TZNAME:CEST
DTSTART:20230326T010000
END:DAYLIGHT
BEGIN:STANDARD
TZOFFSETFROM:+0200
TZOFFSETTO:+0100
TZNAME:CET
DTSTART:20231029T010000
END:STANDARD
BEGIN:DAYLIGHT
TZOFFSETFROM:+0100
TZOFFSETTO:+0200
TZNAME:CEST
DTSTART:20240331T010000
END:DAYLIGHT
BEGIN:STANDARD
TZOFFSETFROM:+0200
TZOFFSETTO:+0100
TZNAME:CET
DTSTART:20241027T010000
END:STANDARD
END:VTIMEZONE
BEGIN:VEVENT
DTSTART;TZID=Europe/Berlin:20230201T090000
DTEND;TZID=Europe/Berlin:20230202T170000
DTSTAMP:20260425T010935
CREATED:20230103T232025Z
LAST-MODIFIED:20230103T232025Z
UID:10000814-1675242000-1675357200@dgob.info
SUMMARY:Seminar 3
DESCRIPTION:Ausbildungskurs mit Ulrike Volk. \nThema: Seminar 3: Lendenwirbelsäule\, Beckenring mit Schambeinfuge und ISG\, Hüften\, Knie\, Achillessehne\, Füße\, Hallux valgus. \nSorry\, this entry is only available in Deutsch at the moment. \nBitte direkt anmelden unter info@ortho-bionomy.de  Weitere Informationen unter www.ortho-bionomy.de. \n\nSorry\, this entry is only available in Deutsch at the moment. \n\nDies ist keine Veranstaltung der DGOB – aber wir wollen gerne auf Veranstaltungen aufmerksam machen\, die wir für wichtig halten. Wir übernehmen keine Garantie für die Richtigkeit der Angaben\, bitte schauen Sie bei Fremdveranstaltungen immer auch bei den Anbietern selbst nach\, da wir eventuelle Termin- und Ortsverlegungen oder Absagen nicht in jedem Fall nachhalten können. Bitte achten Sie auch darauf\, dass der Großteil der Seminare kostenpflichtig ist. Vielen Dank!
URL:https://dgob.info/en/veranstaltung/seminar-3-4/
LOCATION:Praxis für Physiotherapie\, Schlossstraße\, Heilbronn\, Baden-Württemberg\, 74078\, Deutschland
CATEGORIES:Ausbildung
END:VEVENT
BEGIN:VEVENT
DTSTART;TZID=Europe/Berlin:20230203T090000
DTEND;TZID=Europe/Berlin:20230204T170000
DTSTAMP:20260425T010935
CREATED:20230103T223621Z
LAST-MODIFIED:20230103T223621Z
UID:10000805-1675414800-1675530000@dgob.info
SUMMARY:Seminar 2
DESCRIPTION:Ausbildungskurs mit Brigitte Osburg. \nThema: strukturelle Techniken: Vertiefung der Grundlagen\, Brustkorb\, Rippen\, Brustbein BWS\, Schultergürtel. \nSorry\, this entry is only available in Deutsch at the moment. \nBitte direkt anmelden unter info@ortho-bionomy.de  Weitere Informationen unter www.ortho-bionomy.de. \n\nSorry\, this entry is only available in Deutsch at the moment. \n\nDies ist keine Veranstaltung der DGOB – aber wir wollen gerne auf Veranstaltungen aufmerksam machen\, die wir für wichtig halten. Wir übernehmen keine Garantie für die Richtigkeit der Angaben\, bitte schauen Sie bei Fremdveranstaltungen immer auch bei den Anbietern selbst nach\, da wir eventuelle Termin- und Ortsverlegungen oder Absagen nicht in jedem Fall nachhalten können. Bitte achten Sie auch darauf\, dass der Großteil der Seminare kostenpflichtig ist. Vielen Dank!
URL:https://dgob.info/en/veranstaltung/seminar-2-2/
LOCATION:rehafit Fitnessstudio\, Lußweg 4\, Günzburg\, Bayern\, 89312
CATEGORIES:Ausbildung
GEO:48.4784749;10.2573777
X-APPLE-STRUCTURED-LOCATION;VALUE=URI;X-ADDRESS=rehafit Fitnessstudio Lußweg 4 Günzburg Bayern 89312;X-APPLE-RADIUS=500;X-TITLE=Lußweg 4:geo:10.2573777,48.4784749
END:VEVENT
BEGIN:VEVENT
DTSTART;TZID=Europe/Berlin:20230204T110000
DTEND;TZID=Europe/Berlin:20230204T140000
DTSTAMP:20260425T010935
CREATED:20230103T174743Z
LAST-MODIFIED:20230103T180614Z
UID:10000792-1675508400-1675519200@dgob.info
SUMMARY:Kleiner Infoworkshop „Hands On“
DESCRIPTION:Infoworkshop mit Dagmar Müsch und Sada H. Bist. \nThema: Infoveranstaltung “Hands On” und das Spektrum der Ortho-Bionomy® . \nVorkenntnisse: keine. Keine Zugangsvorraussetzung – kostenfrei. \nBitte direkt anmelden unter info@freieheilpraktiker.com. \nSorry\, this entry is only available in Deutsch at the moment. \n\nDies ist keine Veranstaltung der DGOB – aber wir wollen gerne auf Veranstaltungen aufmerksam machen\, die wir für wichtig halten. Wir übernehmen keine Garantie für die Richtigkeit der Angaben\, bitte schauen Sie bei Fremdveranstaltungen immer auch bei den Anbietern selbst nach\, da wir eventuelle Termin- und Ortsverlegungen oder Absagen nicht in jedem Fall nachhalten können. Bitte achten Sie auch darauf\, dass der Großteil der Seminare kostenpflichtig ist. Vielen Dank!
URL:https://dgob.info/en/veranstaltung/kleiner-infoworkshop-hands-on/
LOCATION:Freie Heilpraktiker (Düsseldorf)\, Benrather Schlossallee 49-53\, Düsseldorf\, Nordrhein-Westfalen\, 40597
CATEGORIES:Vortrag,Workshop
GEO:51.1624344;6.8612281
X-APPLE-STRUCTURED-LOCATION;VALUE=URI;X-ADDRESS=Freie Heilpraktiker (Düsseldorf) Benrather Schlossallee 49-53 Düsseldorf Nordrhein-Westfalen 40597;X-APPLE-RADIUS=500;X-TITLE=Benrather Schlossallee 49-53:geo:6.8612281,51.1624344
END:VEVENT
BEGIN:VEVENT
DTSTART;TZID=Europe/Berlin:20230216T090000
DTEND;TZID=Europe/Berlin:20230216T170000
DTSTAMP:20260425T010935
CREATED:20230103T224026Z
LAST-MODIFIED:20230103T224026Z
UID:10000806-1676538000-1676566800@dgob.info
SUMMARY:Seminar 12 + 15
DESCRIPTION:Ausbildungskurs mit Christa Hegele-Mack\, Susanne Seidel\, Stefan Andrecht\, Ulrike Volk\, Kurt Mölich\, Michaela Wiese\, Dr. med. Klaus G. Weber. \nThema: Kraniale und Energetische Techniken: Organenergie\, Tonleiter\, peripherer und kranialer Rhythmus. \nSorry\, this entry is only available in Deutsch at the moment. \nBitte direkt anmelden unter info@ortho-bionomy.de  Weitere Informationen unter www.ortho-bionomy.de. \n\nSorry\, this entry is only available in Deutsch at the moment. \n\nDies ist keine Veranstaltung der DGOB – aber wir wollen gerne auf Veranstaltungen aufmerksam machen\, die wir für wichtig halten. Wir übernehmen keine Garantie für die Richtigkeit der Angaben\, bitte schauen Sie bei Fremdveranstaltungen immer auch bei den Anbietern selbst nach\, da wir eventuelle Termin- und Ortsverlegungen oder Absagen nicht in jedem Fall nachhalten können. Bitte achten Sie auch darauf\, dass der Großteil der Seminare kostenpflichtig ist. Vielen Dank!
URL:https://dgob.info/en/veranstaltung/seminar-12-15/
LOCATION:Privatpraxis\, Metzelplatz 5\, Rottenburg\, Baden-Württemberg\, 72108\, Deutschland
CATEGORIES:Ausbildung
GEO:48.4765536;8.9353335
X-APPLE-STRUCTURED-LOCATION;VALUE=URI;X-ADDRESS=Privatpraxis Metzelplatz 5 Rottenburg Baden-Württemberg 72108 Deutschland;X-APPLE-RADIUS=500;X-TITLE=Metzelplatz 5:geo:8.9353335,48.4765536
END:VEVENT
BEGIN:VEVENT
DTSTART;TZID=Europe/Berlin:20230224T090000
DTEND;TZID=Europe/Berlin:20230225T170000
DTSTAMP:20260425T010935
CREATED:20230103T224645Z
LAST-MODIFIED:20230103T224645Z
UID:10000807-1677229200-1677344400@dgob.info
SUMMARY:Innere Organe - Probleme und Lösungsansätze bei Post-Covid und Post-Vac.
DESCRIPTION:Fortbildungsskurs mit Dr. med. Klaus G. Weber und Christa Hegele-Mack. \nThema: Viele Menschen sind uns in letzter Zeit begegnet\, sei es nach einer Coronainfektion oder nach einer überschießenden Immunreaktion nach einer Corona- oder anderen Impfung. Viele Menschen zeigen ähnliche Symptome und Probleme im Bereich der Inneren Organe – v.a. auf der Hypothalamus – Hypophysen – Nebennieren – Achse\, des ges. veg. Nervensystems und der Schleimhaut. \nSorry\, this entry is only available in Deutsch at the moment. \nBitte direkt anmelden unter info@ortho-bionomy.de  Weitere Informationen unter www.ortho-bionomy.de. \n\nSorry\, this entry is only available in Deutsch at the moment. \n\nDies ist keine Veranstaltung der DGOB – aber wir wollen gerne auf Veranstaltungen aufmerksam machen\, die wir für wichtig halten. Wir übernehmen keine Garantie für die Richtigkeit der Angaben\, bitte schauen Sie bei Fremdveranstaltungen immer auch bei den Anbietern selbst nach\, da wir eventuelle Termin- und Ortsverlegungen oder Absagen nicht in jedem Fall nachhalten können. Bitte achten Sie auch darauf\, dass der Großteil der Seminare kostenpflichtig ist. Vielen Dank!
URL:https://dgob.info/en/veranstaltung/innere-organe-probleme-und-loesungsansaetze-bei-post-covid-und-post-vac/
LOCATION:Privatpraxis\, Metzelplatz 5\, Rottenburg\, Baden-Württemberg\, 72108\, Deutschland
CATEGORIES:Fortbildung,Weiterbildung
GEO:48.4765536;8.9353335
X-APPLE-STRUCTURED-LOCATION;VALUE=URI;X-ADDRESS=Privatpraxis Metzelplatz 5 Rottenburg Baden-Württemberg 72108 Deutschland;X-APPLE-RADIUS=500;X-TITLE=Metzelplatz 5:geo:8.9353335,48.4765536
END:VEVENT
BEGIN:VEVENT
DTSTART;TZID=Europe/Berlin:20230225T090000
DTEND;TZID=Europe/Berlin:20230226T170000
DTSTAMP:20260425T010935
CREATED:20230103T225012Z
LAST-MODIFIED:20230103T225012Z
UID:10000808-1677315600-1677430800@dgob.info
SUMMARY:Seminar 2
DESCRIPTION:Ausbildungskurs mit Ulrike Volk. \nThema: strukturelle Techniken: Vertiefung der Grundlagen\, Brustkorb\, Rippen\, Brustbein BWS\, Schultergürtel. \nSorry\, this entry is only available in Deutsch at the moment. \nBitte direkt anmelden unter info@ortho-bionomy.de  Weitere Informationen unter www.ortho-bionomy.de. \n\nSorry\, this entry is only available in Deutsch at the moment. \n\nDies ist keine Veranstaltung der DGOB – aber wir wollen gerne auf Veranstaltungen aufmerksam machen\, die wir für wichtig halten. Wir übernehmen keine Garantie für die Richtigkeit der Angaben\, bitte schauen Sie bei Fremdveranstaltungen immer auch bei den Anbietern selbst nach\, da wir eventuelle Termin- und Ortsverlegungen oder Absagen nicht in jedem Fall nachhalten können. Bitte achten Sie auch darauf\, dass der Großteil der Seminare kostenpflichtig ist. Vielen Dank!
URL:https://dgob.info/en/veranstaltung/seminar-2-3/
LOCATION:Praxis für Physiotherapie\, Schlossstraße\, Heilbronn\, Baden-Württemberg\, 74078\, Deutschland
CATEGORIES:Ausbildung
END:VEVENT
BEGIN:VEVENT
DTSTART;TZID=Europe/Berlin:20230225T100000
DTEND;TZID=Europe/Berlin:20230225T170000
DTSTAMP:20260425T010935
CREATED:20230103T175656Z
LAST-MODIFIED:20230103T175656Z
UID:10000793-1677319200-1677344400@dgob.info
SUMMARY:Behandlung mit den Chapmanpunkten in der Ortho-Bionomy®
DESCRIPTION:Facharbeitskreis mit Sada H. Bist. \nThema: Behandlung mit den Chapmanpunkten in der Ortho-Bionomy® \nBitte direkt anmelden unter info@naturheilpraxis-schreiber.de. Telefonische Anmeldung: 069 814998. \nSorry\, this entry is only available in Deutsch at the moment. \n\nDies ist keine Veranstaltung der DGOB – aber wir wollen gerne auf Veranstaltungen aufmerksam machen\, die wir für wichtig halten. Wir übernehmen keine Garantie für die Richtigkeit der Angaben\, bitte schauen Sie bei Fremdveranstaltungen immer auch bei den Anbietern selbst nach\, da wir eventuelle Termin- und Ortsverlegungen oder Absagen nicht in jedem Fall nachhalten können. Bitte achten Sie auch darauf\, dass der Großteil der Seminare kostenpflichtig ist. Vielen Dank!
URL:https://dgob.info/en/veranstaltung/behandlung-mit-den-chapmanpunkten-in-der-ortho-bionomy/
LOCATION:Praxis Schreiber\, Kaiserstraße 29\, Offenbach\, Hessen\, 63065\, Deutschland
CATEGORIES:Arbeitskreis
END:VEVENT
END:VCALENDAR