BEGIN:VCALENDAR
VERSION:2.0
PRODID:-//DGOB - ECPv6.15.20//NONSGML v1.0//EN
CALSCALE:GREGORIAN
METHOD:PUBLISH
X-ORIGINAL-URL:https://dgob.info/en
X-WR-CALDESC:Events for DGOB
REFRESH-INTERVAL;VALUE=DURATION:PT1H
X-Robots-Tag:noindex
X-PUBLISHED-TTL:PT1H
BEGIN:VTIMEZONE
TZID:Europe/Berlin
BEGIN:DAYLIGHT
TZOFFSETFROM:+0100
TZOFFSETTO:+0200
TZNAME:CEST
DTSTART:20220327T010000
END:DAYLIGHT
BEGIN:STANDARD
TZOFFSETFROM:+0200
TZOFFSETTO:+0100
TZNAME:CET
DTSTART:20221030T010000
END:STANDARD
BEGIN:DAYLIGHT
TZOFFSETFROM:+0100
TZOFFSETTO:+0200
TZNAME:CEST
DTSTART:20230326T010000
END:DAYLIGHT
BEGIN:STANDARD
TZOFFSETFROM:+0200
TZOFFSETTO:+0100
TZNAME:CET
DTSTART:20231029T010000
END:STANDARD
BEGIN:DAYLIGHT
TZOFFSETFROM:+0100
TZOFFSETTO:+0200
TZNAME:CEST
DTSTART:20240331T010000
END:DAYLIGHT
BEGIN:STANDARD
TZOFFSETFROM:+0200
TZOFFSETTO:+0100
TZNAME:CET
DTSTART:20241027T010000
END:STANDARD
END:VTIMEZONE
BEGIN:VEVENT
DTSTART;TZID=Europe/Berlin:20230113T090000
DTEND;TZID=Europe/Berlin:20230114T170000
DTSTAMP:20260425T025320
CREATED:20230103T222009Z
LAST-MODIFIED:20230103T222853Z
UID:10000803-1673600400-1673715600@dgob.info
SUMMARY:Seminar 16
DESCRIPTION:Ausbildungskurs mit Christa Hegele-Mack. \nThema: Kraniomandibuläre Techniken: Gesichtsschädel\, Kiefer\, Zähne\, Mundboden\, Zungenbein. \nSorry\, this entry is only available in Deutsch at the moment. \nBitte direkt anmelden unter info@ortho-bionomy.de  Weitere Informationen unter www.ortho-bionomy.de. \n\nSorry\, this entry is only available in Deutsch at the moment. \n\nDies ist keine Veranstaltung der DGOB – aber wir wollen gerne auf Veranstaltungen aufmerksam machen\, die wir für wichtig halten. Wir übernehmen keine Garantie für die Richtigkeit der Angaben\, bitte schauen Sie bei Fremdveranstaltungen immer auch bei den Anbietern selbst nach\, da wir eventuelle Termin- und Ortsverlegungen oder Absagen nicht in jedem Fall nachhalten können. Bitte achten Sie auch darauf\, dass der Großteil der Seminare kostenpflichtig ist. Vielen Dank!
URL:https://dgob.info/en/veranstaltung/seminar-16/
LOCATION:rehafit Fitnessstudio\, Lußweg 4\, Günzburg\, Bayern\, 89312
CATEGORIES:Ausbildung
GEO:48.4784749;10.2573777
X-APPLE-STRUCTURED-LOCATION;VALUE=URI;X-ADDRESS=rehafit Fitnessstudio Lußweg 4 Günzburg Bayern 89312;X-APPLE-RADIUS=500;X-TITLE=Lußweg 4:geo:10.2573777,48.4784749
END:VEVENT
BEGIN:VEVENT
DTSTART;TZID=Europe/Berlin:20230114T090000
DTEND;TZID=Europe/Berlin:20230115T170000
DTSTAMP:20260425T025320
CREATED:20230103T164202Z
LAST-MODIFIED:20230103T172829Z
UID:10000781-1673686800-1673802000@dgob.info
SUMMARY:Kurs 1\, Strukturelle Techniken Phase 4
DESCRIPTION:Ausbildungskurs mit Dr. med. Hans-Ulrich Wegner. \nThema: Einführung\, Grundlagen OB\, Techniken an HWS\, BWS\, Thorax und Schultergürtel. \nBitte direkt anmelden unter sabine.welzig@web.de. \nSorry\, this entry is only available in Deutsch at the moment. \n\nDies ist keine Veranstaltung der DGOB – aber wir wollen gerne auf Veranstaltungen aufmerksam machen\, die wir für wichtig halten. Wir übernehmen keine Garantie für die Richtigkeit der Angaben\, bitte schauen Sie bei Fremdveranstaltungen immer auch bei den Anbietern selbst nach\, da wir eventuelle Termin- und Ortsverlegungen oder Absagen nicht in jedem Fall nachhalten können. Bitte achten Sie auch darauf\, dass der Großteil der Seminare kostenpflichtig ist. Vielen Dank!
URL:https://dgob.info/en/veranstaltung/kurs-1-strukturelle-techniken-phase-4-2/
LOCATION:Praxis Sperbergasse\, Sperbergasse 4\, Burgdorf\, Niedersachsen\, 31303\, Deutschland
CATEGORIES:Ausbildung
GEO:52.4560995;9.9977218
X-APPLE-STRUCTURED-LOCATION;VALUE=URI;X-ADDRESS=Praxis Sperbergasse Sperbergasse 4 Burgdorf Niedersachsen 31303 Deutschland;X-APPLE-RADIUS=500;X-TITLE=Sperbergasse 4:geo:9.9977218,52.4560995
END:VEVENT
BEGIN:VEVENT
DTSTART;TZID=Europe/Berlin:20230114T100000
DTEND;TZID=Europe/Berlin:20230114T190000
DTSTAMP:20260425T025320
CREATED:20230103T221057Z
LAST-MODIFIED:20230103T221057Z
UID:10000802-1673690400-1673722800@dgob.info
SUMMARY:Tagesworkshop - Ortho- Bionomy Globale Techniken
DESCRIPTION:Workshop mit Eduard Pfeifle. \nThema: Wir widmen uns der kompletten Wirbelsäule und zeigen euch einfach zu erlernende Behandlungstechniken. Der Kurs ist so aufgebaut\, dass Ihr auch ohne medizinische Vorkenntnisse sofort ins Behandeln kommt und eine Menge Selbsterfahrung erleben dürft. \nMit gemeinsamem Mittagessen. \nBitte direkt anmelden unter info@pfeifle-ergotherapie.de. \nSorry\, this entry is only available in Deutsch at the moment. \n\nDies ist keine Veranstaltung der DGOB – aber wir wollen gerne auf Veranstaltungen aufmerksam machen\, die wir für wichtig halten. Wir übernehmen keine Garantie für die Richtigkeit der Angaben\, bitte schauen Sie bei Fremdveranstaltungen immer auch bei den Anbietern selbst nach\, da wir eventuelle Termin- und Ortsverlegungen oder Absagen nicht in jedem Fall nachhalten können. Bitte achten Sie auch darauf\, dass der Großteil der Seminare kostenpflichtig ist. Vielen Dank!
URL:https://dgob.info/en/veranstaltung/tagesworkshop-ortho-bionomy-globale-techniken/
LOCATION:Horn Bad Meinberg
CATEGORIES:Workshop
END:VEVENT
BEGIN:VEVENT
DTSTART;TZID=Europe/Berlin:20230121T090000
DTEND;TZID=Europe/Berlin:20230122T170000
DTSTAMP:20260425T025320
CREATED:20230103T163919Z
LAST-MODIFIED:20230103T172712Z
UID:10000782-1674291600-1674406800@dgob.info
SUMMARY:Kurs 5\, Dynamische Techniken Phase 5
DESCRIPTION:Ausbildungskurs mit Dr. med. Hans-Ulrich Wegner. \nThema: Einführung Phase 5\, Bewegungsmuster\,  Art des Kontaktes und erste Reflexe. \nBitte direkt anmelden unter info@freieheilpraktiker.com. \nSorry\, this entry is only available in Deutsch at the moment. \n\nDies ist keine Veranstaltung der DGOB – aber wir wollen gerne auf Veranstaltungen aufmerksam machen\, die wir für wichtig halten. Wir übernehmen keine Garantie für die Richtigkeit der Angaben\, bitte schauen Sie bei Fremdveranstaltungen immer auch bei den Anbietern selbst nach\, da wir eventuelle Termin- und Ortsverlegungen oder Absagen nicht in jedem Fall nachhalten können. Bitte achten Sie auch darauf\, dass der Großteil der Seminare kostenpflichtig ist. Vielen Dank!
URL:https://dgob.info/en/veranstaltung/kurs-5-dynamische-techniken-phase-5-5/
LOCATION:Freie Heilpraktiker (Düsseldorf)\, Benrather Schlossallee 49-53\, Düsseldorf\, Nordrhein-Westfalen\, 40597
CATEGORIES:Ausbildung
GEO:51.1624344;6.8612281
X-APPLE-STRUCTURED-LOCATION;VALUE=URI;X-ADDRESS=Freie Heilpraktiker (Düsseldorf) Benrather Schlossallee 49-53 Düsseldorf Nordrhein-Westfalen 40597;X-APPLE-RADIUS=500;X-TITLE=Benrather Schlossallee 49-53:geo:6.8612281,51.1624344
END:VEVENT
BEGIN:VEVENT
DTSTART;TZID=Europe/Berlin:20230121T090000
DTEND;TZID=Europe/Berlin:20230122T170000
DTSTAMP:20260425T025320
CREATED:20230103T222751Z
LAST-MODIFIED:20230103T222751Z
UID:10000804-1674291600-1674406800@dgob.info
SUMMARY:Seminar 1
DESCRIPTION:Ausbildungskurs mit Ulrike Volk. \nThema: Grundlagen der Ortho-Bionomy®. \nSorry\, this entry is only available in Deutsch at the moment. \nBitte direkt anmelden unter info@ortho-bionomy.de  Weitere Informationen unter www.ortho-bionomy.de. \n\nSorry\, this entry is only available in Deutsch at the moment. \n\nDies ist keine Veranstaltung der DGOB – aber wir wollen gerne auf Veranstaltungen aufmerksam machen\, die wir für wichtig halten. Wir übernehmen keine Garantie für die Richtigkeit der Angaben\, bitte schauen Sie bei Fremdveranstaltungen immer auch bei den Anbietern selbst nach\, da wir eventuelle Termin- und Ortsverlegungen oder Absagen nicht in jedem Fall nachhalten können. Bitte achten Sie auch darauf\, dass der Großteil der Seminare kostenpflichtig ist. Vielen Dank!
URL:https://dgob.info/en/veranstaltung/seminar-1-8/
LOCATION:Praxis für Physiotherapie\, Schlossstraße\, Heilbronn\, Baden-Württemberg\, 74078\, Deutschland
CATEGORIES:Ausbildung
END:VEVENT
BEGIN:VEVENT
DTSTART;TZID=Europe/Berlin:20230126T180000
DTEND;TZID=Europe/Berlin:20230126T210000
DTSTAMP:20260425T025320
CREATED:20230103T174328Z
LAST-MODIFIED:20230103T174328Z
UID:10000791-1674756000-1674766800@dgob.info
SUMMARY:Facharbeitskreis
DESCRIPTION:Facharbeitskreis mit Sada H. Bist. \nThema: Ortho-Bionomy®. \nNur mit Anmeldung. \nBitte direkt anmelden unter info@freieheilpraktiker.com. \nSorry\, this entry is only available in Deutsch at the moment. \n\nDies ist keine Veranstaltung der DGOB – aber wir wollen gerne auf Veranstaltungen aufmerksam machen\, die wir für wichtig halten. Wir übernehmen keine Garantie für die Richtigkeit der Angaben\, bitte schauen Sie bei Fremdveranstaltungen immer auch bei den Anbietern selbst nach\, da wir eventuelle Termin- und Ortsverlegungen oder Absagen nicht in jedem Fall nachhalten können. Bitte achten Sie auch darauf\, dass der Großteil der Seminare kostenpflichtig ist. Vielen Dank!
URL:https://dgob.info/en/veranstaltung/facharbeitskreis-2/
LOCATION:Freie Heilpraktiker (Düsseldorf)\, Benrather Schlossallee 49-53\, Düsseldorf\, Nordrhein-Westfalen\, 40597
CATEGORIES:Arbeitskreis
GEO:51.1624344;6.8612281
X-APPLE-STRUCTURED-LOCATION;VALUE=URI;X-ADDRESS=Freie Heilpraktiker (Düsseldorf) Benrather Schlossallee 49-53 Düsseldorf Nordrhein-Westfalen 40597;X-APPLE-RADIUS=500;X-TITLE=Benrather Schlossallee 49-53:geo:6.8612281,51.1624344
END:VEVENT
END:VCALENDAR