BEGIN:VCALENDAR
VERSION:2.0
PRODID:-//DGOB - ECPv6.15.20//NONSGML v1.0//EN
CALSCALE:GREGORIAN
METHOD:PUBLISH
X-ORIGINAL-URL:https://dgob.info/en
X-WR-CALDESC:Events for DGOB
REFRESH-INTERVAL;VALUE=DURATION:PT1H
X-Robots-Tag:noindex
X-PUBLISHED-TTL:PT1H
BEGIN:VTIMEZONE
TZID:Europe/Berlin
BEGIN:DAYLIGHT
TZOFFSETFROM:+0100
TZOFFSETTO:+0200
TZNAME:CEST
DTSTART:20210328T010000
END:DAYLIGHT
BEGIN:STANDARD
TZOFFSETFROM:+0200
TZOFFSETTO:+0100
TZNAME:CET
DTSTART:20211031T010000
END:STANDARD
BEGIN:DAYLIGHT
TZOFFSETFROM:+0100
TZOFFSETTO:+0200
TZNAME:CEST
DTSTART:20220327T010000
END:DAYLIGHT
BEGIN:STANDARD
TZOFFSETFROM:+0200
TZOFFSETTO:+0100
TZNAME:CET
DTSTART:20221030T010000
END:STANDARD
BEGIN:DAYLIGHT
TZOFFSETFROM:+0100
TZOFFSETTO:+0200
TZNAME:CEST
DTSTART:20230326T010000
END:DAYLIGHT
BEGIN:STANDARD
TZOFFSETFROM:+0200
TZOFFSETTO:+0100
TZNAME:CET
DTSTART:20231029T010000
END:STANDARD
END:VTIMEZONE
BEGIN:VEVENT
DTSTART;TZID=Europe/Berlin:20220611T090000
DTEND;TZID=Europe/Berlin:20220612T180000
DTSTAMP:20260425T150409
CREATED:20211108T073247Z
LAST-MODIFIED:20220124T084851Z
UID:10000440-1654938000-1655056800@dgob.info
SUMMARY:Ortho-Bionomy® Basiskurs 1
DESCRIPTION:Ausbildungskurs mit Cordelia Freitag. \nThema: Grundlagen der Ortho-Bionomy®\, Arbeit mit der Körperstruktur\, der Körperenergie und den Bewegungsimpulsen\, Behandlung von HWS\, BWS\, Schultergürtel und Thorax. \nAnmerkung: In Zusammenarbeit der Ortho-Bionomy®-Akademie\, des Deutschen Institutes für Ortho-Bionomy® und dem FobiZe Bremen. \nBitte direkt anmelden unter post@fobize.de. Weitere Informationen unter www.fobize.de. \nSorry\, this entry is only available in Deutsch at the moment. \n\nDies ist keine Veranstaltung der DGOB – aber wir wollen gerne auf Veranstaltungen aufmerksam machen\, die wir für wichtig halten. Wir übernehmen keine Garantie für die Richtigkeit der Angaben\, bitte schauen Sie bei Fremdveranstaltungen immer auch bei den Anbietern selbst nach\, da wir eventuelle Termin- und Ortsverlegungen oder Absagen nicht in jedem Fall nachhalten können. Bitte achten Sie auch darauf\, dass der Großteil der Seminare kostenpflichtig ist. Vielen Dank!
URL:https://dgob.info/en/veranstaltung/ortho-bionomy-basiskurs-1/
LOCATION:FobiZe Bremen\, Westerstraße 35\, Bremen\, Bremen\, 28199\, Deutschland
CATEGORIES:Ausbildung
GEO:53.073616;8.7973414
X-APPLE-STRUCTURED-LOCATION;VALUE=URI;X-ADDRESS=FobiZe Bremen Westerstraße 35 Bremen Bremen 28199 Deutschland;X-APPLE-RADIUS=500;X-TITLE=Westerstraße 35:geo:8.7973414,53.073616
END:VEVENT
BEGIN:VEVENT
DTSTART;TZID=Europe/Berlin:20220615T090000
DTEND;TZID=Europe/Berlin:20220620T140000
DTSTAMP:20260425T150409
CREATED:20220201T132325Z
LAST-MODIFIED:20220201T132325Z
UID:10000764-1655283600-1655733600@dgob.info
SUMMARY:Residential Lehrte
DESCRIPTION:Ortho-Bionomy® Residential mit Sada Hilde Bist und Dr. med. H.-U. Wegner. \nThema: Intensivseminar\, Wiederholungen\, neue Techniken.integrative Arbeit \nBitte direkt anmelden unter info@schneegass-consulting.de. \nSorry\, this entry is only available in Deutsch at the moment. \n\nDies ist keine Veranstaltung der DGOB – aber wir wollen gerne auf Veranstaltungen aufmerksam machen\, die wir für wichtig halten. Wir übernehmen keine Garantie für die Richtigkeit der Angaben\, bitte schauen Sie bei Fremdveranstaltungen immer auch bei den Anbietern selbst nach\, da wir eventuelle Termin- und Ortsverlegungen oder Absagen nicht in jedem Fall nachhalten können. Bitte achten Sie auch darauf\, dass der Großteil der Seminare kostenpflichtig ist. Vielen Dank!
URL:https://dgob.info/en/veranstaltung/residential-lehrte/
LOCATION:Seminarhaus Mahanbir\, Zum Roden 13\, Lehrte/Aligse\, Niedersachsen\, 31275\, Deutschland
CATEGORIES:Ausbildung,Residential
GEO:52.40111;9.9795028
X-APPLE-STRUCTURED-LOCATION;VALUE=URI;X-ADDRESS=Seminarhaus Mahanbir Zum Roden 13 Lehrte/Aligse Niedersachsen 31275 Deutschland;X-APPLE-RADIUS=500;X-TITLE=Zum Roden 13:geo:9.9795028,52.40111
END:VEVENT
BEGIN:VEVENT
DTSTART;TZID=Europe/Berlin:20220624T090000
DTEND;TZID=Europe/Berlin:20220625T170000
DTSTAMP:20260425T150409
CREATED:20220626T203114Z
LAST-MODIFIED:20220626T210805Z
UID:10000776-1656061200-1656176400@dgob.info
SUMMARY:Seminar 13
DESCRIPTION:Ausbildungskurs mit Christa Hegele-Mack. \nThema: Viszerale Techniken: Halsfaszien\, Lymphfluss\, Bronchien\, der Verdauungstrakt als funktionelle Einheit. \nSorry\, this entry is only available in Deutsch at the moment. \nBitte direkt anmelden unter info@ortho-bionomy.de  Weitere Informationen unter www.ortho-bionomy.de. \n\nSorry\, this entry is only available in Deutsch at the moment. \n\nDies ist keine Veranstaltung der DGOB – aber wir wollen gerne auf Veranstaltungen aufmerksam machen\, die wir für wichtig halten. Wir übernehmen keine Garantie für die Richtigkeit der Angaben\, bitte schauen Sie bei Fremdveranstaltungen immer auch bei den Anbietern selbst nach\, da wir eventuelle Termin- und Ortsverlegungen oder Absagen nicht in jedem Fall nachhalten können. Bitte achten Sie auch darauf\, dass der Großteil der Seminare kostenpflichtig ist. Vielen Dank!
URL:https://dgob.info/en/veranstaltung/seminar-13/
LOCATION:rehafit Fitnessstudio\, Lußweg 4\, Günzburg\, Bayern\, 89312
CATEGORIES:Ausbildung
GEO:48.4784749;10.2573777
X-APPLE-STRUCTURED-LOCATION;VALUE=URI;X-ADDRESS=rehafit Fitnessstudio Lußweg 4 Günzburg Bayern 89312;X-APPLE-RADIUS=500;X-TITLE=Lußweg 4:geo:10.2573777,48.4784749
END:VEVENT
BEGIN:VEVENT
DTSTART;TZID=Europe/Berlin:20220625T100000
DTEND;TZID=Europe/Berlin:20220626T180000
DTSTAMP:20260425T150409
CREATED:20211210T125243Z
LAST-MODIFIED:20211213T150428Z
UID:10000441-1656151200-1656266400@dgob.info
SUMMARY:Ortho-Bionomy® Phase 6\, Kurs 11
DESCRIPTION:Ausbildungskurs mit Cordelia Freitag und Assistenz Susanne Seidel. \nThema: Grundlagen der Phase 6\, Arbeit mit dem Energiefeld\, Phase 6 Reflexe. \nSorry\, this entry is only available in Deutsch at the moment. \nBitte direkt anmelden unter info@ortho-bionomy.de  Weitere Informationen unter www.ortho-bionomy.de. \n\nSorry\, this entry is only available in Deutsch at the moment. \n\nDies ist keine Veranstaltung der DGOB – aber wir wollen gerne auf Veranstaltungen aufmerksam machen\, die wir für wichtig halten. Wir übernehmen keine Garantie für die Richtigkeit der Angaben\, bitte schauen Sie bei Fremdveranstaltungen immer auch bei den Anbietern selbst nach\, da wir eventuelle Termin- und Ortsverlegungen oder Absagen nicht in jedem Fall nachhalten können. Bitte achten Sie auch darauf\, dass der Großteil der Seminare kostenpflichtig ist. Vielen Dank!
URL:https://dgob.info/en/veranstaltung/ortho-bionomy-basiskurs-2-2/
LOCATION:Praxis Balance Physiotherapie\, Stegemühlenweg 26\, Göttingen\, Niedersachsen\, 37083\, Deutschland
CATEGORIES:Ausbildung
GEO:51.5254;9.93689
X-APPLE-STRUCTURED-LOCATION;VALUE=URI;X-ADDRESS=Praxis Balance Physiotherapie Stegemühlenweg 26 Göttingen Niedersachsen 37083 Deutschland;X-APPLE-RADIUS=500;X-TITLE=Stegemühlenweg 26:geo:9.93689,51.5254
END:VEVENT
END:VCALENDAR