BEGIN:VCALENDAR
VERSION:2.0
PRODID:-//DGOB - ECPv6.15.20//NONSGML v1.0//EN
CALSCALE:GREGORIAN
METHOD:PUBLISH
X-WR-CALNAME:DGOB
X-ORIGINAL-URL:https://dgob.info/en
X-WR-CALDESC:Events for DGOB
REFRESH-INTERVAL;VALUE=DURATION:PT1H
X-Robots-Tag:noindex
X-PUBLISHED-TTL:PT1H
BEGIN:VTIMEZONE
TZID:Europe/Berlin
BEGIN:DAYLIGHT
TZOFFSETFROM:+0100
TZOFFSETTO:+0200
TZNAME:CEST
DTSTART:20210328T010000
END:DAYLIGHT
BEGIN:STANDARD
TZOFFSETFROM:+0200
TZOFFSETTO:+0100
TZNAME:CET
DTSTART:20211031T010000
END:STANDARD
BEGIN:DAYLIGHT
TZOFFSETFROM:+0100
TZOFFSETTO:+0200
TZNAME:CEST
DTSTART:20220327T010000
END:DAYLIGHT
BEGIN:STANDARD
TZOFFSETFROM:+0200
TZOFFSETTO:+0100
TZNAME:CET
DTSTART:20221030T010000
END:STANDARD
BEGIN:DAYLIGHT
TZOFFSETFROM:+0100
TZOFFSETTO:+0200
TZNAME:CEST
DTSTART:20230326T010000
END:DAYLIGHT
BEGIN:STANDARD
TZOFFSETFROM:+0200
TZOFFSETTO:+0100
TZNAME:CET
DTSTART:20231029T010000
END:STANDARD
END:VTIMEZONE
BEGIN:VEVENT
DTSTART;TZID=Europe/Berlin:20220114T090000
DTEND;TZID=Europe/Berlin:20220115T180000
DTSTAMP:20260426T000603
CREATED:20210927T194312Z
LAST-MODIFIED:20210927T194312Z
UID:10000433-1642150800-1642269600@dgob.info
SUMMARY:Seminar 1
DESCRIPTION:Ausbildungskurs mit Christa Hegele-Mack. \nThema: Grundlagen der Ortho-Bionomy® / therapeutische Schlüsselpunkte für 80% Ihrer Patienten mit HWS-\, BWS-\, Schulter-Nackenbeschwerden und Lumbalgien. \n16 Fortbildungspunkte. \nBitte direkt anmelden unter organisation@ortho-bionomy.de. Weitere Informationen unter www.ortho-bionomy.de. \nSorry\, this entry is only available in Deutsch at the moment. \n\nDies ist keine Veranstaltung der DGOB – aber wir wollen gerne auf Veranstaltungen aufmerksam machen\, die wir für wichtig halten. Wir übernehmen keine Garantie für die Richtigkeit der Angaben\, bitte schauen Sie bei Fremdveranstaltungen immer auch bei den Anbietern selbst nach\, da wir eventuelle Termin- und Ortsverlegungen oder Absagen nicht in jedem Fall nachhalten können. Bitte achten Sie auch darauf\, dass der Großteil der Seminare kostenpflichtig ist. Vielen Dank!
URL:https://dgob.info/en/veranstaltung/seminar-1/
LOCATION:rehafit Fitnessstudio\, Lußweg 4\, Günzburg\, Bayern\, 89312
CATEGORIES:Ausbildung
GEO:48.4784749;10.2573777
X-APPLE-STRUCTURED-LOCATION;VALUE=URI;X-ADDRESS=rehafit Fitnessstudio Lußweg 4 Günzburg Bayern 89312;X-APPLE-RADIUS=500;X-TITLE=Lußweg 4:geo:10.2573777,48.4784749
END:VEVENT
BEGIN:VEVENT
DTSTART;TZID=Europe/Berlin:20220114T090000
DTEND;TZID=Europe/Berlin:20220115T180000
DTSTAMP:20260426T000603
CREATED:20211118T095334Z
LAST-MODIFIED:20211118T095334Z
UID:10000748-1642150800-1642269600@dgob.info
SUMMARY:Seminar 1
DESCRIPTION:Ausbildungskurs mit Christa Hegele-Mack. \nThema: Grundlagen der Ortho-Bionomy® / therapeutische Schlüsselpunkte für 80% Ihrer Patienten mit HWS-\, BWS-\, Schulter-Nackenbeschwerden und Lumbalgien. \nAnmerkungen: 16 Fortbildungspunkte. \nSorry\, this entry is only available in Deutsch at the moment. \nBitte direkt anmelden unter info@ortho-bionomy.de  Weitere Informationen unter www.ortho-bionomy.de. \n\nSorry\, this entry is only available in Deutsch at the moment. \n\nDies ist keine Veranstaltung der DGOB – aber wir wollen gerne auf Veranstaltungen aufmerksam machen\, die wir für wichtig halten. Wir übernehmen keine Garantie für die Richtigkeit der Angaben\, bitte schauen Sie bei Fremdveranstaltungen immer auch bei den Anbietern selbst nach\, da wir eventuelle Termin- und Ortsverlegungen oder Absagen nicht in jedem Fall nachhalten können. Bitte achten Sie auch darauf\, dass der Großteil der Seminare kostenpflichtig ist. Vielen Dank!
URL:https://dgob.info/en/veranstaltung/seminar-1-3/
LOCATION:rehafit Fitnessstudio\, Lußweg 4\, Günzburg\, Bayern\, 89312
CATEGORIES:Ausbildung
GEO:48.4784749;10.2573777
X-APPLE-STRUCTURED-LOCATION;VALUE=URI;X-ADDRESS=rehafit Fitnessstudio Lußweg 4 Günzburg Bayern 89312;X-APPLE-RADIUS=500;X-TITLE=Lußweg 4:geo:10.2573777,48.4784749
END:VEVENT
BEGIN:VEVENT
DTSTART;TZID=Europe/Berlin:20220115T090000
DTEND;TZID=Europe/Berlin:20220116T180000
DTSTAMP:20260426T000603
CREATED:20211118T100203Z
LAST-MODIFIED:20211118T100203Z
UID:10000749-1642237200-1642356000@dgob.info
SUMMARY:Seminar 1
DESCRIPTION:Ausbildungskurs mit Susanne Seidel. \nThema: Grundlagen der Ortho-Bionomy® / therapeutische Schlüsselpunkte für 80% Ihrer Patienten mit HWS-\, BWS-\, Schulter-Nackenbeschwerden und Lumbalgien. \nAnmerkungen: 16 Fortbildungspunkte. \nSorry\, this entry is only available in Deutsch at the moment. \nBitte direkt anmelden unter info@ortho-bionomy.de  Weitere Informationen unter www.ortho-bionomy.de. \n\nSorry\, this entry is only available in Deutsch at the moment. \n\nDies ist keine Veranstaltung der DGOB – aber wir wollen gerne auf Veranstaltungen aufmerksam machen\, die wir für wichtig halten. Wir übernehmen keine Garantie für die Richtigkeit der Angaben\, bitte schauen Sie bei Fremdveranstaltungen immer auch bei den Anbietern selbst nach\, da wir eventuelle Termin- und Ortsverlegungen oder Absagen nicht in jedem Fall nachhalten können. Bitte achten Sie auch darauf\, dass der Großteil der Seminare kostenpflichtig ist. Vielen Dank!
URL:https://dgob.info/en/veranstaltung/seminar-1-4/
LOCATION:Praxis für Physiotherapie\, Schlossstraße\, Heilbronn\, Baden-Württemberg\, 74078\, Deutschland
CATEGORIES:Ausbildung
END:VEVENT
BEGIN:VEVENT
DTSTART;TZID=Europe/Berlin:20220117T090000
DTEND;TZID=Europe/Berlin:20220120T180000
DTSTAMP:20260426T000603
CREATED:20210927T193722Z
LAST-MODIFIED:20210927T193857Z
UID:10000432-1642410000-1642701600@dgob.info
SUMMARY:Basisseminar 1. Teil\, strukturelle und dynamische Techniken
DESCRIPTION:Ausbildungskurs mit Ulrike Volk und Dr. med. Klaus G. Weber. \nThema: Strukturelle Techniken zur Behandlung der HWS\, BWS\, Extremitäten\, Brustkorb mit Rippen\, Brustbein\, Schultergürtel\, Arme und Hände. \nTeilnahmevoraussetzung: Keine. Zusammen mit Basisseminar Teil 2 zu buchen. 32 Fortbildungspunkte. \nBitte direkt anmelden unter organisation@ortho-bionomy.de. Weitere Informationen unter www.ortho-bionomy.de. \nSorry\, this entry is only available in Deutsch at the moment. \n\nDies ist keine Veranstaltung der DGOB – aber wir wollen gerne auf Veranstaltungen aufmerksam machen\, die wir für wichtig halten. Wir übernehmen keine Garantie für die Richtigkeit der Angaben\, bitte schauen Sie bei Fremdveranstaltungen immer auch bei den Anbietern selbst nach\, da wir eventuelle Termin- und Ortsverlegungen oder Absagen nicht in jedem Fall nachhalten können. Bitte achten Sie auch darauf\, dass der Großteil der Seminare kostenpflichtig ist. Vielen Dank!
URL:https://dgob.info/en/veranstaltung/basisseminar-1-teil-strukturelle-und-dynamische-techniken/
LOCATION:Privatpraxis\, Metzelplatz 5\, Rottenburg\, Baden-Württemberg\, 72108\, Deutschland
CATEGORIES:Ausbildung
GEO:48.4765536;8.9353335
X-APPLE-STRUCTURED-LOCATION;VALUE=URI;X-ADDRESS=Privatpraxis Metzelplatz 5 Rottenburg Baden-Württemberg 72108 Deutschland;X-APPLE-RADIUS=500;X-TITLE=Metzelplatz 5:geo:8.9353335,48.4765536
END:VEVENT
BEGIN:VEVENT
DTSTART;TZID=Europe/Berlin:20220117T090000
DTEND;TZID=Europe/Berlin:20220120T180000
DTSTAMP:20260426T000603
CREATED:20211118T100737Z
LAST-MODIFIED:20211118T100812Z
UID:10000750-1642410000-1642701600@dgob.info
SUMMARY:Basisseminar 1. Teil\, strukturelle und dynamische Techniken
DESCRIPTION:Ausbildungskurs mit Ulrike Volk und Dr. med. Klaus G. Weber. \nThema: Strukturelle Techniken zur Behandlung der HWS\, BWS\, Extremitäten\, Brustkorb mit Rippen\, Brustbein\, Schultergürtel\, Arme und Hände. \nTeilnahmevoraussetzung: Keine. Zusammen mit Basisseminar Teil 2 zu buchen. 32 Fortbildungspunkte. \nSorry\, this entry is only available in Deutsch at the moment. \nBitte direkt anmelden unter info@ortho-bionomy.de  Weitere Informationen unter www.ortho-bionomy.de. \n\nSorry\, this entry is only available in Deutsch at the moment. \n\nDies ist keine Veranstaltung der DGOB – aber wir wollen gerne auf Veranstaltungen aufmerksam machen\, die wir für wichtig halten. Wir übernehmen keine Garantie für die Richtigkeit der Angaben\, bitte schauen Sie bei Fremdveranstaltungen immer auch bei den Anbietern selbst nach\, da wir eventuelle Termin- und Ortsverlegungen oder Absagen nicht in jedem Fall nachhalten können. Bitte achten Sie auch darauf\, dass der Großteil der Seminare kostenpflichtig ist. Vielen Dank!
URL:https://dgob.info/en/veranstaltung/basisseminar-1-teil-strukturelle-und-dynamische-techniken-2/
LOCATION:Privatpraxis\, Metzelplatz 5\, Rottenburg\, Baden-Württemberg\, 72108\, Deutschland
CATEGORIES:Ausbildung
GEO:48.4765536;8.9353335
X-APPLE-STRUCTURED-LOCATION;VALUE=URI;X-ADDRESS=Privatpraxis Metzelplatz 5 Rottenburg Baden-Württemberg 72108 Deutschland;X-APPLE-RADIUS=500;X-TITLE=Metzelplatz 5:geo:8.9353335,48.4765536
END:VEVENT
BEGIN:VEVENT
DTSTART;TZID=Europe/Berlin:20220122T090000
DTEND;TZID=Europe/Berlin:20220123T170000
DTSTAMP:20260426T000603
CREATED:20220201T162450Z
LAST-MODIFIED:20220201T162907Z
UID:10000769-1642842000-1642957200@dgob.info
SUMMARY:Kurs 4\, Emotionen und Ethik
DESCRIPTION:Ausbildungskurs mit Dr. med. Hans-Ulrich Wegner. \nThema: therap. Interaktion\, emotionale Reaktionen\, Lösungsstrategien in der Ortho-Bionomy. \nBitte direkt anmelden unter info@freieheilpraktiker.com. \nSorry\, this entry is only available in Deutsch at the moment. \n\nDies ist keine Veranstaltung der DGOB – aber wir wollen gerne auf Veranstaltungen aufmerksam machen\, die wir für wichtig halten. Wir übernehmen keine Garantie für die Richtigkeit der Angaben\, bitte schauen Sie bei Fremdveranstaltungen immer auch bei den Anbietern selbst nach\, da wir eventuelle Termin- und Ortsverlegungen oder Absagen nicht in jedem Fall nachhalten können. Bitte achten Sie auch darauf\, dass der Großteil der Seminare kostenpflichtig ist. Vielen Dank!
URL:https://dgob.info/en/veranstaltung/kurs-4-emotionen-und-ethik/
LOCATION:Freie Heilpraktiker (Düsseldorf)\, Benrather Schlossallee 49-53\, Düsseldorf\, Nordrhein-Westfalen\, 40597
CATEGORIES:Ausbildung
GEO:51.1624344;6.8612281
X-APPLE-STRUCTURED-LOCATION;VALUE=URI;X-ADDRESS=Freie Heilpraktiker (Düsseldorf) Benrather Schlossallee 49-53 Düsseldorf Nordrhein-Westfalen 40597;X-APPLE-RADIUS=500;X-TITLE=Benrather Schlossallee 49-53:geo:6.8612281,51.1624344
END:VEVENT
BEGIN:VEVENT
DTSTART;TZID=Europe/Berlin:20220129T090000
DTEND;TZID=Europe/Berlin:20220130T180000
DTSTAMP:20260426T000603
CREATED:20210927T194937Z
LAST-MODIFIED:20211108T073307Z
UID:10000434-1643446800-1643565600@dgob.info
SUMMARY:Seminar 1
DESCRIPTION:Ausbildungskurs mit Kurt Mölich. \nThema: Grundlagen der Ortho-Bionomy® / therapeutische Schlüsselpunkte für 80% Ihrer Patienten mit HWS-\, BWS-\, Schulter-Nackenbeschwerden und Lumbalgien. \nBitte direkt anmelden unter organisation@ortho-bionomy.de. Weitere Informationen unter www.ortho-bionomy.de. \nSorry\, this entry is only available in Deutsch at the moment. \n\nDies ist keine Veranstaltung der DGOB – aber wir wollen gerne auf Veranstaltungen aufmerksam machen\, die wir für wichtig halten. Wir übernehmen keine Garantie für die Richtigkeit der Angaben\, bitte schauen Sie bei Fremdveranstaltungen immer auch bei den Anbietern selbst nach\, da wir eventuelle Termin- und Ortsverlegungen oder Absagen nicht in jedem Fall nachhalten können. Bitte achten Sie auch darauf\, dass der Großteil der Seminare kostenpflichtig ist. Vielen Dank!
URL:https://dgob.info/en/veranstaltung/seminar-1-2/
LOCATION:Praxis Kurt Mölich\, Wilhelmstraße 34\, Lahnstein\, Rheinland-Pfalz\, 56112\, Deutschland
CATEGORIES:Ausbildung
GEO:50.3023419;7.608029
X-APPLE-STRUCTURED-LOCATION;VALUE=URI;X-ADDRESS=Praxis Kurt Mölich Wilhelmstraße 34 Lahnstein Rheinland-Pfalz 56112 Deutschland;X-APPLE-RADIUS=500;X-TITLE=Wilhelmstraße 34:geo:7.608029,50.3023419
END:VEVENT
BEGIN:VEVENT
DTSTART;TZID=Europe/Berlin:20220129T090000
DTEND;TZID=Europe/Berlin:20220130T180000
DTSTAMP:20260426T000603
CREATED:20211118T101438Z
LAST-MODIFIED:20211118T102243Z
UID:10000751-1643446800-1643565600@dgob.info
SUMMARY:Seminar 1
DESCRIPTION:Ausbildungskurs mit Kurt Mölich. \nThema: Grundlagen der Ortho-Bionomy® / therapeutische Schlüsselpunkte für 80% Ihrer Patienten mit HWS-\, BWS-\, Schulter-Nackenbeschwerden und Lumbalgien. \nSorry\, this entry is only available in Deutsch at the moment. \nBitte direkt anmelden unter info@ortho-bionomy.de  Weitere Informationen unter www.ortho-bionomy.de. \n\nSorry\, this entry is only available in Deutsch at the moment. \n\nDies ist keine Veranstaltung der DGOB – aber wir wollen gerne auf Veranstaltungen aufmerksam machen\, die wir für wichtig halten. Wir übernehmen keine Garantie für die Richtigkeit der Angaben\, bitte schauen Sie bei Fremdveranstaltungen immer auch bei den Anbietern selbst nach\, da wir eventuelle Termin- und Ortsverlegungen oder Absagen nicht in jedem Fall nachhalten können. Bitte achten Sie auch darauf\, dass der Großteil der Seminare kostenpflichtig ist. Vielen Dank!
URL:https://dgob.info/en/veranstaltung/seminar-1-5/
LOCATION:Praxis Kurt Mölich\, Wilhelmstraße 34\, Lahnstein\, Rheinland-Pfalz\, 56112\, Deutschland
CATEGORIES:Ausbildung
GEO:50.3023419;7.608029
X-APPLE-STRUCTURED-LOCATION;VALUE=URI;X-ADDRESS=Praxis Kurt Mölich Wilhelmstraße 34 Lahnstein Rheinland-Pfalz 56112 Deutschland;X-APPLE-RADIUS=500;X-TITLE=Wilhelmstraße 34:geo:7.608029,50.3023419
END:VEVENT
BEGIN:VEVENT
DTSTART;TZID=Europe/Berlin:20220129T090000
DTEND;TZID=Europe/Berlin:20220130T180000
DTSTAMP:20260426T000603
CREATED:20211118T112059Z
LAST-MODIFIED:20211118T112159Z
UID:10000757-1643446800-1643565600@dgob.info
SUMMARY:Seminar 1
DESCRIPTION:Ausbildungskurs mit Kurt Mölich. \nThema: Grundlagen der Ortho-Bionomy®\, therapeutische Schlüsselpunkte für 80 % der Patienten mit HWS-\, BWS-\, Schulter-\, und Nackenbeschwerden sowie Lumbalgien. \nBitte Anmeldung per Email unter cranio-moelich@gmx.de oder\ntelefonisch unter 02621-1899838 (AB). \nSorry\, this entry is only available in Deutsch at the moment. \n\nDies ist keine Veranstaltung der DGOB – aber wir wollen gerne auf Veranstaltungen aufmerksam machen\, die wir für wichtig halten. Wir übernehmen keine Garantie für die Richtigkeit der Angaben\, bitte schauen Sie bei Fremdveranstaltungen immer auch bei den Anbietern selbst nach\, da wir eventuelle Termin- und Ortsverlegungen oder Absagen nicht in jedem Fall nachhalten können. Bitte achten Sie auch darauf\, dass der Großteil der Seminare kostenpflichtig ist. Vielen Dank!
URL:https://dgob.info/en/veranstaltung/seminar-1-6/
LOCATION:Praxis Kurt Mölich\, Wilhelmstraße 34\, Lahnstein\, Rheinland-Pfalz\, 56112\, Deutschland
CATEGORIES:Ausbildung
GEO:50.3023419;7.608029
X-APPLE-STRUCTURED-LOCATION;VALUE=URI;X-ADDRESS=Praxis Kurt Mölich Wilhelmstraße 34 Lahnstein Rheinland-Pfalz 56112 Deutschland;X-APPLE-RADIUS=500;X-TITLE=Wilhelmstraße 34:geo:7.608029,50.3023419
END:VEVENT
BEGIN:VEVENT
DTSTART;TZID=Europe/Berlin:20220129T090000
DTEND;TZID=Europe/Berlin:20220130T180000
DTSTAMP:20260426T000603
CREATED:20220201T115331Z
LAST-MODIFIED:20220201T121426Z
UID:10000443-1643446800-1643565600@dgob.info
SUMMARY:Seminar 1
DESCRIPTION:Ausbildungskurs mit Kurt Mölich. \nThema: Seminar 1 \nBitte direkt anmelden unter organisation@ortho-bionomy.de. Weitere Informationen unter www.ortho-bionomy.de. \nSorry\, this entry is only available in Deutsch at the moment. \n\nDies ist keine Veranstaltung der DGOB – aber wir wollen gerne auf Veranstaltungen aufmerksam machen\, die wir für wichtig halten. Wir übernehmen keine Garantie für die Richtigkeit der Angaben\, bitte schauen Sie bei Fremdveranstaltungen immer auch bei den Anbietern selbst nach\, da wir eventuelle Termin- und Ortsverlegungen oder Absagen nicht in jedem Fall nachhalten können. Bitte achten Sie auch darauf\, dass der Großteil der Seminare kostenpflichtig ist. Vielen Dank!
URL:https://dgob.info/en/veranstaltung/seminar-1-7/
LOCATION:Praxis Kurt Mölich\, Wilhelmstraße 34\, Lahnstein\, Rheinland-Pfalz\, 56112\, Deutschland
CATEGORIES:Ausbildung
GEO:50.3023419;7.608029
X-APPLE-STRUCTURED-LOCATION;VALUE=URI;X-ADDRESS=Praxis Kurt Mölich Wilhelmstraße 34 Lahnstein Rheinland-Pfalz 56112 Deutschland;X-APPLE-RADIUS=500;X-TITLE=Wilhelmstraße 34:geo:7.608029,50.3023419
END:VEVENT
END:VCALENDAR