BEGIN:VCALENDAR
VERSION:2.0
PRODID:-//DGOB - ECPv6.15.20//NONSGML v1.0//EN
CALSCALE:GREGORIAN
METHOD:PUBLISH
X-WR-CALNAME:DGOB
X-ORIGINAL-URL:https://dgob.info/en
X-WR-CALDESC:Events for DGOB
REFRESH-INTERVAL;VALUE=DURATION:PT1H
X-Robots-Tag:noindex
X-PUBLISHED-TTL:PT1H
BEGIN:VTIMEZONE
TZID:Europe/Berlin
BEGIN:DAYLIGHT
TZOFFSETFROM:+0100
TZOFFSETTO:+0200
TZNAME:CEST
DTSTART:20200329T010000
END:DAYLIGHT
BEGIN:STANDARD
TZOFFSETFROM:+0200
TZOFFSETTO:+0100
TZNAME:CET
DTSTART:20201025T010000
END:STANDARD
BEGIN:DAYLIGHT
TZOFFSETFROM:+0100
TZOFFSETTO:+0200
TZNAME:CEST
DTSTART:20210328T010000
END:DAYLIGHT
BEGIN:STANDARD
TZOFFSETFROM:+0200
TZOFFSETTO:+0100
TZNAME:CET
DTSTART:20211031T010000
END:STANDARD
BEGIN:DAYLIGHT
TZOFFSETFROM:+0100
TZOFFSETTO:+0200
TZNAME:CEST
DTSTART:20220327T010000
END:DAYLIGHT
BEGIN:STANDARD
TZOFFSETFROM:+0200
TZOFFSETTO:+0100
TZNAME:CET
DTSTART:20221030T010000
END:STANDARD
END:VTIMEZONE
BEGIN:VEVENT
DTSTART;TZID=Europe/Berlin:20211129T090000
DTEND;TZID=Europe/Berlin:20211202T180000
DTSTAMP:20260426T015925
CREATED:20201014T115350Z
LAST-MODIFIED:20201014T115858Z
UID:10000419-1638176400-1638468000@dgob.info
SUMMARY:Seminar 8/9\, strukturelle und dynamische Aufbautechniken\, neurolymphatische Reflextherapie
DESCRIPTION:Ausbildungskurs mit Stefan Andrecht und Kurt Mölich. \nThema: Strukturelle und dynamische Aufbautechniken: HWS (Scaleni\, segmentale Translationsbelastungen\, Sell’sche Punkte\, Behandlung im Überhang) / Sondertechniken für die obere BWS / Thorax und einzelne Rippen / Schlüsselbein / Schulter. Neurolymphatische Reflextherapie\, Reflextechniken n. Chapman und Goodheart für die Lenden-Beckenregion / Isotonie / Isometrie / Gangschulung für viele Probleme mit Bewegungsabläufen\, Gelenken und Statik / Haltungsarbeit. \nTeilnahmevoraussetzung: Seminar 5 oder 6. 24 Fortbildungspunkte. \nSorry\, this entry is only available in Deutsch at the moment. \nBitte direkt anmelden unter info@ortho-bionomy.de  Weitere Informationen unter www.ortho-bionomy.de. \n\nSorry\, this entry is only available in Deutsch at the moment. \n\nDies ist keine Veranstaltung der DGOB – aber wir wollen gerne auf Veranstaltungen aufmerksam machen\, die wir für wichtig halten. Wir übernehmen keine Garantie für die Richtigkeit der Angaben\, bitte schauen Sie bei Fremdveranstaltungen immer auch bei den Anbietern selbst nach\, da wir eventuelle Termin- und Ortsverlegungen oder Absagen nicht in jedem Fall nachhalten können. Bitte achten Sie auch darauf\, dass der Großteil der Seminare kostenpflichtig ist. Vielen Dank!
URL:https://dgob.info/en/veranstaltung/seminar-8-9-strukturelle-und-dynamische-aufbautechniken-neurolymphatische-reflextherapie-2/
LOCATION:Privatpraxis\, Metzelplatz 5\, Rottenburg\, Baden-Württemberg\, 72108\, Deutschland
CATEGORIES:Ausbildung
GEO:48.4765536;8.9353335
X-APPLE-STRUCTURED-LOCATION;VALUE=URI;X-ADDRESS=Privatpraxis Metzelplatz 5 Rottenburg Baden-Württemberg 72108 Deutschland;X-APPLE-RADIUS=500;X-TITLE=Metzelplatz 5:geo:8.9353335,48.4765536
END:VEVENT
BEGIN:VEVENT
DTSTART;TZID=Europe/Berlin:20211204T090000
DTEND;TZID=Europe/Berlin:20211204T180000
DTSTAMP:20260426T015925
CREATED:20211108T072908Z
LAST-MODIFIED:20211108T072908Z
UID:10000438-1638608400-1638640800@dgob.info
SUMMARY:Ortho-Bionomy® Einführungsseminar
DESCRIPTION:Ausbildungskurs mit Cordelia Freitag. \nThema: Einführung in die Methode der Ortho-Bionomy® und ihre Prinzipien\, Allgemeine Behandlung der Wirbelsäule und des Beckens\, Beispielhaft Behandlung innerer Organe über Chapman Zonen. \nAnmerkung: In Zusammenarbeit der Ortho-Bionomy®-Akademie\, des Deutschen Institutes für Ortho-Bionomy® und dem FobiZe Bremen. \nBitte direkt anmelden unter post@fobize.de. Weitere Informationen unter www.fobize.de. \nSorry\, this entry is only available in Deutsch at the moment. \n\nDies ist keine Veranstaltung der DGOB – aber wir wollen gerne auf Veranstaltungen aufmerksam machen\, die wir für wichtig halten. Wir übernehmen keine Garantie für die Richtigkeit der Angaben\, bitte schauen Sie bei Fremdveranstaltungen immer auch bei den Anbietern selbst nach\, da wir eventuelle Termin- und Ortsverlegungen oder Absagen nicht in jedem Fall nachhalten können. Bitte achten Sie auch darauf\, dass der Großteil der Seminare kostenpflichtig ist. Vielen Dank!
URL:https://dgob.info/en/veranstaltung/ortho-bionomy-einfuehrungsseminar-3/
LOCATION:FobiZe Bremen\, Westerstraße 35\, Bremen\, Bremen\, 28199\, Deutschland
CATEGORIES:Ausbildung
GEO:53.073616;8.7973414
X-APPLE-STRUCTURED-LOCATION;VALUE=URI;X-ADDRESS=FobiZe Bremen Westerstraße 35 Bremen Bremen 28199 Deutschland;X-APPLE-RADIUS=500;X-TITLE=Westerstraße 35:geo:8.7973414,53.073616
END:VEVENT
BEGIN:VEVENT
DTSTART;TZID=Europe/Berlin:20211210T090000
DTEND;TZID=Europe/Berlin:20211212T170000
DTSTAMP:20260426T015925
CREATED:20210107T214051Z
LAST-MODIFIED:20210107T214118Z
UID:10000740-1639126800-1639328400@dgob.info
SUMMARY:Kurs 10\, Chapman und Isometrie/Isotonie
DESCRIPTION:Ausbildungskurs mit Dr. med. Hans-Ulrich Wegner. \nThema: Chapman-Punkte\, Becken-Schilddrüsen-Syndrom\, Isometrie und Isotonie in der OB. \nBitte direkt anmelden unter gesundheit@dr-astrid-quack.de. \nSorry\, this entry is only available in Deutsch at the moment. \n\nDies ist keine Veranstaltung der DGOB – aber wir wollen gerne auf Veranstaltungen aufmerksam machen\, die wir für wichtig halten. Wir übernehmen keine Garantie für die Richtigkeit der Angaben\, bitte schauen Sie bei Fremdveranstaltungen immer auch bei den Anbietern selbst nach\, da wir eventuelle Termin- und Ortsverlegungen oder Absagen nicht in jedem Fall nachhalten können. Bitte achten Sie auch darauf\, dass der Großteil der Seminare kostenpflichtig ist. Vielen Dank!
URL:https://dgob.info/en/veranstaltung/kurs-10-chapman-und-isometrie-isotonie/
LOCATION:Haus der Heilkunst\, Julianenstraße 18\, Bad Eilsen\, Niedersachsen\, 31707\, Deutschland
CATEGORIES:Ausbildung
GEO:52.2434;9.09625
X-APPLE-STRUCTURED-LOCATION;VALUE=URI;X-ADDRESS=Haus der Heilkunst Julianenstraße 18 Bad Eilsen Niedersachsen 31707 Deutschland;X-APPLE-RADIUS=500;X-TITLE=Julianenstraße 18:geo:9.09625,52.2434
END:VEVENT
BEGIN:VEVENT
DTSTART;TZID=Europe/Berlin:20211217T090000
DTEND;TZID=Europe/Berlin:20211218T180000
DTSTAMP:20260426T015925
CREATED:20210711T153857Z
LAST-MODIFIED:20210711T153857Z
UID:10000747-1639731600-1639850400@dgob.info
SUMMARY:Seminar 7
DESCRIPTION:Ausbildungskurs mit Susanne Seidel. \nThema: Vertiefung der dynamischen Reflexe\, Aufbautechniken für Beckenfehlstellungen\, strukturelle und dynamische ISG Behandlung\, Symphyse und Lendenwirbelsäule. \n16 Fortbildungspunkte \nBitte direkt anmelden unter info@ortho-bionomy.de. Weitere Informationen unter www.ortho-bionomy.de. \nSorry\, this entry is only available in Deutsch at the moment. \n\nDies ist keine Veranstaltung der DGOB – aber wir wollen gerne auf Veranstaltungen aufmerksam machen\, die wir für wichtig halten. Wir übernehmen keine Garantie für die Richtigkeit der Angaben\, bitte schauen Sie bei Fremdveranstaltungen immer auch bei den Anbietern selbst nach\, da wir eventuelle Termin- und Ortsverlegungen oder Absagen nicht in jedem Fall nachhalten können. Bitte achten Sie auch darauf\, dass der Großteil der Seminare kostenpflichtig ist. Vielen Dank!
URL:https://dgob.info/en/veranstaltung/seminar-7/
LOCATION:rehafit Fitnessstudio\, Lußweg 4\, Günzburg\, Bayern\, 89312
CATEGORIES:Ausbildung
GEO:48.4784749;10.2573777
X-APPLE-STRUCTURED-LOCATION;VALUE=URI;X-ADDRESS=rehafit Fitnessstudio Lußweg 4 Günzburg Bayern 89312;X-APPLE-RADIUS=500;X-TITLE=Lußweg 4:geo:10.2573777,48.4784749
END:VEVENT
BEGIN:VEVENT
DTSTART;TZID=Europe/Berlin:20211217T090000
DTEND;TZID=Europe/Berlin:20211219T180000
DTSTAMP:20260426T015925
CREATED:20210927T192817Z
LAST-MODIFIED:20211108T073317Z
UID:10000431-1639731600-1639936800@dgob.info
SUMMARY:Neuraltherapie für Ortho-Bionomisten
DESCRIPTION:Weiterbildungskurs mit Dr. med. Klaus G. Weber. \nThema: Die Neuraltherapie hat sich in unserer Praxis als ausgezeichnete Ergänzung der Ortho-Bionomy® in Diagnostik und Therapie bewährt. Die in diesem Seminar theoretisch  und praktisch vermittelten Kenntnisse der Lokal- und Segmenttherapie (mit kleinen Ausflügen ins Störfeldthema) erweitern unser Verständnis der ortho-bionomischen Behandlungsmöglichkeiten. Umgekehrt wird durch unsere ortho-bionomische Erfahrung die Neuraltherapie für unsere Patientinnen* angenehmer und effektiver. \n8 Fortbildungspunkte. \nBitte direkt anmelden unter organisation@ortho-bionomy.de. Weitere Informationen unter www.ortho-bionomy.de. \nSorry\, this entry is only available in Deutsch at the moment. \n\nDies ist keine Veranstaltung der DGOB – aber wir wollen gerne auf Veranstaltungen aufmerksam machen\, die wir für wichtig halten. Wir übernehmen keine Garantie für die Richtigkeit der Angaben\, bitte schauen Sie bei Fremdveranstaltungen immer auch bei den Anbietern selbst nach\, da wir eventuelle Termin- und Ortsverlegungen oder Absagen nicht in jedem Fall nachhalten können. Bitte achten Sie auch darauf\, dass der Großteil der Seminare kostenpflichtig ist. Vielen Dank!
URL:https://dgob.info/en/veranstaltung/neuraltherapie-fuer-ortho-bionomisten/
LOCATION:Privatpraxis\, Metzelplatz 5\, Rottenburg\, Baden-Württemberg\, 72108\, Deutschland
CATEGORIES:Weiterbildung
GEO:48.4765536;8.9353335
X-APPLE-STRUCTURED-LOCATION;VALUE=URI;X-ADDRESS=Privatpraxis Metzelplatz 5 Rottenburg Baden-Württemberg 72108 Deutschland;X-APPLE-RADIUS=500;X-TITLE=Metzelplatz 5:geo:8.9353335,48.4765536
END:VEVENT
END:VCALENDAR