BEGIN:VCALENDAR
VERSION:2.0
PRODID:-//DGOB - ECPv6.15.20//NONSGML v1.0//EN
CALSCALE:GREGORIAN
METHOD:PUBLISH
X-WR-CALNAME:DGOB
X-ORIGINAL-URL:https://dgob.info/en
X-WR-CALDESC:Events for DGOB
REFRESH-INTERVAL;VALUE=DURATION:PT1H
X-Robots-Tag:noindex
X-PUBLISHED-TTL:PT1H
BEGIN:VTIMEZONE
TZID:Europe/Berlin
BEGIN:DAYLIGHT
TZOFFSETFROM:+0100
TZOFFSETTO:+0200
TZNAME:CEST
DTSTART:20200329T010000
END:DAYLIGHT
BEGIN:STANDARD
TZOFFSETFROM:+0200
TZOFFSETTO:+0100
TZNAME:CET
DTSTART:20201025T010000
END:STANDARD
BEGIN:DAYLIGHT
TZOFFSETFROM:+0100
TZOFFSETTO:+0200
TZNAME:CEST
DTSTART:20210328T010000
END:DAYLIGHT
BEGIN:STANDARD
TZOFFSETFROM:+0200
TZOFFSETTO:+0100
TZNAME:CET
DTSTART:20211031T010000
END:STANDARD
BEGIN:DAYLIGHT
TZOFFSETFROM:+0100
TZOFFSETTO:+0200
TZNAME:CEST
DTSTART:20220327T010000
END:DAYLIGHT
BEGIN:STANDARD
TZOFFSETFROM:+0200
TZOFFSETTO:+0100
TZNAME:CET
DTSTART:20221030T010000
END:STANDARD
END:VTIMEZONE
BEGIN:VEVENT
DTSTART;TZID=Europe/Berlin:20211105T090000
DTEND;TZID=Europe/Berlin:20211106T180000
DTSTAMP:20260426T035331
CREATED:20211108T073124Z
LAST-MODIFIED:20211108T073124Z
UID:10000439-1636102800-1636221600@dgob.info
SUMMARY:Seminar 6\, dynamische Techniken
DESCRIPTION:Ausbildungskurs mit Christa Hegele-Mack. \nThema: Wahrnehmung und Bedeutung von Spontanbewegungen / Körperrhythmen / Wirbelsäule und Beckenring / Nabelbehandlung / dynamische Reflexe im Übergang von struktureller Funktion zur energetischen Organisation (On-Going-Action\, Volery-Syndrom) / Chakren. \nTeilnamevoraussetzungen: 2 strukturelle Seminare. 8 Fortbildungspunkte. \nBitte direkt anmelden unter info@ortho-bionomy.de. Weitere Informationen unter www.ortho-bionomy.de. \nSorry\, this entry is only available in Deutsch at the moment. \n\nDies ist keine Veranstaltung der DGOB – aber wir wollen gerne auf Veranstaltungen aufmerksam machen\, die wir für wichtig halten. Wir übernehmen keine Garantie für die Richtigkeit der Angaben\, bitte schauen Sie bei Fremdveranstaltungen immer auch bei den Anbietern selbst nach\, da wir eventuelle Termin- und Ortsverlegungen oder Absagen nicht in jedem Fall nachhalten können. Bitte achten Sie auch darauf\, dass der Großteil der Seminare kostenpflichtig ist. Vielen Dank!
URL:https://dgob.info/en/veranstaltung/seminar-6-dynamische-techniken/
LOCATION:rehafit Fitnessstudio\, Lußweg 4\, Günzburg\, Bayern\, 89312
CATEGORIES:Ausbildung
GEO:48.4784749;10.2573777
X-APPLE-STRUCTURED-LOCATION;VALUE=URI;X-ADDRESS=rehafit Fitnessstudio Lußweg 4 Günzburg Bayern 89312;X-APPLE-RADIUS=500;X-TITLE=Lußweg 4:geo:10.2573777,48.4784749
END:VEVENT
BEGIN:VEVENT
DTSTART;TZID=Europe/Berlin:20211105T190000
DTEND;TZID=Europe/Berlin:20211107T130000
DTSTAMP:20260426T035331
CREATED:20200113T120258Z
LAST-MODIFIED:20200831T115034Z
UID:10000680-1636138800-1636290000@dgob.info
SUMMARY:Atlas und mehr.... „Aus der Praxis für die Praxis“
DESCRIPTION:Weiterbildungskurs mit Ursula Schwarz. \nUrsula Schwarz ist eine langjährige Practitionerin und Phase 6 Lehrerin der Ortho-Bionomy. \nThema: Ihr erlebt Ortho-Biomony in allen Phasen während\neines möglichen Behandlungsablaufes in der Praxis. \nWir werden eine sehr effektive\, neue Atlastechnik kennen lernen\, zusammen mit der Behandlung der Halswirbelsäule und den dazugehörigen Elementen: Kiefergelenke\, Hals-Faszien\, Techniken am Kranium und vieles mehr werden Thema sein.\nWie kann ich eine Behandlung gut gestalten und begleiten und wie bauen wir die Phase 6 Reflexe in die Praxis ein? Dabei werden wir viel Raum für unsere persönliche Selbsterfahrung erleben und Raum für Fragen öffnen. \nTeilnahmevoraussetzungen: Ortho-Bionomy Practitioner. Kosten: € 290\,- \nBitte direkt anmelden unter Andreas.Sabine.Fritz@gmail.com. Weitere Informationen unter www.manuelle-tier-therapie.de. \nSorry\, this entry is only available in Deutsch at the moment. \n\nDies ist keine Veranstaltung der DGOB – aber wir wollen gerne auf Veranstaltungen aufmerksam machen\, die wir für wichtig halten. Wir übernehmen keine Garantie für die Richtigkeit der Angaben\, bitte schauen Sie bei Fremdveranstaltungen immer auch bei den Anbietern selbst nach\, da wir eventuelle Termin- und Ortsverlegungen oder Absagen nicht in jedem Fall nachhalten können. Bitte achten Sie auch darauf\, dass der Großteil der Seminare kostenpflichtig ist. Vielen Dank!
URL:https://dgob.info/en/veranstaltung/atlas-und-mehr-aus-der-praxis-fuer-die-praxis/
LOCATION:Seminarraum Wintergarten des Astor-Stift Pflegezentrums\, Winterstr. 8\, Walldorf\, Baden-Württemberg\, 69190\, Deutschland
CATEGORIES:Weiterbildung
GEO:49.30271;8.64001
X-APPLE-STRUCTURED-LOCATION;VALUE=URI;X-ADDRESS=Seminarraum Wintergarten des Astor-Stift Pflegezentrums Winterstr. 8 Walldorf Baden-Württemberg 69190 Deutschland;X-APPLE-RADIUS=500;X-TITLE=Winterstr. 8:geo:8.64001,49.30271
END:VEVENT
BEGIN:VEVENT
DTSTART;TZID=Europe/Berlin:20211106T090000
DTEND;TZID=Europe/Berlin:20211107T180000
DTSTAMP:20260426T035331
CREATED:20200528T132657Z
LAST-MODIFIED:20210927T190722Z
UID:10000717-1636189200-1636308000@dgob.info
SUMMARY:Seminar 9\, neurolymphatische Reflextherapie\, Gang\, Haltung
DESCRIPTION:Ausbildungskurs mit Christa Hegele-Mack. \nThema: Reflextechniken n. Chapman und Goodheart für die Lenden-Beckenregion / Isotonie / Isometrie / Gangschulung für viele Probleme mit Bewegungsabläufen\, Gelenken und Statik / Haltungsarbeit. \nTeilnahmevoraussetzung: 1 Seminar strukturelle Techniken. 8 Fortbildungspunkte. \nSorry\, this entry is only available in Deutsch at the moment. \nBitte direkt anmelden unter info@ortho-bionomy.de  Weitere Informationen unter www.ortho-bionomy.de. \n\nSorry\, this entry is only available in Deutsch at the moment. \n\nDies ist keine Veranstaltung der DGOB – aber wir wollen gerne auf Veranstaltungen aufmerksam machen\, die wir für wichtig halten. Wir übernehmen keine Garantie für die Richtigkeit der Angaben\, bitte schauen Sie bei Fremdveranstaltungen immer auch bei den Anbietern selbst nach\, da wir eventuelle Termin- und Ortsverlegungen oder Absagen nicht in jedem Fall nachhalten können. Bitte achten Sie auch darauf\, dass der Großteil der Seminare kostenpflichtig ist. Vielen Dank!
URL:https://dgob.info/en/veranstaltung/seminar-9-neurolymphatische-reflextherapie-gang-haltung-2/
LOCATION:Praxis Volkmuth\, Im Städle 20\, Niederstotzingen\, Baden-Württemberg\, 89168\, Deutschland
CATEGORIES:Ausbildung
GEO:48.54073;10.23321
X-APPLE-STRUCTURED-LOCATION;VALUE=URI;X-ADDRESS=Praxis Volkmuth Im Städle 20 Niederstotzingen Baden-Württemberg 89168 Deutschland;X-APPLE-RADIUS=500;X-TITLE=Im Städle 20:geo:10.23321,48.54073
END:VEVENT
BEGIN:VEVENT
DTSTART;TZID=Europe/Berlin:20211108T090000
DTEND;TZID=Europe/Berlin:20211111T180000
DTSTAMP:20260426T035331
CREATED:20201014T114234Z
LAST-MODIFIED:20201014T115908Z
UID:10000417-1636362000-1636653600@dgob.info
SUMMARY:Seminar 14/16\, kraniomandibuläre Techniken
DESCRIPTION:Ausbildungskurs mit Christa Hegele-Mack und Ulrike Volk. \nThema: Anatomie des Schädels\, Behandlung der Suturen\, der Kiefergelenke und des Gesichtsschädels. \nTeilnahmevoraussetzung: Seminar 5 und 6. 24 Fortbildungspunkte. \nSorry\, this entry is only available in Deutsch at the moment. \nBitte direkt anmelden unter info@ortho-bionomy.de  Weitere Informationen unter www.ortho-bionomy.de. \n\nSorry\, this entry is only available in Deutsch at the moment. \n\nDies ist keine Veranstaltung der DGOB – aber wir wollen gerne auf Veranstaltungen aufmerksam machen\, die wir für wichtig halten. Wir übernehmen keine Garantie für die Richtigkeit der Angaben\, bitte schauen Sie bei Fremdveranstaltungen immer auch bei den Anbietern selbst nach\, da wir eventuelle Termin- und Ortsverlegungen oder Absagen nicht in jedem Fall nachhalten können. Bitte achten Sie auch darauf\, dass der Großteil der Seminare kostenpflichtig ist. Vielen Dank!
URL:https://dgob.info/en/veranstaltung/seminar-14-16-kraniomandibulaere-techniken-4/
LOCATION:Privatpraxis\, Metzelplatz 5\, Rottenburg\, Baden-Württemberg\, 72108\, Deutschland
CATEGORIES:Ausbildung
GEO:48.4765536;8.9353335
X-APPLE-STRUCTURED-LOCATION;VALUE=URI;X-ADDRESS=Privatpraxis Metzelplatz 5 Rottenburg Baden-Württemberg 72108 Deutschland;X-APPLE-RADIUS=500;X-TITLE=Metzelplatz 5:geo:8.9353335,48.4765536
END:VEVENT
BEGIN:VEVENT
DTSTART;TZID=Europe/Berlin:20211115T090000
DTEND;TZID=Europe/Berlin:20211118T180000
DTSTAMP:20260426T035331
CREATED:20201014T114811Z
LAST-MODIFIED:20201014T114811Z
UID:10000418-1636966800-1637258400@dgob.info
SUMMARY:Familienstellen und Refraiming in der Ortho-Bionomy®
DESCRIPTION:Ausbildungskurs mit Dr. med. Klaus G. Weber. \nThema: Manche Erlebnisse/Erfahrungen führen zu einer anhaltenden Verwirrung\, weil sie einen „Nährboden“ auf der Grundlage systemischer Belastungen vorfinden. Die Verwirrungs-Auflösung liegt nicht unserer Geschichte als Individuum sondern wird erst möglich durch die Einbeziehung systemischer Elemente\, zum Teil über mehrere Generationen hinweg. Ciny Time Zone und Familienstellen unter Nutzung des ortho-bionomischen Phase 6 Verständnisses erleichtern die Konfliktklärung. Ergänzend gehört das Einüben unterschiedlicher Refraiming-„Geschichten“ zu den Grundlagen ortho-bionomischer Traumatherapie. Für unterschiedliche Lebensalter und Stresssituationen gibt es oft archätypische Refraiming-Elemente die wir miteinander erarbeiten werden. \nTeilnahmevoraussetzung: Ein Seminar energetische Techniken. 8 Fortbildungspunkte. \nSorry\, this entry is only available in Deutsch at the moment. \nBitte direkt anmelden unter info@ortho-bionomy.de  Weitere Informationen unter www.ortho-bionomy.de. \n\nSorry\, this entry is only available in Deutsch at the moment. \n\nDies ist keine Veranstaltung der DGOB – aber wir wollen gerne auf Veranstaltungen aufmerksam machen\, die wir für wichtig halten. Wir übernehmen keine Garantie für die Richtigkeit der Angaben\, bitte schauen Sie bei Fremdveranstaltungen immer auch bei den Anbietern selbst nach\, da wir eventuelle Termin- und Ortsverlegungen oder Absagen nicht in jedem Fall nachhalten können. Bitte achten Sie auch darauf\, dass der Großteil der Seminare kostenpflichtig ist. Vielen Dank!
URL:https://dgob.info/en/veranstaltung/familienstellen-und-refraiming-in-der-ortho-bionomy/
LOCATION:Privatpraxis\, Metzelplatz 5\, Rottenburg\, Baden-Württemberg\, 72108\, Deutschland
CATEGORIES:Weiterbildung
GEO:48.4765536;8.9353335
X-APPLE-STRUCTURED-LOCATION;VALUE=URI;X-ADDRESS=Privatpraxis Metzelplatz 5 Rottenburg Baden-Württemberg 72108 Deutschland;X-APPLE-RADIUS=500;X-TITLE=Metzelplatz 5:geo:8.9353335,48.4765536
END:VEVENT
BEGIN:VEVENT
DTSTART;TZID=Europe/Berlin:20211119T150000
DTEND;TZID=Europe/Berlin:20211121T130000
DTSTAMP:20260426T035331
CREATED:20210529T102200Z
LAST-MODIFIED:20210529T102200Z
UID:10000742-1637334000-1637499600@dgob.info
SUMMARY:Exploration of Movement pattern mit interessanten Sondertechniken aus der Praxis
DESCRIPTION:Sonderseminar mit Ursula Schwarz. \nThema: Exploration of Movement Pattern (=Erkunden von Bewegungsmustern) ist eine erweiterte und verfeinerte Version des uns bekannten Rockings. Beim feinen Erkunden der Bewegungsmuster erkennen wir den momentanen Ausdruck des Körpers. Wir benutzen dieses Wissen um unseren Behandlungsaufbau zu planen. Im Kurs erlernen wir das Erspüren der Muster und darauf stimmen wir unsere Behandlung individuell ab. So finden wir immer wieder den „roten Faden“ in unserer Behandlung und können uns jederzeit innerhalb der Behandlung neu orientieren. Wir können dieses Wissen zum einen für „diagnostische“ Zwecke nutzen\, aber auch sofort in die Behandlung integrieren\, sowie das Behandlungsergebnis verifizieren.\nDazu kommen neue Sondertechniken für die HWS: inklusive einer neuen Atlastechnik\, Behandlung bei Armneuralgien\, Rippenwirbelgelenke\, Kreuzbein\, Schulter\, Hüfte und LWS.\nAußerdem ist der Kurs leicht und fließend und macht viel Spaß\, da es viel zu bewegen und zu fühlen gibt (für den Behandler und den Liegenden). \nTeilnahmevoraussetzungen: mind. Phase 5. \nKosten: 290\,- € \, zusätzlich:  Tagespauschale für den  Raum von 5\,- € (entfällt bei Übernachtung) sowie aryuvedisch-vegetarisch- laktosefreie Vollverpflegung für zwei Tage 64\,- . \nBitte direkt anmelden unter sabine.welzig@web.de. \nSorry\, this entry is only available in Deutsch at the moment. \n\nDies ist keine Veranstaltung der DGOB – aber wir wollen gerne auf Veranstaltungen aufmerksam machen\, die wir für wichtig halten. Wir übernehmen keine Garantie für die Richtigkeit der Angaben\, bitte schauen Sie bei Fremdveranstaltungen immer auch bei den Anbietern selbst nach\, da wir eventuelle Termin- und Ortsverlegungen oder Absagen nicht in jedem Fall nachhalten können. Bitte achten Sie auch darauf\, dass der Großteil der Seminare kostenpflichtig ist. Vielen Dank!
URL:https://dgob.info/en/veranstaltung/exploration-of-movement-pattern-mit-interessanten-sondertechniken-aus-der-praxis/
LOCATION:Seminarhaus Mahanbir\, Zum Roden 13\, Lehrte/Aligse\, Niedersachsen\, 31275\, Deutschland
CATEGORIES:Fortbildung,Weiterbildung
GEO:52.40111;9.9795028
X-APPLE-STRUCTURED-LOCATION;VALUE=URI;X-ADDRESS=Seminarhaus Mahanbir Zum Roden 13 Lehrte/Aligse Niedersachsen 31275 Deutschland;X-APPLE-RADIUS=500;X-TITLE=Zum Roden 13:geo:9.9795028,52.40111
END:VEVENT
BEGIN:VEVENT
DTSTART;TZID=Europe/Berlin:20211125T180000
DTEND;TZID=Europe/Berlin:20211125T210000
DTSTAMP:20260426T035331
CREATED:20201218T111719Z
LAST-MODIFIED:20201218T111719Z
UID:10000733-1637863200-1637874000@dgob.info
SUMMARY:Facharbeitskreis Ortho-Bionomy®
DESCRIPTION:Facharbeitskreis Ortho-Bionomy® mit Sada H. Bist. \nBitte direkt anmelden unter info@freieheilpraktiker.com. \nSorry\, this entry is only available in Deutsch at the moment. \n\nDies ist keine Veranstaltung der DGOB – aber wir wollen gerne auf Veranstaltungen aufmerksam machen\, die wir für wichtig halten. Wir übernehmen keine Garantie für die Richtigkeit der Angaben\, bitte schauen Sie bei Fremdveranstaltungen immer auch bei den Anbietern selbst nach\, da wir eventuelle Termin- und Ortsverlegungen oder Absagen nicht in jedem Fall nachhalten können. Bitte achten Sie auch darauf\, dass der Großteil der Seminare kostenpflichtig ist. Vielen Dank!
URL:https://dgob.info/en/veranstaltung/facharbeitskreis-ortho-bionomy-2/2021-11-25/
LOCATION:Freie Heilpraktiker (Düsseldorf)\, Benrather Schlossallee 49-53\, Düsseldorf\, Nordrhein-Westfalen\, 40597
CATEGORIES:Arbeitskreis
GEO:51.1624344;6.8612281
X-APPLE-STRUCTURED-LOCATION;VALUE=URI;X-ADDRESS=Freie Heilpraktiker (Düsseldorf) Benrather Schlossallee 49-53 Düsseldorf Nordrhein-Westfalen 40597;X-APPLE-RADIUS=500;X-TITLE=Benrather Schlossallee 49-53:geo:6.8612281,51.1624344
END:VEVENT
BEGIN:VEVENT
DTSTART;TZID=Europe/Berlin:20211127T090000
DTEND;TZID=Europe/Berlin:20211128T170000
DTSTAMP:20260426T035331
CREATED:20210107T213054Z
LAST-MODIFIED:20210107T213054Z
UID:10000739-1638003600-1638118800@dgob.info
SUMMARY:Kurs 7\, Aufbaukurs Phase 4 und 5
DESCRIPTION:Ausbildungskurs mit Dr. med. Hans-Ulrich Wegner. \nThema: Kombination Phase 4 und 5\, Wiederholung u. neue Techniken\, bes. oberer Körperhälfte \nBitte direkt anmelden unter info@freieheilpraktiker.com. \nSorry\, this entry is only available in Deutsch at the moment. \n\nDies ist keine Veranstaltung der DGOB – aber wir wollen gerne auf Veranstaltungen aufmerksam machen\, die wir für wichtig halten. Wir übernehmen keine Garantie für die Richtigkeit der Angaben\, bitte schauen Sie bei Fremdveranstaltungen immer auch bei den Anbietern selbst nach\, da wir eventuelle Termin- und Ortsverlegungen oder Absagen nicht in jedem Fall nachhalten können. Bitte achten Sie auch darauf\, dass der Großteil der Seminare kostenpflichtig ist. Vielen Dank!
URL:https://dgob.info/en/veranstaltung/kurs-7-aufbaukurs-phase-4-und-5-2/
LOCATION:Freie Heilpraktiker (Düsseldorf)\, Benrather Schlossallee 49-53\, Düsseldorf\, Nordrhein-Westfalen\, 40597
CATEGORIES:Ausbildung
GEO:51.1624344;6.8612281
X-APPLE-STRUCTURED-LOCATION;VALUE=URI;X-ADDRESS=Freie Heilpraktiker (Düsseldorf) Benrather Schlossallee 49-53 Düsseldorf Nordrhein-Westfalen 40597;X-APPLE-RADIUS=500;X-TITLE=Benrather Schlossallee 49-53:geo:6.8612281,51.1624344
END:VEVENT
BEGIN:VEVENT
DTSTART;TZID=Europe/Berlin:20211129T090000
DTEND;TZID=Europe/Berlin:20211202T180000
DTSTAMP:20260426T035331
CREATED:20201014T115350Z
LAST-MODIFIED:20201014T115858Z
UID:10000419-1638176400-1638468000@dgob.info
SUMMARY:Seminar 8/9\, strukturelle und dynamische Aufbautechniken\, neurolymphatische Reflextherapie
DESCRIPTION:Ausbildungskurs mit Stefan Andrecht und Kurt Mölich. \nThema: Strukturelle und dynamische Aufbautechniken: HWS (Scaleni\, segmentale Translationsbelastungen\, Sell’sche Punkte\, Behandlung im Überhang) / Sondertechniken für die obere BWS / Thorax und einzelne Rippen / Schlüsselbein / Schulter. Neurolymphatische Reflextherapie\, Reflextechniken n. Chapman und Goodheart für die Lenden-Beckenregion / Isotonie / Isometrie / Gangschulung für viele Probleme mit Bewegungsabläufen\, Gelenken und Statik / Haltungsarbeit. \nTeilnahmevoraussetzung: Seminar 5 oder 6. 24 Fortbildungspunkte. \nSorry\, this entry is only available in Deutsch at the moment. \nBitte direkt anmelden unter info@ortho-bionomy.de  Weitere Informationen unter www.ortho-bionomy.de. \n\nSorry\, this entry is only available in Deutsch at the moment. \n\nDies ist keine Veranstaltung der DGOB – aber wir wollen gerne auf Veranstaltungen aufmerksam machen\, die wir für wichtig halten. Wir übernehmen keine Garantie für die Richtigkeit der Angaben\, bitte schauen Sie bei Fremdveranstaltungen immer auch bei den Anbietern selbst nach\, da wir eventuelle Termin- und Ortsverlegungen oder Absagen nicht in jedem Fall nachhalten können. Bitte achten Sie auch darauf\, dass der Großteil der Seminare kostenpflichtig ist. Vielen Dank!
URL:https://dgob.info/en/veranstaltung/seminar-8-9-strukturelle-und-dynamische-aufbautechniken-neurolymphatische-reflextherapie-2/
LOCATION:Privatpraxis\, Metzelplatz 5\, Rottenburg\, Baden-Württemberg\, 72108\, Deutschland
CATEGORIES:Ausbildung
GEO:48.4765536;8.9353335
X-APPLE-STRUCTURED-LOCATION;VALUE=URI;X-ADDRESS=Privatpraxis Metzelplatz 5 Rottenburg Baden-Württemberg 72108 Deutschland;X-APPLE-RADIUS=500;X-TITLE=Metzelplatz 5:geo:8.9353335,48.4765536
END:VEVENT
END:VCALENDAR