BEGIN:VCALENDAR
VERSION:2.0
PRODID:-//DGOB - ECPv6.15.20//NONSGML v1.0//EN
CALSCALE:GREGORIAN
METHOD:PUBLISH
X-ORIGINAL-URL:https://dgob.info/en
X-WR-CALDESC:Events for DGOB
REFRESH-INTERVAL;VALUE=DURATION:PT1H
X-Robots-Tag:noindex
X-PUBLISHED-TTL:PT1H
BEGIN:VTIMEZONE
TZID:Europe/Berlin
BEGIN:DAYLIGHT
TZOFFSETFROM:+0100
TZOFFSETTO:+0200
TZNAME:CEST
DTSTART:20200329T010000
END:DAYLIGHT
BEGIN:STANDARD
TZOFFSETFROM:+0200
TZOFFSETTO:+0100
TZNAME:CET
DTSTART:20201025T010000
END:STANDARD
BEGIN:DAYLIGHT
TZOFFSETFROM:+0100
TZOFFSETTO:+0200
TZNAME:CEST
DTSTART:20210328T010000
END:DAYLIGHT
BEGIN:STANDARD
TZOFFSETFROM:+0200
TZOFFSETTO:+0100
TZNAME:CET
DTSTART:20211031T010000
END:STANDARD
BEGIN:DAYLIGHT
TZOFFSETFROM:+0100
TZOFFSETTO:+0200
TZNAME:CEST
DTSTART:20220327T010000
END:DAYLIGHT
BEGIN:STANDARD
TZOFFSETFROM:+0200
TZOFFSETTO:+0100
TZNAME:CET
DTSTART:20221030T010000
END:STANDARD
END:VTIMEZONE
BEGIN:VEVENT
DTSTART;TZID=Europe/Berlin:20210927T100000
DTEND;TZID=Europe/Berlin:20211001T170000
DTSTAMP:20260426T054443
CREATED:20210711T122136Z
LAST-MODIFIED:20210711T123917Z
UID:10000743-1632736800-1633107600@dgob.info
SUMMARY:Residential 2021 Lauingen -  strukturelle\, dynamische und energetische Techniken
DESCRIPTION:Residential mit Cordelia Freitag und Ulrike Volk. \nThema: 5-tägiges Intensivseminar an einem besonderen Tagungsort für die Vertiefung und Sonderthemen: Strukturelle\, dynamische und energetische Techniken. \nSpätestens in herausfordernden Zeiten wird deutlich\, wie wichtig auch die Selbstfürsorge ist. Deshalb werden wir dieser in unserem Residential besonderen Raum geben.\nAnsonsten orientieren wir uns wie immer an euren Bedürfnissen und Wünschen in der gesamten Bandbreite der Ortho-Bionomy®.\nWir freuen uns auf euch! \nTeilnahmevoraussetzung: 3 Seminare strukturelle Techniken + Phase 5 Kurs. 24 Fortbildungspunkte. \nBitte direkt anmelden unter nfo@ortho-bionomy.de. Weitere Informationen unter www.ortho-bionomy-akademie.de. \nSorry\, this entry is only available in Deutsch at the moment. \n\nDies ist keine Veranstaltung der DGOB – aber wir wollen gerne auf Veranstaltungen aufmerksam machen\, die wir für wichtig halten. Wir übernehmen keine Garantie für die Richtigkeit der Angaben\, bitte schauen Sie bei Fremdveranstaltungen immer auch bei den Anbietern selbst nach\, da wir eventuelle Termin- und Ortsverlegungen oder Absagen nicht in jedem Fall nachhalten können. Bitte achten Sie auch darauf\, dass der Großteil der Seminare kostenpflichtig ist. Vielen Dank!
URL:https://dgob.info/en/veranstaltung/residential-2/
LOCATION:Gut Helmeringen\, Helmeringer Weg 43\, Lauingen/Donau\, Bayern\, 89415\, Deutschland
CATEGORIES:Ausbildung,Residential
GEO:48.5535303;10.4230634
X-APPLE-STRUCTURED-LOCATION;VALUE=URI;X-ADDRESS=Gut Helmeringen Helmeringer Weg 43 Lauingen/Donau Bayern 89415 Deutschland;X-APPLE-RADIUS=500;X-TITLE=Helmeringer Weg 43:geo:10.4230634,48.5535303
END:VEVENT
BEGIN:VEVENT
DTSTART;TZID=Europe/Berlin:20210929T090000
DTEND;TZID=Europe/Berlin:20211003T130000
DTSTAMP:20260426T054443
CREATED:20200115T120235Z
LAST-MODIFIED:20210930T180618Z
UID:10000684-1632906000-1633266000@dgob.info
SUMMARY:DGOB Jahrestagung 2021\, Hofheim Unterfranken
DESCRIPTION:Dieses Jahr freuen wir uns auf einerseits auf Ursula Schwarz\, die uns an drei Tagen eine Einführung in die Säuglingsbehandlung mit Ortho-Bionomy geben wird und auf Brigitte Osburg\, die uns Zusammenhänge zwischen dem Kiefergelenk und dem Körper aufzeigen wird. \nAm Sonntag findet\, wie üblich\, unsere Mitgliederversammlung statt. \nUrsula ist Physiotherapeutin\, arbeitet in ihrer Privatpraxis für Ortho-Bionomy in Bad Schönborn und unterrichtet seit 2001 als Lehrerin für Ortho-Bionomy. \nWir werden Unterschiede in der Behandlung von Erwachsenen und Säuglingen/Kleinkindern kennenlernen\, allgemeine Informationen über die motorische Entwicklung des Säuglings im ersten Jahr erhalten und wir erlernen einfache Ortho-Bionomische Techniken zur Behandlungen von Säuglingen und Kleinkindern. Dies ist nur ein kleine Vorgeschmack auf das Seminar. \nTeilnahmevorraussetzungen: Phase 4\, ein Kurs Phase 5. \nFür das Samstagsseminar konnten wir Brigitte Osburg gewinnen. Brigitte ist ebenso Physiotherapeutin in eigener Praxis in Rödental und unterrichtet seit 2011 als Lehrerin für Ortho-Bionomy. \nIm Tagesseminar werden wir Spannendes über das Kiefergelenk und die Zusammenhänge im Körper erfahren\, sowie hilfreiche Behandlungstechniken und Übungen praktizieren. \nWir freuen uns auf eine schöne und erfolgreiche Jahresversammlung mit Euch! \n  \n​
URL:https://dgob.info/en/veranstaltung/dgob-jahrestagung-2020-hofheim-unterfranken/
LOCATION:Seminarhaus Schloss Bettenburg\, Manau 22\, Hofheim/Unterfranken\, Bayern\, 97461\, Deutschland
CATEGORIES:Jahrestagung,Mitgliederversammlung,Weiterbildung
GEO:50.15414;10.55506
X-APPLE-STRUCTURED-LOCATION;VALUE=URI;X-ADDRESS=Seminarhaus Schloss Bettenburg Manau 22 Hofheim/Unterfranken Bayern 97461 Deutschland;X-APPLE-RADIUS=500;X-TITLE=Manau 22:geo:10.55506,50.15414
END:VEVENT
BEGIN:VEVENT
DTSTART;TZID=Europe/Berlin:20211001T090000
DTEND;TZID=Europe/Berlin:20211002T180000
DTSTAMP:20260426T054443
CREATED:20210711T131535Z
LAST-MODIFIED:20210711T131535Z
UID:10000745-1633078800-1633197600@dgob.info
SUMMARY:Atem- und Herzbeschwerden nach Corona\, Unfällen und OP´s
DESCRIPTION:Weiterbildungskurs mit Dr. med. Klaus G. Weber. \nThema: Die Spätfolgen – selbst einer symptomarmen Corona-Infektion – wie Atemnot\, chronische Erschöpfung und Herzbeschwerden\, finden wir auch nach anderen Infektionen\, Thoraxprellungen\, Rippenbrüchen und Herzoperationen. Die Ortho-Bionomy® bietet ein weites Spektrum lokaler\, reflektorischer\, funktioneller Techniken von der Phase 4 bis Phase 6 mit denen wir Unterstützung anbieten können. \nTeilnahmevoraussetzung: 2 Seminare dynamische Techniken bzw. 1 Residential. 8 Fortbildungspunkte. \nBitte direkt anmelden unter organisation@ortho-bionomy.de. Weitere Informationen unter www.ortho-bionomy.de. \nSorry\, this entry is only available in Deutsch at the moment. \n\nDies ist keine Veranstaltung der DGOB – aber wir wollen gerne auf Veranstaltungen aufmerksam machen\, die wir für wichtig halten. Wir übernehmen keine Garantie für die Richtigkeit der Angaben\, bitte schauen Sie bei Fremdveranstaltungen immer auch bei den Anbietern selbst nach\, da wir eventuelle Termin- und Ortsverlegungen oder Absagen nicht in jedem Fall nachhalten können. Bitte achten Sie auch darauf\, dass der Großteil der Seminare kostenpflichtig ist. Vielen Dank!
URL:https://dgob.info/en/veranstaltung/atem-und-herzbeschwerden-nach-corona-unfaellen-und-ops/
LOCATION:Privatpraxis\, Metzelplatz 5\, Rottenburg\, Baden-Württemberg\, 72108\, Deutschland
CATEGORIES:Weiterbildung
GEO:48.4765536;8.9353335
X-APPLE-STRUCTURED-LOCATION;VALUE=URI;X-ADDRESS=Privatpraxis Metzelplatz 5 Rottenburg Baden-Württemberg 72108 Deutschland;X-APPLE-RADIUS=500;X-TITLE=Metzelplatz 5:geo:8.9353335,48.4765536
END:VEVENT
BEGIN:VEVENT
DTSTART;TZID=Europe/Berlin:20211001T090000
DTEND;TZID=Europe/Berlin:20211005T180000
DTSTAMP:20260426T054443
CREATED:20200528T133029Z
LAST-MODIFIED:20200528T133029Z
UID:10000718-1633078800-1633456800@dgob.info
SUMMARY:Residential 2021 Hechingen\,  strukturelle\, dynamische und energetische Techniken
DESCRIPTION:Ausbildungskurs mit Michaela Wiese und Dr. med. Klaus G. Weber. \nThema: 5-tägiges Intensivseminar an einem besonderen Tagungsort für die Vertiefung und Sonderthemen: Strukturelle\, dynamische und energetische Techniken. \nTeilnahmevoraussetzung: 3 Seminare strukturelle Techniken. \nSorry\, this entry is only available in Deutsch at the moment. \nBitte direkt anmelden unter info@ortho-bionomy.de  Weitere Informationen unter www.ortho-bionomy.de. \n\nSorry\, this entry is only available in Deutsch at the moment. \n\nDies ist keine Veranstaltung der DGOB – aber wir wollen gerne auf Veranstaltungen aufmerksam machen\, die wir für wichtig halten. Wir übernehmen keine Garantie für die Richtigkeit der Angaben\, bitte schauen Sie bei Fremdveranstaltungen immer auch bei den Anbietern selbst nach\, da wir eventuelle Termin- und Ortsverlegungen oder Absagen nicht in jedem Fall nachhalten können. Bitte achten Sie auch darauf\, dass der Großteil der Seminare kostenpflichtig ist. Vielen Dank!
URL:https://dgob.info/en/veranstaltung/residential-2021-hechingen-strukturelle-dynamische-und-energetische-techniken/
LOCATION:Bildungshaus St. Luzen\, Klostersteige 6\, Hechingen\, Baden-Württemberg\, 72379\, Deutschland
CATEGORIES:Ausbildung,Residential
GEO:48.35832;8.97144
X-APPLE-STRUCTURED-LOCATION;VALUE=URI;X-ADDRESS=Bildungshaus St. Luzen Klostersteige 6 Hechingen Baden-Württemberg 72379 Deutschland;X-APPLE-RADIUS=500;X-TITLE=Klostersteige 6:geo:8.97144,48.35832
END:VEVENT
BEGIN:VEVENT
DTSTART;TZID=Europe/Berlin:20211008T090000
DTEND;TZID=Europe/Berlin:20211009T180000
DTSTAMP:20260426T054443
CREATED:20201014T113144Z
LAST-MODIFIED:20210927T191232Z
UID:10000415-1633683600-1633802400@dgob.info
SUMMARY:Mc Kenzie und Maitland für Ortho-Bionomisten
DESCRIPTION:Weiterbildungskurs mit Christa Hegele-Mack. \nThema: Im Seminar werden wirkungsvolle Untersuchungs- und Behandlungstechniken aus den manuellen Techniken nach McKenzie und Maitland vorgestellt\, die sich gut in die Ortho-Bionomy® integrieren lassen. Wir lernen diese Konzepte kennen und üben geeignete Techniken nach den Behandlungsprinzipien der Ortho-Bionomy® anzupassen und zu integrieren. \nTeilnahmevoraussetzung: Ortho-Bionomy® Kenntnisse. 16 Fortbildungspunkte. \nSorry\, this entry is only available in Deutsch at the moment. \nBitte direkt anmelden unter info@ortho-bionomy.de  Weitere Informationen unter www.ortho-bionomy.de. \n\nSorry\, this entry is only available in Deutsch at the moment. \n\nDies ist keine Veranstaltung der DGOB – aber wir wollen gerne auf Veranstaltungen aufmerksam machen\, die wir für wichtig halten. Wir übernehmen keine Garantie für die Richtigkeit der Angaben\, bitte schauen Sie bei Fremdveranstaltungen immer auch bei den Anbietern selbst nach\, da wir eventuelle Termin- und Ortsverlegungen oder Absagen nicht in jedem Fall nachhalten können. Bitte achten Sie auch darauf\, dass der Großteil der Seminare kostenpflichtig ist. Vielen Dank!
URL:https://dgob.info/en/veranstaltung/mc-kenzie-und-maitland-fuer-ortho-bionomisten/
LOCATION:rehafit Fitnessstudio\, Lußweg 4\, Günzburg\, Bayern\, 89312
CATEGORIES:Weiterbildung
GEO:48.4784749;10.2573777
X-APPLE-STRUCTURED-LOCATION;VALUE=URI;X-ADDRESS=rehafit Fitnessstudio Lußweg 4 Günzburg Bayern 89312;X-APPLE-RADIUS=500;X-TITLE=Lußweg 4:geo:10.2573777,48.4784749
END:VEVENT
BEGIN:VEVENT
DTSTART;TZID=Europe/Berlin:20211009T090000
DTEND;TZID=Europe/Berlin:20211010T180000
DTSTAMP:20260426T054443
CREATED:20200528T133350Z
LAST-MODIFIED:20200528T133350Z
UID:10000719-1633770000-1633888800@dgob.info
SUMMARY:Seminar 13\, viszerale Techniken
DESCRIPTION:Ausbildungskurs mit Susanne Seidel. \nThema: Halsfaszien\, Lymphfluss\, Bronchien\, der Verdauungstrakt als funktionelle Einheit. \nTeilnahmevoraussetzung: 2 Seminare dynamische Techniken oder ein Residential. 16 Fortbildungspunkte. \nSorry\, this entry is only available in Deutsch at the moment. \nBitte direkt anmelden unter info@ortho-bionomy.de  Weitere Informationen unter www.ortho-bionomy.de. \n\nSorry\, this entry is only available in Deutsch at the moment. \n\nDies ist keine Veranstaltung der DGOB – aber wir wollen gerne auf Veranstaltungen aufmerksam machen\, die wir für wichtig halten. Wir übernehmen keine Garantie für die Richtigkeit der Angaben\, bitte schauen Sie bei Fremdveranstaltungen immer auch bei den Anbietern selbst nach\, da wir eventuelle Termin- und Ortsverlegungen oder Absagen nicht in jedem Fall nachhalten können. Bitte achten Sie auch darauf\, dass der Großteil der Seminare kostenpflichtig ist. Vielen Dank!
URL:https://dgob.info/en/veranstaltung/seminar-13-viszerale-techniken/
LOCATION:Praxis Balance Physiotherapie\, Stegemühlenweg 26\, Göttingen\, Niedersachsen\, 37083\, Deutschland
CATEGORIES:Ausbildung
GEO:51.5254;9.93689
X-APPLE-STRUCTURED-LOCATION;VALUE=URI;X-ADDRESS=Praxis Balance Physiotherapie Stegemühlenweg 26 Göttingen Niedersachsen 37083 Deutschland;X-APPLE-RADIUS=500;X-TITLE=Stegemühlenweg 26:geo:9.93689,51.5254
END:VEVENT
BEGIN:VEVENT
DTSTART;TZID=Europe/Berlin:20211018T090000
DTEND;TZID=Europe/Berlin:20211021T180000
DTSTAMP:20260426T054443
CREATED:20201014T113849Z
LAST-MODIFIED:20201014T113849Z
UID:10000416-1634547600-1634839200@dgob.info
SUMMARY:Basisseminar 2. Teil\, strukturelle und dynamische Techniken
DESCRIPTION:Ausbildungskurs mit Michaela Wiese und Dr. med. Klaus G. Weber. \nThema: Strukturelle und dynamische Techniken: Lendenwirbelsäule\, Beckenring mit Schambeinfuge und ISG\, Hüften\, Knie\, Achillessehne\, Füße\, Hallux valgus\, Integration und Bewegungsmuster\, dynamische Arbeiten u.a. Schulterblatt\, Kreuzbein\, Becken\, dynamische Reflexe\, Narbenbehandlung. \nTeilnahmevoraussetzung: keine. Zusammen mit Basisseminar Teil 1 zu buchen. 24 Fortbildungspunkte. \nSorry\, this entry is only available in Deutsch at the moment. \nBitte direkt anmelden unter info@ortho-bionomy.de  Weitere Informationen unter www.ortho-bionomy.de. \n\nSorry\, this entry is only available in Deutsch at the moment. \n\nDies ist keine Veranstaltung der DGOB – aber wir wollen gerne auf Veranstaltungen aufmerksam machen\, die wir für wichtig halten. Wir übernehmen keine Garantie für die Richtigkeit der Angaben\, bitte schauen Sie bei Fremdveranstaltungen immer auch bei den Anbietern selbst nach\, da wir eventuelle Termin- und Ortsverlegungen oder Absagen nicht in jedem Fall nachhalten können. Bitte achten Sie auch darauf\, dass der Großteil der Seminare kostenpflichtig ist. Vielen Dank!
URL:https://dgob.info/en/veranstaltung/basisseminar-2-teil-strukturelle-und-dynamische-techniken-2/
LOCATION:Privatpraxis\, Metzelplatz 5\, Rottenburg\, Baden-Württemberg\, 72108\, Deutschland
CATEGORIES:Ausbildung
GEO:48.4765536;8.9353335
X-APPLE-STRUCTURED-LOCATION;VALUE=URI;X-ADDRESS=Privatpraxis Metzelplatz 5 Rottenburg Baden-Württemberg 72108 Deutschland;X-APPLE-RADIUS=500;X-TITLE=Metzelplatz 5:geo:8.9353335,48.4765536
END:VEVENT
BEGIN:VEVENT
DTSTART;TZID=Europe/Berlin:20211022T090000
DTEND;TZID=Europe/Berlin:20211024T170000
DTSTAMP:20260426T054443
CREATED:20210107T211523Z
LAST-MODIFIED:20210107T211523Z
UID:10000738-1634893200-1635094800@dgob.info
SUMMARY:Kurs 6\, Dynamische Techniken Phase 5
DESCRIPTION:Ausbildungskurs mit Dr. med. Hans-Ulrich Wegner. \nThema: Qualitäten der Energie\, Verbindung Struktur und Bewegung\, weitere Reflexe. \nBitte direkt anmelden unter gesundheit@dr-astrid-quack.de. \nSorry\, this entry is only available in Deutsch at the moment. \n\nDies ist keine Veranstaltung der DGOB – aber wir wollen gerne auf Veranstaltungen aufmerksam machen\, die wir für wichtig halten. Wir übernehmen keine Garantie für die Richtigkeit der Angaben\, bitte schauen Sie bei Fremdveranstaltungen immer auch bei den Anbietern selbst nach\, da wir eventuelle Termin- und Ortsverlegungen oder Absagen nicht in jedem Fall nachhalten können. Bitte achten Sie auch darauf\, dass der Großteil der Seminare kostenpflichtig ist. Vielen Dank!
URL:https://dgob.info/en/veranstaltung/kurs-6-dynamische-techniken-phase-5-3/
LOCATION:Haus der Heilkunst\, Julianenstraße 18\, Bad Eilsen\, Niedersachsen\, 31707\, Deutschland
CATEGORIES:Ausbildung
GEO:52.2434;9.09625
X-APPLE-STRUCTURED-LOCATION;VALUE=URI;X-ADDRESS=Haus der Heilkunst Julianenstraße 18 Bad Eilsen Niedersachsen 31707 Deutschland;X-APPLE-RADIUS=500;X-TITLE=Julianenstraße 18:geo:9.09625,52.2434
END:VEVENT
BEGIN:VEVENT
DTSTART;TZID=Europe/Berlin:20211023T090000
DTEND;TZID=Europe/Berlin:20211026T180000
DTSTAMP:20260426T054443
CREATED:20190924T063533Z
LAST-MODIFIED:20210414T082315Z
UID:10000660-1634979600-1635271200@dgob.info
SUMMARY:Ortho-Bionomy® Basisseminar 1
DESCRIPTION:Ausbildungskurs mit Cordelia Freitag\, Susanne Seidel und Kurt Mölich. \nThema: Grundlagen der Ortho-Bionomy®\, Arbeit mit der Körperstruktur\, der Körperenergie und den Bewegungsimpulsen\, Behandlung von HWS\, Schultergürtel\, oberen Extremitäten\, BWS und Thorax. \nAnmerkung: In Zusammenarbeit der Ortho-Bionomy®\,-Akademie\, des Deutschen Institutes für Ortho-Bionomy® und dem FobiZe Bremen. \nBitte direkt anmelden unter post@fobize.de oder www.fobize.de. \nSorry\, this entry is only available in Deutsch at the moment. \n\nDies ist keine Veranstaltung der DGOB – aber wir wollen gerne auf Veranstaltungen aufmerksam machen\, die wir für wichtig halten. Wir übernehmen keine Garantie für die Richtigkeit der Angaben\, bitte schauen Sie bei Fremdveranstaltungen immer auch bei den Anbietern selbst nach\, da wir eventuelle Termin- und Ortsverlegungen oder Absagen nicht in jedem Fall nachhalten können. Bitte achten Sie auch darauf\, dass der Großteil der Seminare kostenpflichtig ist. Vielen Dank!
URL:https://dgob.info/en/veranstaltung/ortho-bionomy-basisseminar-1/
LOCATION:FobiZe Bremen\, Westerstraße 35\, Bremen\, Bremen\, 28199\, Deutschland
CATEGORIES:Ausbildung
GEO:53.073616;8.7973414
X-APPLE-STRUCTURED-LOCATION;VALUE=URI;X-ADDRESS=FobiZe Bremen Westerstraße 35 Bremen Bremen 28199 Deutschland;X-APPLE-RADIUS=500;X-TITLE=Westerstraße 35:geo:8.7973414,53.073616
END:VEVENT
END:VCALENDAR