BEGIN:VCALENDAR
VERSION:2.0
PRODID:-//DGOB - ECPv6.15.20//NONSGML v1.0//EN
CALSCALE:GREGORIAN
METHOD:PUBLISH
X-WR-CALNAME:DGOB
X-ORIGINAL-URL:https://dgob.info/en
X-WR-CALDESC:Events for DGOB
REFRESH-INTERVAL;VALUE=DURATION:PT1H
X-Robots-Tag:noindex
X-PUBLISHED-TTL:PT1H
BEGIN:VTIMEZONE
TZID:Europe/Berlin
BEGIN:DAYLIGHT
TZOFFSETFROM:+0100
TZOFFSETTO:+0200
TZNAME:CEST
DTSTART:20250330T010000
END:DAYLIGHT
BEGIN:STANDARD
TZOFFSETFROM:+0200
TZOFFSETTO:+0100
TZNAME:CET
DTSTART:20251026T010000
END:STANDARD
BEGIN:DAYLIGHT
TZOFFSETFROM:+0100
TZOFFSETTO:+0200
TZNAME:CEST
DTSTART:20260329T010000
END:DAYLIGHT
BEGIN:STANDARD
TZOFFSETFROM:+0200
TZOFFSETTO:+0100
TZNAME:CET
DTSTART:20261025T010000
END:STANDARD
BEGIN:DAYLIGHT
TZOFFSETFROM:+0100
TZOFFSETTO:+0200
TZNAME:CEST
DTSTART:20270328T010000
END:DAYLIGHT
BEGIN:STANDARD
TZOFFSETFROM:+0200
TZOFFSETTO:+0100
TZNAME:CET
DTSTART:20271031T010000
END:STANDARD
END:VTIMEZONE
BEGIN:VEVENT
DTSTART;TZID=Europe/Berlin:20260418T090000
DTEND;TZID=Europe/Berlin:20260419T170000
DTSTAMP:20260425T135740
CREATED:20260117T093418Z
LAST-MODIFIED:20260117T093418Z
UID:10001021-1776502800-1776618000@dgob.info
SUMMARY:Seminar 5 - dynamische Techniken
DESCRIPTION:Ausbildungskurs mit Susanne Seidel. \nThema: Integration und Bewegungsmuster\, dynamisches Arbeiten u.a. am Schulterblatt\, Kreuzbein\, Becken\, Reflexe aus der Ortho-Bionomy: Rebound-\, Follow-on-response-\, Balance-Reflex)\, Unterschiede zwischen Beobachten und Begleiten. \nBitte direkt anmelden unter info@ortho-bionomy.de. Weitere Informationen unter www.ortho-bionomy.de.
URL:https://dgob.info/en/veranstaltung/seminar-5-dynamische-techniken-6/
LOCATION:Physio-MED\, Poststraße 14\, Rottenburg am Neckar\, Bayern\, 72108
CATEGORIES:Ausbildung
END:VEVENT
BEGIN:VEVENT
DTSTART;TZID=Europe/Berlin:20260418T090000
DTEND;TZID=Europe/Berlin:20260419T170000
DTSTAMP:20260425T135740
CREATED:20251012T101721Z
LAST-MODIFIED:20251012T101721Z
UID:10000971-1776502800-1776618000@dgob.info
SUMMARY:Kurs 1\, Strukturelle Techniken
DESCRIPTION:Ausbildungskurs mit Dr. med. Hans-Ulrich Wegner. \nThema: Einführung\, Grundlagen der OB\, Techniken HWS\, BWS\, Thorax\, Schultergürtel. \nBitte direkt anmelden unter sabine.welzig@web.de. \nSorry\, this entry is only available in Deutsch at the moment. \n\nDies ist keine Veranstaltung der DGOB – aber wir wollen gerne auf Veranstaltungen aufmerksam machen\, die wir für wichtig halten. Wir übernehmen keine Garantie für die Richtigkeit der Angaben\, bitte schauen Sie bei Fremdveranstaltungen immer auch bei den Anbietern selbst nach\, da wir eventuelle Termin- und Ortsverlegungen oder Absagen nicht in jedem Fall nachhalten können. Bitte achten Sie auch darauf\, dass der Großteil der Seminare kostenpflichtig ist. Vielen Dank!
URL:https://dgob.info/en/veranstaltung/kurs-1-strukturelle-techniken/
LOCATION:Praxis Sperbergasse\, Sperbergasse 4\, Burgdorf\, Niedersachsen\, 31303\, Deutschland
CATEGORIES:Ausbildung
GEO:52.4560995;9.9977218
X-APPLE-STRUCTURED-LOCATION;VALUE=URI;X-ADDRESS=Praxis Sperbergasse Sperbergasse 4 Burgdorf Niedersachsen 31303 Deutschland;X-APPLE-RADIUS=500;X-TITLE=Sperbergasse 4:geo:9.9977218,52.4560995
END:VEVENT
BEGIN:VEVENT
DTSTART;TZID=Europe/Berlin:20260423T180000
DTEND;TZID=Europe/Berlin:20260423T210000
DTSTAMP:20260425T135740
CREATED:20251118T193159Z
LAST-MODIFIED:20251118T193159Z
UID:10000981-1776967200-1776978000@dgob.info
SUMMARY:Facharbeitskreis
DESCRIPTION:Facharbeitskreis mit Sada H. Bist und Dagmar Müsch. \nThema: Ortho-Bionomy® ist eine sanfte Methode der Körperarbeit\, die vom Osteopathen A.L. Pauls D.O. entwickelt wurde. Sie bietet ein vielseitiges Behandlungsspektrum und lässt sich in verschiedenen Kontexten einsetzen. Im Arbeitskreis werden die Techniken vertieft\, Fragen geklärt und es besteht die Möglichkeit\, die Methode gegenseitig praktisch zu üben.\nVoraussetzung: Grundkenntnisse der Methode \nWeitere Informationen unter www.freieheilpraktiker.com. Bitte direkt anmelden unter info@freieheilpraktiker.com. \nSorry\, this entry is only available in Deutsch at the moment. \n\nDies ist keine Veranstaltung der DGOB – aber wir wollen gerne auf Veranstaltungen aufmerksam machen\, die wir für wichtig halten. Wir übernehmen keine Garantie für die Richtigkeit der Angaben\, bitte schauen Sie bei Fremdveranstaltungen immer auch bei den Anbietern selbst nach\, da wir eventuelle Termin- und Ortsverlegungen oder Absagen nicht in jedem Fall nachhalten können. Bitte achten Sie auch darauf\, dass der Großteil der Seminare kostenpflichtig ist. Vielen Dank!
URL:https://dgob.info/en/veranstaltung/facharbeitskreis-3/2026-04-23/
LOCATION:Freie Heilpraktiker (Düsseldorf)\, Benrather Schlossallee 49-53\, Düsseldorf\, Nordrhein-Westfalen\, 40597
CATEGORIES:Arbeitskreis
GEO:51.1624344;6.8612281
X-APPLE-STRUCTURED-LOCATION;VALUE=URI;X-ADDRESS=Freie Heilpraktiker (Düsseldorf) Benrather Schlossallee 49-53 Düsseldorf Nordrhein-Westfalen 40597;X-APPLE-RADIUS=500;X-TITLE=Benrather Schlossallee 49-53:geo:6.8612281,51.1624344
END:VEVENT
BEGIN:VEVENT
DTSTART;TZID=Europe/Berlin:20260425T090000
DTEND;TZID=Europe/Berlin:20260426T180000
DTSTAMP:20260425T135740
CREATED:20251118T193326Z
LAST-MODIFIED:20251118T193326Z
UID:10000986-1777107600-1777226400@dgob.info
SUMMARY:Ortho-Bionomy®  Workshop
DESCRIPTION:Workshop mit Sada H. Bist. \nThema: Ortho-Bionomy® Workshop. \nBitte direkt anmelden unter kontakt@heilpraktiker-meinecke.de. \nSorry\, this entry is only available in Deutsch at the moment. \n\nDies ist keine Veranstaltung der DGOB – aber wir wollen gerne auf Veranstaltungen aufmerksam machen\, die wir für wichtig halten. Wir übernehmen keine Garantie für die Richtigkeit der Angaben\, bitte schauen Sie bei Fremdveranstaltungen immer auch bei den Anbietern selbst nach\, da wir eventuelle Termin- und Ortsverlegungen oder Absagen nicht in jedem Fall nachhalten können. Bitte achten Sie auch darauf\, dass der Großteil der Seminare kostenpflichtig ist. Vielen Dank!
URL:https://dgob.info/en/veranstaltung/ortho-bionomy-workshop-3/
LOCATION:ACON Arbeitskreis Hannover\, Hannover\, Niedersachsen
CATEGORIES:Workshop
END:VEVENT
BEGIN:VEVENT
DTSTART;TZID=Europe/Berlin:20260426T090000
DTEND;TZID=Europe/Berlin:20260426T180000
DTSTAMP:20260425T135740
CREATED:20251118T193237Z
LAST-MODIFIED:20251118T193237Z
UID:10000990-1777194000-1777226400@dgob.info
SUMMARY:Ortho-Bionomy®  Workshop
DESCRIPTION:Workshop mit Sada H. Bist. \nThema: Ortho-Bionomy® Workshop. \nBitte direkt anmelden unter sabine.welzig@web.de. \nSorry\, this entry is only available in Deutsch at the moment. \n\nDies ist keine Veranstaltung der DGOB – aber wir wollen gerne auf Veranstaltungen aufmerksam machen\, die wir für wichtig halten. Wir übernehmen keine Garantie für die Richtigkeit der Angaben\, bitte schauen Sie bei Fremdveranstaltungen immer auch bei den Anbietern selbst nach\, da wir eventuelle Termin- und Ortsverlegungen oder Absagen nicht in jedem Fall nachhalten können. Bitte achten Sie auch darauf\, dass der Großteil der Seminare kostenpflichtig ist. Vielen Dank!
URL:https://dgob.info/en/veranstaltung/ortho-bionomy-workshop-2/
LOCATION:Burgdorf (Raum Hannover)\, Burgdorf\, Niedersachsen\, 31303\, Deutschland
CATEGORIES:Workshop
GEO:52.44845923;10.00633676
END:VEVENT
BEGIN:VEVENT
DTSTART;TZID=Europe/Berlin:20260530T090000
DTEND;TZID=Europe/Berlin:20260531T170000
DTSTAMP:20260425T135740
CREATED:20260116T182108Z
LAST-MODIFIED:20260116T182214Z
UID:10001010-1780131600-1780246800@dgob.info
SUMMARY:Ortho-Bionomy® Sonderseminar Phase 5 Kompakt
DESCRIPTION:Fortbildungskurs mit Sada H. Bist. \nThema: Phase 5 Kompakt. \nVoraussetzung: zwei Seminare Phase 4. \nWeitere Informationen unter www.praxis-bist.com. Bitte direkt anmelden unter mail@praxis-bist.de. \nSorry\, this entry is only available in Deutsch at the moment. \n\nDies ist keine Veranstaltung der DGOB – aber wir wollen gerne auf Veranstaltungen aufmerksam machen\, die wir für wichtig halten. Wir übernehmen keine Garantie für die Richtigkeit der Angaben\, bitte schauen Sie bei Fremdveranstaltungen immer auch bei den Anbietern selbst nach\, da wir eventuelle Termin- und Ortsverlegungen oder Absagen nicht in jedem Fall nachhalten können. Bitte achten Sie auch darauf\, dass der Großteil der Seminare kostenpflichtig ist. Vielen Dank!
URL:https://dgob.info/en/veranstaltung/ortho-bionomy-sonderseminar-phase-5-kompakt/
LOCATION:Purnam\, Grupellostraße 11\, Düsseldorf\, Nord-Rhein-Westfalen\, 40210\, Germany
CATEGORIES:Fortbildung
END:VEVENT
BEGIN:VEVENT
DTSTART;TZID=Europe/Berlin:20260530T090000
DTEND;TZID=Europe/Berlin:20260531T170000
DTSTAMP:20260425T135740
CREATED:20251012T102239Z
LAST-MODIFIED:20251012T102239Z
UID:10000972-1780131600-1780246800@dgob.info
SUMMARY:Kurs 7\, Kombinationstechniken Phase 4 und 5
DESCRIPTION:Ausbildungskurs mit Dr. med. Hans-Ulrich Wegner. \nThema: Kombination Phase 4 und 5\, Wiederholungen\, neue Techniken besonders obere Körperhälfte. \nBitte direkt anmelden unter info@freieheilpraktiker.com. \nSorry\, this entry is only available in Deutsch at the moment. \n\nDies ist keine Veranstaltung der DGOB – aber wir wollen gerne auf Veranstaltungen aufmerksam machen\, die wir für wichtig halten. Wir übernehmen keine Garantie für die Richtigkeit der Angaben\, bitte schauen Sie bei Fremdveranstaltungen immer auch bei den Anbietern selbst nach\, da wir eventuelle Termin- und Ortsverlegungen oder Absagen nicht in jedem Fall nachhalten können. Bitte achten Sie auch darauf\, dass der Großteil der Seminare kostenpflichtig ist. Vielen Dank!
URL:https://dgob.info/en/veranstaltung/kurs-7-kombinationstechniken-phase-4-und-5/
LOCATION:Freie Heilpraktiker (Düsseldorf)\, Benrather Schlossallee 49-53\, Düsseldorf\, Nordrhein-Westfalen\, 40597
CATEGORIES:Ausbildung
GEO:51.1624344;6.8612281
X-APPLE-STRUCTURED-LOCATION;VALUE=URI;X-ADDRESS=Freie Heilpraktiker (Düsseldorf) Benrather Schlossallee 49-53 Düsseldorf Nordrhein-Westfalen 40597;X-APPLE-RADIUS=500;X-TITLE=Benrather Schlossallee 49-53:geo:6.8612281,51.1624344
END:VEVENT
BEGIN:VEVENT
DTSTART;TZID=Europe/Berlin:20260607T190000
DTEND;TZID=Europe/Berlin:20260612T130000
DTSTAMP:20260425T135740
CREATED:20251012T102655Z
LAST-MODIFIED:20251118T181439Z
UID:10000973-1780858800-1781269200@dgob.info
SUMMARY:Residential
DESCRIPTION:Ausbildungskurs mit Dr. med. Hans-Ulrich Wegner. \nThema: Intensivseminar\, Wiederholungen\, neue Techniken\, integrative Arbeit. \nBildungsurlaub zertifiziert. \nBitte direkt anmelden unter info@schneegass-consulting.de. \nSorry\, this entry is only available in Deutsch at the moment. \n\nDies ist keine Veranstaltung der DGOB – aber wir wollen gerne auf Veranstaltungen aufmerksam machen\, die wir für wichtig halten. Wir übernehmen keine Garantie für die Richtigkeit der Angaben\, bitte schauen Sie bei Fremdveranstaltungen immer auch bei den Anbietern selbst nach\, da wir eventuelle Termin- und Ortsverlegungen oder Absagen nicht in jedem Fall nachhalten können. Bitte achten Sie auch darauf\, dass der Großteil der Seminare kostenpflichtig ist. Vielen Dank!
URL:https://dgob.info/en/veranstaltung/residential-9/
LOCATION:Schönstattzentrum\, Am Klosterberg 2\, Friedrichroda\, Thüringen\, 99894\, Deutschland
CATEGORIES:Ausbildung
GEO:50.8613603;10.563629
X-APPLE-STRUCTURED-LOCATION;VALUE=URI;X-ADDRESS=Schönstattzentrum Am Klosterberg 2 Friedrichroda Thüringen 99894 Deutschland;X-APPLE-RADIUS=500;X-TITLE=Am Klosterberg 2:geo:10.563629,50.8613603
END:VEVENT
BEGIN:VEVENT
DTSTART;TZID=Europe/Berlin:20260621T090000
DTEND;TZID=Europe/Berlin:20260626T173000
DTSTAMP:20260425T135740
CREATED:20251212T202722Z
LAST-MODIFIED:20251212T202722Z
UID:10000998-1782032400-1782495000@dgob.info
SUMMARY:Residential Osttirol
DESCRIPTION:Ausbildungskurs mit Susanne Bauer und Angelika Raum. \nThema: Verknüpfung der körperlichen und energetischen Behandlung\, Philosophie\, Sondertechniken. \nBitte direkt anmelden unter OB-Schule@gmx.de. Weitere Informationen unter www.Ortho-Bionomy-Schule.de oder unter Telefonnummer 0179-4622193. \nSorry\, this entry is only available in Deutsch at the moment. \n\nDies ist keine Veranstaltung der DGOB – aber wir wollen gerne auf Veranstaltungen aufmerksam machen\, die wir für wichtig halten. Wir übernehmen keine Garantie für die Richtigkeit der Angaben\, bitte schauen Sie bei Fremdveranstaltungen immer auch bei den Anbietern selbst nach\, da wir eventuelle Termin- und Ortsverlegungen oder Absagen nicht in jedem Fall nachhalten können. Bitte achten Sie auch darauf\, dass der Großteil der Seminare kostenpflichtig ist. Vielen Dank!
URL:https://dgob.info/en/veranstaltung/residential-osttirol/
LOCATION:Untertilliach\, Untertilliach/Eggen\, Osttirol\, A 9943\, Austria
CATEGORIES:Ausbildung,Residential
END:VEVENT
BEGIN:VEVENT
DTSTART;TZID=Europe/Berlin:20260627T090000
DTEND;TZID=Europe/Berlin:20260628T170000
DTSTAMP:20260425T135740
CREATED:20260116T201128Z
LAST-MODIFIED:20260116T201128Z
UID:10001011-1782550800-1782666000@dgob.info
SUMMARY:Ortho-Bionomy® - Seminar rund um Schwangerschaft und Geburt
DESCRIPTION:Fortbildungskurs mit Sada H. Bist. \nThema: Ortho-Bionomy® rund um Schwangerschaft und Geburt. \nWeitere Informationen unter www.praxis-bist.com. Bitte direkt anmelden unter mail@praxis-bist.de. \nSorry\, this entry is only available in Deutsch at the moment. \n\nDies ist keine Veranstaltung der DGOB – aber wir wollen gerne auf Veranstaltungen aufmerksam machen\, die wir für wichtig halten. Wir übernehmen keine Garantie für die Richtigkeit der Angaben\, bitte schauen Sie bei Fremdveranstaltungen immer auch bei den Anbietern selbst nach\, da wir eventuelle Termin- und Ortsverlegungen oder Absagen nicht in jedem Fall nachhalten können. Bitte achten Sie auch darauf\, dass der Großteil der Seminare kostenpflichtig ist. Vielen Dank!
URL:https://dgob.info/en/veranstaltung/ortho-bionomy-seminar-rund-um-schwangerschaft-und-geburt/
LOCATION:Purnam\, Grupellostraße 11\, Düsseldorf\, Nord-Rhein-Westfalen\, 40210\, Germany
CATEGORIES:Fortbildung
END:VEVENT
BEGIN:VEVENT
DTSTART;TZID=Europe/Berlin:20260710T120000
DTEND;TZID=Europe/Berlin:20260712T173000
DTSTAMP:20260425T135740
CREATED:20251212T201733Z
LAST-MODIFIED:20251212T201733Z
UID:10000997-1783684800-1783877400@dgob.info
SUMMARY:Phase 4\, Basic III
DESCRIPTION:Sonderkurs mit Susanne Bauer und Angelika Raum. \nThema: Obere Extremitäten mit Schulter\, Oberarm\, Unterarm und Hand\, Brustkorb\, Rippen Sondertechniken. \nTeilnahmevoraussetzung: Phase 5 Kurse \nBitte direkt anmelden unter OB-Schule@gmx.de. Weitere Informationen unter www.Ortho-Bionomy-Schule.de oder unter Telefonnummer 0179-4622193. \nSorry\, this entry is only available in Deutsch at the moment. \n\nDies ist keine Veranstaltung der DGOB – aber wir wollen gerne auf Veranstaltungen aufmerksam machen\, die wir für wichtig halten. Wir übernehmen keine Garantie für die Richtigkeit der Angaben\, bitte schauen Sie bei Fremdveranstaltungen immer auch bei den Anbietern selbst nach\, da wir eventuelle Termin- und Ortsverlegungen oder Absagen nicht in jedem Fall nachhalten können. Bitte achten Sie auch darauf\, dass der Großteil der Seminare kostenpflichtig ist. Vielen Dank!
URL:https://dgob.info/en/veranstaltung/phase-4-basic-iii/
LOCATION:Wolfersfeld\, Wolfersfeld 5\, Wolfersfeld\, Bayern\, 92262\, Germany
CATEGORIES:Ausbildung
END:VEVENT
BEGIN:VEVENT
DTSTART;TZID=Europe/Berlin:20260711T090000
DTEND;TZID=Europe/Berlin:20260712T170000
DTSTAMP:20260425T135740
CREATED:20260104T164545Z
LAST-MODIFIED:20260104T165559Z
UID:10001008-1783760400-1783875600@dgob.info
SUMMARY:Kurs 9 - Phase 4 - Ortho-Bionomy®
DESCRIPTION:manChapmanAusbildungskurs mit Dagmar Müsch. \nThema: Ortho-Bionomy®\,Chapman-Punkte/Goodheart-Punkte\, Haltungsarbeit\, Selbstbehandlung. Durch die Behandlung der neurolymphatischen Reflexpunkte nach Chapman\, sowie der neurovaskulären und muskelbezogenen Reflexpunkte nach Goodheart\, wird die Diagnostik und Therapie möglich. Das Seminar eignet sich für alle\, die mit Menschen zusammen arbeiten\, in der Ortho-Bionomy zu Hause sind\, sowie an Hebammen\, Osteopathen und Manual- & Physiotherapeuten etc. Voraussetzungen: keine \nBitte direkt anmelden unter info@freieheilpraktiker.com. Weitere Informationen unter www.freieheilpraktiker.com. \nSorry\, this entry is only available in Deutsch at the moment. \n\nDies ist keine Veranstaltung der DGOB – aber wir wollen gerne auf Veranstaltungen aufmerksam machen\, die wir für wichtig halten. Wir übernehmen keine Garantie für die Richtigkeit der Angaben\, bitte schauen Sie bei Fremdveranstaltungen immer auch bei den Anbietern selbst nach\, da wir eventuelle Termin- und Ortsverlegungen oder Absagen nicht in jedem Fall nachhalten können. Bitte achten Sie auch darauf\, dass der Großteil der Seminare kostenpflichtig ist. Vielen Dank!
URL:https://dgob.info/en/veranstaltung/kurs-9-phase-4-ortho-bionomy/
LOCATION:Freie Heilpraktiker (Düsseldorf)\, Benrather Schlossallee 49-53\, Düsseldorf\, Nordrhein-Westfalen\, 40597
CATEGORIES:Ausbildung
GEO:51.1624344;6.8612281
X-APPLE-STRUCTURED-LOCATION;VALUE=URI;X-ADDRESS=Freie Heilpraktiker (Düsseldorf) Benrather Schlossallee 49-53 Düsseldorf Nordrhein-Westfalen 40597;X-APPLE-RADIUS=500;X-TITLE=Benrather Schlossallee 49-53:geo:6.8612281,51.1624344
END:VEVENT
END:VCALENDAR