BEGIN:VCALENDAR
VERSION:2.0
PRODID:-//DGOB - ECPv6.15.20//NONSGML v1.0//EN
CALSCALE:GREGORIAN
METHOD:PUBLISH
X-WR-CALNAME:DGOB
X-ORIGINAL-URL:https://dgob.info/en
X-WR-CALDESC:Events for DGOB
REFRESH-INTERVAL;VALUE=DURATION:PT1H
X-Robots-Tag:noindex
X-PUBLISHED-TTL:PT1H
BEGIN:VTIMEZONE
TZID:Europe/Berlin
BEGIN:DAYLIGHT
TZOFFSETFROM:+0100
TZOFFSETTO:+0200
TZNAME:CEST
DTSTART:20240331T010000
END:DAYLIGHT
BEGIN:STANDARD
TZOFFSETFROM:+0200
TZOFFSETTO:+0100
TZNAME:CET
DTSTART:20241027T010000
END:STANDARD
BEGIN:DAYLIGHT
TZOFFSETFROM:+0100
TZOFFSETTO:+0200
TZNAME:CEST
DTSTART:20250330T010000
END:DAYLIGHT
BEGIN:STANDARD
TZOFFSETFROM:+0200
TZOFFSETTO:+0100
TZNAME:CET
DTSTART:20251026T010000
END:STANDARD
BEGIN:DAYLIGHT
TZOFFSETFROM:+0100
TZOFFSETTO:+0200
TZNAME:CEST
DTSTART:20260329T010000
END:DAYLIGHT
BEGIN:STANDARD
TZOFFSETFROM:+0200
TZOFFSETTO:+0100
TZNAME:CET
DTSTART:20261025T010000
END:STANDARD
END:VTIMEZONE
BEGIN:VEVENT
DTSTART;TZID=Europe/Berlin:20250621T090000
DTEND;TZID=Europe/Berlin:20250622T170000
DTSTAMP:20260425T150929
CREATED:20250718T042858Z
LAST-MODIFIED:20250718T042858Z
UID:10000953-1750496400-1750611600@dgob.info
SUMMARY:Seminar 16
DESCRIPTION:Ausbildungskurs mit Susanne Seidel. \nThema: Kraniomandibuläre Techniken\nSeminarinhalte: Gesichtsschädel\, Kiefer\, Zähne\, Schädelasymmetrien\, Mundboden und Zungenbeinmuskulatur.\nVoraussetzung: 2 Seminare dynamische Techniken oder die Basisseminare \nBitte direkt anmelden unter info@ortho-bionomy.de. Weitere Informationen unter www.ortho-bionomy.de. \nSorry\, this entry is only available in Deutsch at the moment. \n\nDies ist keine Veranstaltung der DGOB – aber wir wollen gerne auf Veranstaltungen aufmerksam machen\, die wir für wichtig halten. Wir übernehmen keine Garantie für die Richtigkeit der Angaben\, bitte schauen Sie bei Fremdveranstaltungen immer auch bei den Anbietern selbst nach\, da wir eventuelle Termin- und Ortsverlegungen oder Absagen nicht in jedem Fall nachhalten können. Bitte achten Sie auch darauf\, dass der Großteil der Seminare kostenpflichtig ist. Vielen Dank!
URL:https://dgob.info/en/veranstaltung/seminar-16-5/
LOCATION:Physio-MED\, Poststraße 14\, Rottenburg am Neckar\, Bayern\, 72108
CATEGORIES:Ausbildung
END:VEVENT
BEGIN:VEVENT
DTSTART;TZID=Europe/Berlin:20250628T090000
DTEND;TZID=Europe/Berlin:20250629T170000
DTSTAMP:20260425T150929
CREATED:20250511T091842Z
LAST-MODIFIED:20250511T091842Z
UID:10000955-1751101200-1751216400@dgob.info
SUMMARY:Seminar 15
DESCRIPTION:Ausbildungskurs mit  Susanne Seidel. \nThema: Kraniomandibuläre Techniken\nSeminarinhalte: Gyroskop\, Tonleiter mit “Space between the Notes”\, periphere Rhythmen\, Gyroskop.\nVoraussetzung: 1 energetisches Seminar oder ein Residential. \nBitte direkt anmelden unter info@ortho-bionomy.de. Weitere Informationen unter www.ortho-bionomy.de. \nSorry\, this entry is only available in Deutsch at the moment. \n\nDies ist keine Veranstaltung der DGOB – aber wir wollen gerne auf Veranstaltungen aufmerksam machen\, die wir für wichtig halten. Wir übernehmen keine Garantie für die Richtigkeit der Angaben\, bitte schauen Sie bei Fremdveranstaltungen immer auch bei den Anbietern selbst nach\, da wir eventuelle Termin- und Ortsverlegungen oder Absagen nicht in jedem Fall nachhalten können. Bitte achten Sie auch darauf\, dass der Großteil der Seminare kostenpflichtig ist. Vielen Dank!
URL:https://dgob.info/en/veranstaltung/seminar-15-3/
LOCATION:Physio-MED\, Poststraße 14\, Rottenburg am Neckar\, Bayern\, 72108
CATEGORIES:Ausbildung
END:VEVENT
END:VCALENDAR