BEGIN:VCALENDAR
VERSION:2.0
PRODID:-//DGOB - ECPv6.15.20//NONSGML v1.0//EN
CALSCALE:GREGORIAN
METHOD:PUBLISH
X-WR-CALNAME:DGOB
X-ORIGINAL-URL:https://dgob.info/en
X-WR-CALDESC:Events for DGOB
REFRESH-INTERVAL;VALUE=DURATION:PT1H
X-Robots-Tag:noindex
X-PUBLISHED-TTL:PT1H
BEGIN:VTIMEZONE
TZID:Europe/Berlin
BEGIN:DAYLIGHT
TZOFFSETFROM:+0100
TZOFFSETTO:+0200
TZNAME:CEST
DTSTART:20230326T010000
END:DAYLIGHT
BEGIN:STANDARD
TZOFFSETFROM:+0200
TZOFFSETTO:+0100
TZNAME:CET
DTSTART:20231029T010000
END:STANDARD
BEGIN:DAYLIGHT
TZOFFSETFROM:+0100
TZOFFSETTO:+0200
TZNAME:CEST
DTSTART:20240331T010000
END:DAYLIGHT
BEGIN:STANDARD
TZOFFSETFROM:+0200
TZOFFSETTO:+0100
TZNAME:CET
DTSTART:20241027T010000
END:STANDARD
BEGIN:DAYLIGHT
TZOFFSETFROM:+0100
TZOFFSETTO:+0200
TZNAME:CEST
DTSTART:20250330T010000
END:DAYLIGHT
BEGIN:STANDARD
TZOFFSETFROM:+0200
TZOFFSETTO:+0100
TZNAME:CET
DTSTART:20251026T010000
END:STANDARD
END:VTIMEZONE
BEGIN:VEVENT
DTSTART;TZID=Europe/Berlin:20240622T090000
DTEND;TZID=Europe/Berlin:20240623T170000
DTSTAMP:20260426T004630
CREATED:20240221T151502Z
LAST-MODIFIED:20240221T151502Z
UID:10000880-1719046800-1719162000@dgob.info
SUMMARY:Kurs 3 - Phase 4
DESCRIPTION:Ausbildungskurs mit Dagmar Müsch. \nThema: Strukturelle Techniken an den Hüftgelenken\, Kniegelenken\, Sprunggelenken\, an den Füßen\, Ellenbogengelenken\, Handgelenken\, an den Händen. \nBitte direkt anmelden unter info@freieheilpraktiker.com. Weitere Informationen unter www.freieheilpraktiker.com. \nSorry\, this entry is only available in Deutsch at the moment. \n\nDies ist keine Veranstaltung der DGOB – aber wir wollen gerne auf Veranstaltungen aufmerksam machen\, die wir für wichtig halten. Wir übernehmen keine Garantie für die Richtigkeit der Angaben\, bitte schauen Sie bei Fremdveranstaltungen immer auch bei den Anbietern selbst nach\, da wir eventuelle Termin- und Ortsverlegungen oder Absagen nicht in jedem Fall nachhalten können. Bitte achten Sie auch darauf\, dass der Großteil der Seminare kostenpflichtig ist. Vielen Dank!
URL:https://dgob.info/en/veranstaltung/kurs-3-phase-4/
LOCATION:Freie Heilpraktiker (Düsseldorf)\, Benrather Schlossallee 49-53\, Düsseldorf\, Nordrhein-Westfalen\, 40597
CATEGORIES:Ausbildung
GEO:51.1624344;6.8612281
X-APPLE-STRUCTURED-LOCATION;VALUE=URI;X-ADDRESS=Freie Heilpraktiker (Düsseldorf) Benrather Schlossallee 49-53 Düsseldorf Nordrhein-Westfalen 40597;X-APPLE-RADIUS=500;X-TITLE=Benrather Schlossallee 49-53:geo:6.8612281,51.1624344
END:VEVENT
BEGIN:VEVENT
DTSTART;TZID=Europe/Berlin:20240622T090000
DTEND;TZID=Europe/Berlin:20240623T173000
DTSTAMP:20260426T004630
CREATED:20240606T223544Z
LAST-MODIFIED:20240606T223544Z
UID:10000887-1719046800-1719163800@dgob.info
SUMMARY:Seminar 1
DESCRIPTION:Ausbildungskurs mit Silke Lauritsen. \nThema: Grundlagen der Ortho-Bionmy aus dem Bereich der struktuellen Techniken. \nSorry\, this entry is only available in Deutsch at the moment. \nBitte direkt anmelden unter info@ortho-bionomy.de  Weitere Informationen unter www.ortho-bionomy.de. \n\nSorry\, this entry is only available in Deutsch at the moment. \n\nDies ist keine Veranstaltung der DGOB – aber wir wollen gerne auf Veranstaltungen aufmerksam machen\, die wir für wichtig halten. Wir übernehmen keine Garantie für die Richtigkeit der Angaben\, bitte schauen Sie bei Fremdveranstaltungen immer auch bei den Anbietern selbst nach\, da wir eventuelle Termin- und Ortsverlegungen oder Absagen nicht in jedem Fall nachhalten können. Bitte achten Sie auch darauf\, dass der Großteil der Seminare kostenpflichtig ist. Vielen Dank!
URL:https://dgob.info/en/veranstaltung/seminar-1-14/
LOCATION:Privatpraxis Göttingen\, Stegemühlenweg 26\, Göttingen\, Niedersachsen\, 37083\, Deutschland
CATEGORIES:Ausbildung
END:VEVENT
BEGIN:VEVENT
DTSTART;TZID=Europe/Berlin:20240624T090000
DTEND;TZID=Europe/Berlin:20240629T130000
DTSTAMP:20260426T004630
CREATED:20231018T094312Z
LAST-MODIFIED:20231018T094312Z
UID:10000832-1719219600-1719666000@dgob.info
SUMMARY:Residential
DESCRIPTION:Residential mit Dr. med. Hans-Ulrich Wegner und Sada Hilde Bist. \nThema: Intensivseminar\, Wiederholungen\, neue Techniken\, integrative Arbeit. \nBitte direkt anmelden unter info@schneegass-consulting.de. \nSorry\, this entry is only available in Deutsch at the moment. \n\nDies ist keine Veranstaltung der DGOB – aber wir wollen gerne auf Veranstaltungen aufmerksam machen\, die wir für wichtig halten. Wir übernehmen keine Garantie für die Richtigkeit der Angaben\, bitte schauen Sie bei Fremdveranstaltungen immer auch bei den Anbietern selbst nach\, da wir eventuelle Termin- und Ortsverlegungen oder Absagen nicht in jedem Fall nachhalten können. Bitte achten Sie auch darauf\, dass der Großteil der Seminare kostenpflichtig ist. Vielen Dank!
URL:https://dgob.info/en/veranstaltung/residential-5/
LOCATION:Schönstattzentrum\, Am Klosterberg 2\, Friedrichroda\, Thüringen\, 99894\, Deutschland
CATEGORIES:Ausbildung
GEO:50.8613603;10.563629
X-APPLE-STRUCTURED-LOCATION;VALUE=URI;X-ADDRESS=Schönstattzentrum Am Klosterberg 2 Friedrichroda Thüringen 99894 Deutschland;X-APPLE-RADIUS=500;X-TITLE=Am Klosterberg 2:geo:10.563629,50.8613603
END:VEVENT
END:VCALENDAR