BEGIN:VCALENDAR
VERSION:2.0
PRODID:-//DGOB - ECPv6.15.20//NONSGML v1.0//EN
CALSCALE:GREGORIAN
METHOD:PUBLISH
X-WR-CALNAME:DGOB
X-ORIGINAL-URL:https://dgob.info/en
X-WR-CALDESC:Events for DGOB
REFRESH-INTERVAL;VALUE=DURATION:PT1H
X-Robots-Tag:noindex
X-PUBLISHED-TTL:PT1H
BEGIN:VTIMEZONE
TZID:Europe/Berlin
BEGIN:DAYLIGHT
TZOFFSETFROM:+0100
TZOFFSETTO:+0200
TZNAME:CEST
DTSTART:20180325T010000
END:DAYLIGHT
BEGIN:STANDARD
TZOFFSETFROM:+0200
TZOFFSETTO:+0100
TZNAME:CET
DTSTART:20181028T010000
END:STANDARD
BEGIN:DAYLIGHT
TZOFFSETFROM:+0100
TZOFFSETTO:+0200
TZNAME:CEST
DTSTART:20190331T010000
END:DAYLIGHT
BEGIN:STANDARD
TZOFFSETFROM:+0200
TZOFFSETTO:+0100
TZNAME:CET
DTSTART:20191027T010000
END:STANDARD
BEGIN:DAYLIGHT
TZOFFSETFROM:+0100
TZOFFSETTO:+0200
TZNAME:CEST
DTSTART:20200329T010000
END:DAYLIGHT
BEGIN:STANDARD
TZOFFSETFROM:+0200
TZOFFSETTO:+0100
TZNAME:CET
DTSTART:20201025T010000
END:STANDARD
BEGIN:DAYLIGHT
TZOFFSETFROM:+0100
TZOFFSETTO:+0200
TZNAME:CEST
DTSTART:20210328T010000
END:DAYLIGHT
BEGIN:STANDARD
TZOFFSETFROM:+0200
TZOFFSETTO:+0100
TZNAME:CET
DTSTART:20211031T010000
END:STANDARD
END:VTIMEZONE
BEGIN:VEVENT
DTSTART;TZID=Europe/Berlin:20200514T180000
DTEND;TZID=Europe/Berlin:20200514T210000
DTSTAMP:20260425T020950
CREATED:20191104T212354Z
LAST-MODIFIED:20191104T212354Z
UID:10000670-1589479200-1589490000@dgob.info
SUMMARY:Facharbeitskreis
DESCRIPTION:Ausbildungskurs mit Sada H. Bist. \nThema: Ortho-Bionomy®. \nBitte direkt anmelden unter info@freieheilpraktiker.com. \nSorry\, this entry is only available in Deutsch at the moment. \n\nDies ist keine Veranstaltung der DGOB – aber wir wollen gerne auf Veranstaltungen aufmerksam machen\, die wir für wichtig halten. Wir übernehmen keine Garantie für die Richtigkeit der Angaben\, bitte schauen Sie bei Fremdveranstaltungen immer auch bei den Anbietern selbst nach\, da wir eventuelle Termin- und Ortsverlegungen oder Absagen nicht in jedem Fall nachhalten können. Bitte achten Sie auch darauf\, dass der Großteil der Seminare kostenpflichtig ist. Vielen Dank!
URL:https://dgob.info/en/veranstaltung/facharbeitskreis/2020-05-14/
LOCATION:Freie Heilpraktiker (Düsseldorf)\, Benrather Schlossallee 49-53\, Düsseldorf\, Nordrhein-Westfalen\, 40597
CATEGORIES:Arbeitskreis
GEO:51.1624344;6.8612281
X-APPLE-STRUCTURED-LOCATION;VALUE=URI;X-ADDRESS=Freie Heilpraktiker (Düsseldorf) Benrather Schlossallee 49-53 Düsseldorf Nordrhein-Westfalen 40597;X-APPLE-RADIUS=500;X-TITLE=Benrather Schlossallee 49-53:geo:6.8612281,51.1624344
END:VEVENT
BEGIN:VEVENT
DTSTART;TZID=Europe/Berlin:20200509T090000
DTEND;TZID=Europe/Berlin:20200510T170000
DTSTAMP:20260425T020950
CREATED:20190918T104642Z
LAST-MODIFIED:20190918T114100Z
UID:10000650-1589014800-1589130000@dgob.info
SUMMARY:Kurs 5\, Dynamische Techniken Phase 5
DESCRIPTION:Ausbildungskurs mit Dr. med. Hans-Ulrich Wegner. \nThema: Einführung Phase 5\, Bewegungsmuster\, Art des Kontaktes\, erste Reflexe. \nBitte direkt anmelden unter info@freieheilpraktiker.com. \nSorry\, this entry is only available in Deutsch at the moment. \n\nDies ist keine Veranstaltung der DGOB – aber wir wollen gerne auf Veranstaltungen aufmerksam machen\, die wir für wichtig halten. Wir übernehmen keine Garantie für die Richtigkeit der Angaben\, bitte schauen Sie bei Fremdveranstaltungen immer auch bei den Anbietern selbst nach\, da wir eventuelle Termin- und Ortsverlegungen oder Absagen nicht in jedem Fall nachhalten können. Bitte achten Sie auch darauf\, dass der Großteil der Seminare kostenpflichtig ist. Vielen Dank!
URL:https://dgob.info/en/veranstaltung/kurs-5-dynamische-techniken-phase-5-3/
LOCATION:Freie Heilpraktiker (Düsseldorf)\, Benrather Schlossallee 49-53\, Düsseldorf\, Nordrhein-Westfalen\, 40597
CATEGORIES:Ausbildung
GEO:51.1624344;6.8612281
X-APPLE-STRUCTURED-LOCATION;VALUE=URI;X-ADDRESS=Freie Heilpraktiker (Düsseldorf) Benrather Schlossallee 49-53 Düsseldorf Nordrhein-Westfalen 40597;X-APPLE-RADIUS=500;X-TITLE=Benrather Schlossallee 49-53:geo:6.8612281,51.1624344
END:VEVENT
BEGIN:VEVENT
DTSTART;TZID=Europe/Berlin:20200502T090000
DTEND;TZID=Europe/Berlin:20200503T170000
DTSTAMP:20260425T020950
CREATED:20190918T113006Z
LAST-MODIFIED:20190918T114018Z
UID:10000657-1588410000-1588525200@dgob.info
SUMMARY:Kurs 5\, Dynamische Techniken Phase 5
DESCRIPTION:Ausbildungskurs mit Dr. med. Hans-Ulrich Wegner. \nThema: Einführung Phase 5\, Bewegungsmuster\, Art des Kontaktes\, erste Reflexe. \nBitte direkt anmelden unter sabine.welzig@web.de. \nSorry\, this entry is only available in Deutsch at the moment. \n\nDies ist keine Veranstaltung der DGOB – aber wir wollen gerne auf Veranstaltungen aufmerksam machen\, die wir für wichtig halten. Wir übernehmen keine Garantie für die Richtigkeit der Angaben\, bitte schauen Sie bei Fremdveranstaltungen immer auch bei den Anbietern selbst nach\, da wir eventuelle Termin- und Ortsverlegungen oder Absagen nicht in jedem Fall nachhalten können. Bitte achten Sie auch darauf\, dass der Großteil der Seminare kostenpflichtig ist. Vielen Dank!
URL:https://dgob.info/en/veranstaltung/kurs-5-dynamische-techniken-phase-5-2/
LOCATION:Praxis Sperbergasse\, Sperbergasse 4\, Burgdorf\, Niedersachsen\, 31303\, Deutschland
CATEGORIES:Ausbildung
GEO:52.4560995;9.9977218
X-APPLE-STRUCTURED-LOCATION;VALUE=URI;X-ADDRESS=Praxis Sperbergasse Sperbergasse 4 Burgdorf Niedersachsen 31303 Deutschland;X-APPLE-RADIUS=500;X-TITLE=Sperbergasse 4:geo:9.9977218,52.4560995
END:VEVENT
BEGIN:VEVENT
DTSTART;TZID=Europe/Berlin:20200501T100000
DTEND;TZID=Europe/Berlin:20200504T180000
DTSTAMP:20260425T020950
CREATED:20190110T184318Z
LAST-MODIFIED:20190110T192856Z
UID:10000646-1588327200-1588615200@dgob.info
SUMMARY:Kurs 7 und 8 (Kompaktkurs) - Kombinationstechniken strukturell-dynamisch
DESCRIPTION:Ausbildungskurs mit Detlev Leuschner-Lenz. \nThema: Kombinationstechniken strukturell-dynamisch für HWS\, BWS\, LWS\, Schulterblatt\, Thorax und Rippen\, Beckengürtel\, Beine und Arme\, Vertiefung energetische Reflexe\, Fallbeispiele. \nKursgebühr € 550\,– inklusive Lernkarten/Kursscript\, Anmeldeschluss 30.03.2020. \nWeitere Infos unter www.ortho-bionomy.nrw. Bitte direkt anmelden unter www.ortho-bionomy.nrw/kontaktanmeldung.
URL:https://dgob.info/en/veranstaltung/kurs-7-und-8-kompaktkurs-kombinationstechniken-strukturell-dynamisch/
LOCATION:Haus für Yoga und Gesundheit\, Martinshütter Weg 16\, Korschenbroich\, Nord-Rhein-Westfalen\, 41352\, Deutschland
CATEGORIES:Ausbildung
GEO:51.2007141;6.5466365
X-APPLE-STRUCTURED-LOCATION;VALUE=URI;X-ADDRESS=Haus für Yoga und Gesundheit Martinshütter Weg 16 Korschenbroich Nord-Rhein-Westfalen 41352 Deutschland;X-APPLE-RADIUS=500;X-TITLE=Martinshütter Weg 16:geo:6.5466365,51.2007141
END:VEVENT
BEGIN:VEVENT
DTSTART;TZID=Europe/Berlin:20200427T090000
DTEND;TZID=Europe/Berlin:20200429T170000
DTSTAMP:20260425T020950
CREATED:20200113T085624Z
LAST-MODIFIED:20200113T095602Z
UID:10000673-1587978000-1588179600@dgob.info
SUMMARY:Basisseminar 2: Phase 4\,  Basic 2 - Beckengürtel\, untere Extremitäten
DESCRIPTION:Ausbildungskurs mit Susanne Bauer und Angelika Raum. \nThema: Beckengürtel\, Hüfte\, Oberschenkel\, Knie\, Patella\, Fuß-Gelenke-Wurzelknochen\, MFK\, Gewölbe\, Zehen\, Halux\, Haltung\, Gang\, Sensibilitätstraining für Rhythmus\, Timing\, Druckstärke. \nTeilnahmevoraussetzungen: keine\, Basic 1 vorteilhaft. \nBitte direkt anmelden unter OB-Schule@gmx.de. Weitere Informationen unter www.Ortho-Bionomy-Schule.de. \nSorry\, this entry is only available in Deutsch at the moment. \n\nDies ist keine Veranstaltung der DGOB – aber wir wollen gerne auf Veranstaltungen aufmerksam machen\, die wir für wichtig halten. Wir übernehmen keine Garantie für die Richtigkeit der Angaben\, bitte schauen Sie bei Fremdveranstaltungen immer auch bei den Anbietern selbst nach\, da wir eventuelle Termin- und Ortsverlegungen oder Absagen nicht in jedem Fall nachhalten können. Bitte achten Sie auch darauf\, dass der Großteil der Seminare kostenpflichtig ist. Vielen Dank!
URL:https://dgob.info/en/veranstaltung/basisseminar-2-phase-4-basic-2-beckenguertel-untere-extremitaeten-2/
LOCATION:Seminarhaus Kunstmühle-Kohler\, Unterer Markt 28\, Königstein\, Bayern\, 92281\, Deutschland
CATEGORIES:Ausbildung
GEO:49.6085943;11.6347238
X-APPLE-STRUCTURED-LOCATION;VALUE=URI;X-ADDRESS=Seminarhaus Kunstmühle-Kohler Unterer Markt 28 Königstein Bayern 92281 Deutschland;X-APPLE-RADIUS=500;X-TITLE=Unterer Markt 28:geo:11.6347238,49.6085943
END:VEVENT
BEGIN:VEVENT
DTSTART;TZID=Europe/Berlin:20200425T090000
DTEND;TZID=Europe/Berlin:20200426T180000
DTSTAMP:20260425T020950
CREATED:20200312T132830Z
LAST-MODIFIED:20200312T134832Z
UID:10000698-1587805200-1587924000@dgob.info
SUMMARY:Seminar 2: strukturelle Techniken
DESCRIPTION:Ausbildungskurs mit Kurt Mölich \nThema: Brustkorb mit Rippen\, Brustbein mit BWS\, Schultergürtel\, Arme und Hände. \nBitte direkt anmelden unter organisation@ortho-bionomy.de. Weitere Informationen unter www.ortho-bionomy.de. \nSorry\, this entry is only available in Deutsch at the moment. \n\nDies ist keine Veranstaltung der DGOB – aber wir wollen gerne auf Veranstaltungen aufmerksam machen\, die wir für wichtig halten. Wir übernehmen keine Garantie für die Richtigkeit der Angaben\, bitte schauen Sie bei Fremdveranstaltungen immer auch bei den Anbietern selbst nach\, da wir eventuelle Termin- und Ortsverlegungen oder Absagen nicht in jedem Fall nachhalten können. Bitte achten Sie auch darauf\, dass der Großteil der Seminare kostenpflichtig ist. Vielen Dank!
URL:https://dgob.info/en/veranstaltung/seminar-2-strukturelle-techniken-5/
LOCATION:Praxis Kurt Mölich\, Wilhelmstraße 34\, Lahnstein\, Rheinland-Pfalz\, 56112\, Deutschland
CATEGORIES:Ausbildung
GEO:50.3023419;7.608029
X-APPLE-STRUCTURED-LOCATION;VALUE=URI;X-ADDRESS=Praxis Kurt Mölich Wilhelmstraße 34 Lahnstein Rheinland-Pfalz 56112 Deutschland;X-APPLE-RADIUS=500;X-TITLE=Wilhelmstraße 34:geo:7.608029,50.3023419
END:VEVENT
BEGIN:VEVENT
DTSTART;TZID=Europe/Berlin:20200418T090000
DTEND;TZID=Europe/Berlin:20200419T170000
DTSTAMP:20260425T020950
CREATED:20200303T203529Z
LAST-MODIFIED:20200303T213220Z
UID:10000686-1587200400-1587315600@dgob.info
SUMMARY:Kurs 1 - Phase 4 - Strukturelle Techniken
DESCRIPTION:Ausbildungskurs mit Sada H. Bist. \nThema: Einführung in die Grundlagen der Ortho-Bionomy® – Techniken an HWS/BWS\, Thorax\, Schultergürtel . \nVorkenntnisse: keine \nBitte direkt anmelden unter info@freieheilpraktiker.com. \nSorry\, this entry is only available in Deutsch at the moment. \n\nDies ist keine Veranstaltung der DGOB – aber wir wollen gerne auf Veranstaltungen aufmerksam machen\, die wir für wichtig halten. Wir übernehmen keine Garantie für die Richtigkeit der Angaben\, bitte schauen Sie bei Fremdveranstaltungen immer auch bei den Anbietern selbst nach\, da wir eventuelle Termin- und Ortsverlegungen oder Absagen nicht in jedem Fall nachhalten können. Bitte achten Sie auch darauf\, dass der Großteil der Seminare kostenpflichtig ist. Vielen Dank!
URL:https://dgob.info/en/veranstaltung/kurs-1-phase-4-strukturelle-techniken-2/
LOCATION:Freie Heilpraktiker (Düsseldorf)\, Benrather Schlossallee 49-53\, Düsseldorf\, Nordrhein-Westfalen\, 40597
CATEGORIES:Ausbildung
GEO:51.1624344;6.8612281
X-APPLE-STRUCTURED-LOCATION;VALUE=URI;X-ADDRESS=Freie Heilpraktiker (Düsseldorf) Benrather Schlossallee 49-53 Düsseldorf Nordrhein-Westfalen 40597;X-APPLE-RADIUS=500;X-TITLE=Benrather Schlossallee 49-53:geo:6.8612281,51.1624344
END:VEVENT
BEGIN:VEVENT
DTSTART;TZID=Europe/Berlin:20200418T090000
DTEND;TZID=Europe/Berlin:20200419T170000
DTSTAMP:20260425T020950
CREATED:20191104T204610Z
LAST-MODIFIED:20191104T212538Z
UID:10000662-1587200400-1587315600@dgob.info
SUMMARY:Kurs 1 - Phase 4 - Strukturelle Techniken
DESCRIPTION:Ausbildungskurs mit Sada H. Bist. \nThema: Einführung in die Grundlagen der Ortho-Bionomy® – Techniken an HWS/BWS\, Thorax\, Schultergürtel. \nVorkenntnisse: keine. \nBitte direkt anmelden unter info@freieheilpraktiker.com. \nSorry\, this entry is only available in Deutsch at the moment. \n\nDies ist keine Veranstaltung der DGOB – aber wir wollen gerne auf Veranstaltungen aufmerksam machen\, die wir für wichtig halten. Wir übernehmen keine Garantie für die Richtigkeit der Angaben\, bitte schauen Sie bei Fremdveranstaltungen immer auch bei den Anbietern selbst nach\, da wir eventuelle Termin- und Ortsverlegungen oder Absagen nicht in jedem Fall nachhalten können. Bitte achten Sie auch darauf\, dass der Großteil der Seminare kostenpflichtig ist. Vielen Dank!
URL:https://dgob.info/en/veranstaltung/kurs-1-phase-4-strukturelle-techniken/
LOCATION:Freie Heilpraktiker (Düsseldorf)\, Benrather Schlossallee 49-53\, Düsseldorf\, Nordrhein-Westfalen\, 40597
CATEGORIES:Ausbildung
GEO:51.1624344;6.8612281
X-APPLE-STRUCTURED-LOCATION;VALUE=URI;X-ADDRESS=Freie Heilpraktiker (Düsseldorf) Benrather Schlossallee 49-53 Düsseldorf Nordrhein-Westfalen 40597;X-APPLE-RADIUS=500;X-TITLE=Benrather Schlossallee 49-53:geo:6.8612281,51.1624344
END:VEVENT
BEGIN:VEVENT
DTSTART;TZID=Europe/Berlin:20200406T090000
DTEND;TZID=Europe/Berlin:20200408T170000
DTSTAMP:20260425T020950
CREATED:20200113T095431Z
LAST-MODIFIED:20200113T095730Z
UID:10000679-1586163600-1586365200@dgob.info
SUMMARY:Faszien /1:   Faszien - Außenstelle des vegetativen Nervensystems
DESCRIPTION:Weiterbildungskurs mit Stefan Andrecht. \nThema: Behandlung der faszialen Ketten nach ortho-bionomischen Prinzipien\, Übergangszonen “Hotspots”\, mit Chapman und Goodheart-Zonen. \nTeilnahmevoraussetzungen: keine\, ein Ortho-Bionomy-Seminar vorteilhaft. \nBitte direkt anmelden unter OB-Schule@gmx.de. Weitere Informationen unter www.Ortho-Bionomy-Schule.de. \nSorry\, this entry is only available in Deutsch at the moment. \n\nDies ist keine Veranstaltung der DGOB – aber wir wollen gerne auf Veranstaltungen aufmerksam machen\, die wir für wichtig halten. Wir übernehmen keine Garantie für die Richtigkeit der Angaben\, bitte schauen Sie bei Fremdveranstaltungen immer auch bei den Anbietern selbst nach\, da wir eventuelle Termin- und Ortsverlegungen oder Absagen nicht in jedem Fall nachhalten können. Bitte achten Sie auch darauf\, dass der Großteil der Seminare kostenpflichtig ist. Vielen Dank!
URL:https://dgob.info/en/veranstaltung/faszien-1-faszien-aussenstelle-des-vegetativen-nervensystems-2/
LOCATION:Seminarhaus Kunstmühle-Kohler\, Unterer Markt 28\, Königstein\, Bayern\, 92281\, Deutschland
CATEGORIES:Weiterbildung
GEO:49.6085943;11.6347238
X-APPLE-STRUCTURED-LOCATION;VALUE=URI;X-ADDRESS=Seminarhaus Kunstmühle-Kohler Unterer Markt 28 Königstein Bayern 92281 Deutschland;X-APPLE-RADIUS=500;X-TITLE=Unterer Markt 28:geo:11.6347238,49.6085943
END:VEVENT
BEGIN:VEVENT
DTSTART;TZID=Europe/Berlin:20200319T180000
DTEND;TZID=Europe/Berlin:20200319T210000
DTSTAMP:20260425T020950
CREATED:20200303T213239Z
LAST-MODIFIED:20200303T213239Z
UID:10000692-1584640800-1584651600@dgob.info
SUMMARY:Facharbeitskreis Ortho-Bionomy®
DESCRIPTION:Arbeitskreis Ortho-Bionomy mit Sada H. Bist. \nBitte direkt anmelden unter info@freieheilpraktik.com. \nSorry\, this entry is only available in Deutsch at the moment. \n\nDies ist keine Veranstaltung der DGOB – aber wir wollen gerne auf Veranstaltungen aufmerksam machen\, die wir für wichtig halten. Wir übernehmen keine Garantie für die Richtigkeit der Angaben\, bitte schauen Sie bei Fremdveranstaltungen immer auch bei den Anbietern selbst nach\, da wir eventuelle Termin- und Ortsverlegungen oder Absagen nicht in jedem Fall nachhalten können. Bitte achten Sie auch darauf\, dass der Großteil der Seminare kostenpflichtig ist. Vielen Dank!
URL:https://dgob.info/en/veranstaltung/facharbeitskreis-ortho-bionomy/2020-03-19/
LOCATION:Freie Heilpraktiker (Düsseldorf)\, Benrather Schlossallee 49-53\, Düsseldorf\, Nordrhein-Westfalen\, 40597
CATEGORIES:Arbeitskreis
GEO:51.1624344;6.8612281
X-APPLE-STRUCTURED-LOCATION;VALUE=URI;X-ADDRESS=Freie Heilpraktiker (Düsseldorf) Benrather Schlossallee 49-53 Düsseldorf Nordrhein-Westfalen 40597;X-APPLE-RADIUS=500;X-TITLE=Benrather Schlossallee 49-53:geo:6.8612281,51.1624344
END:VEVENT
BEGIN:VEVENT
DTSTART;TZID=Europe/Berlin:20200319T180000
DTEND;TZID=Europe/Berlin:20200319T210000
DTSTAMP:20260425T020950
CREATED:20191104T212354Z
LAST-MODIFIED:20191104T212354Z
UID:10000669-1584640800-1584651600@dgob.info
SUMMARY:Facharbeitskreis
DESCRIPTION:Ausbildungskurs mit Sada H. Bist. \nThema: Ortho-Bionomy®. \nBitte direkt anmelden unter info@freieheilpraktiker.com. \nSorry\, this entry is only available in Deutsch at the moment. \n\nDies ist keine Veranstaltung der DGOB – aber wir wollen gerne auf Veranstaltungen aufmerksam machen\, die wir für wichtig halten. Wir übernehmen keine Garantie für die Richtigkeit der Angaben\, bitte schauen Sie bei Fremdveranstaltungen immer auch bei den Anbietern selbst nach\, da wir eventuelle Termin- und Ortsverlegungen oder Absagen nicht in jedem Fall nachhalten können. Bitte achten Sie auch darauf\, dass der Großteil der Seminare kostenpflichtig ist. Vielen Dank!
URL:https://dgob.info/en/veranstaltung/facharbeitskreis/2020-03-19/
LOCATION:Freie Heilpraktiker (Düsseldorf)\, Benrather Schlossallee 49-53\, Düsseldorf\, Nordrhein-Westfalen\, 40597
CATEGORIES:Arbeitskreis
GEO:51.1624344;6.8612281
X-APPLE-STRUCTURED-LOCATION;VALUE=URI;X-ADDRESS=Freie Heilpraktiker (Düsseldorf) Benrather Schlossallee 49-53 Düsseldorf Nordrhein-Westfalen 40597;X-APPLE-RADIUS=500;X-TITLE=Benrather Schlossallee 49-53:geo:6.8612281,51.1624344
END:VEVENT
BEGIN:VEVENT
DTSTART;TZID=Europe/Berlin:20200216T093000
DTEND;TZID=Europe/Berlin:20200216T190000
DTSTAMP:20260425T020950
CREATED:20190924T062131Z
LAST-MODIFIED:20190924T063911Z
UID:10000658-1581845400-1581879600@dgob.info
SUMMARY:Ortho-Bionomy® Einführungsseminar
DESCRIPTION:Ausbildungskurs mit Cordelia Freitag\, Kurt Mölich und Susanne Seidel. \nThema: Einführung in die Methode der Ortho-Bionomy® und ihre Prinzipien\nAllgemeine Behandlung der Wirbelsäule und des Beckens\nBeispielhaft Behandlung innerer Organe über Chapman Zonen. \nAnmerkung: In Zusammenarbeit der Ortho-Bionomy®-Akademie\, des Deutschen Institutes für Ortho-Bionomy®und dem FobiZe Bremen. \nBitte direkt anmelden unter www.fobize.de. \nSorry\, this entry is only available in Deutsch at the moment. \n\nDies ist keine Veranstaltung der DGOB – aber wir wollen gerne auf Veranstaltungen aufmerksam machen\, die wir für wichtig halten. Wir übernehmen keine Garantie für die Richtigkeit der Angaben\, bitte schauen Sie bei Fremdveranstaltungen immer auch bei den Anbietern selbst nach\, da wir eventuelle Termin- und Ortsverlegungen oder Absagen nicht in jedem Fall nachhalten können. Bitte achten Sie auch darauf\, dass der Großteil der Seminare kostenpflichtig ist. Vielen Dank!
URL:https://dgob.info/en/veranstaltung/ortho-bionomy-einfuehrungsseminar/2020-02-16/
LOCATION:FobiZe Bremen\, Westerstraße 35\, Bremen\, Bremen\, 28199\, Deutschland
CATEGORIES:Ausbildung
GEO:53.073616;8.7973414
X-APPLE-STRUCTURED-LOCATION;VALUE=URI;X-ADDRESS=FobiZe Bremen Westerstraße 35 Bremen Bremen 28199 Deutschland;X-APPLE-RADIUS=500;X-TITLE=Westerstraße 35:geo:8.7973414,53.073616
END:VEVENT
BEGIN:VEVENT
DTSTART;TZID=Europe/Berlin:20191217T180000
DTEND;TZID=Europe/Berlin:20191217T210000
DTSTAMP:20260425T020950
CREATED:20191104T212354Z
LAST-MODIFIED:20191104T212354Z
UID:10000668-1576605600-1576616400@dgob.info
SUMMARY:Facharbeitskreis
DESCRIPTION:Ausbildungskurs mit Sada H. Bist. \nThema: Ortho-Bionomy®. \nBitte direkt anmelden unter info@freieheilpraktiker.com. \nSorry\, this entry is only available in Deutsch at the moment. \n\nDies ist keine Veranstaltung der DGOB – aber wir wollen gerne auf Veranstaltungen aufmerksam machen\, die wir für wichtig halten. Wir übernehmen keine Garantie für die Richtigkeit der Angaben\, bitte schauen Sie bei Fremdveranstaltungen immer auch bei den Anbietern selbst nach\, da wir eventuelle Termin- und Ortsverlegungen oder Absagen nicht in jedem Fall nachhalten können. Bitte achten Sie auch darauf\, dass der Großteil der Seminare kostenpflichtig ist. Vielen Dank!
URL:https://dgob.info/en/veranstaltung/facharbeitskreis/2019-12-17/
LOCATION:Freie Heilpraktiker (Düsseldorf)\, Benrather Schlossallee 49-53\, Düsseldorf\, Nordrhein-Westfalen\, 40597
CATEGORIES:Arbeitskreis
GEO:51.1624344;6.8612281
X-APPLE-STRUCTURED-LOCATION;VALUE=URI;X-ADDRESS=Freie Heilpraktiker (Düsseldorf) Benrather Schlossallee 49-53 Düsseldorf Nordrhein-Westfalen 40597;X-APPLE-RADIUS=500;X-TITLE=Benrather Schlossallee 49-53:geo:6.8612281,51.1624344
END:VEVENT
END:VCALENDAR