BEGIN:VCALENDAR
VERSION:2.0
PRODID:-//DGOB - ECPv6.15.20//NONSGML v1.0//EN
CALSCALE:GREGORIAN
METHOD:PUBLISH
X-WR-CALNAME:DGOB
X-ORIGINAL-URL:https://dgob.info/en
X-WR-CALDESC:Events for DGOB
REFRESH-INTERVAL;VALUE=DURATION:PT1H
X-Robots-Tag:noindex
X-PUBLISHED-TTL:PT1H
BEGIN:VTIMEZONE
TZID:Europe/Berlin
BEGIN:DAYLIGHT
TZOFFSETFROM:+0100
TZOFFSETTO:+0200
TZNAME:CEST
DTSTART:20240331T010000
END:DAYLIGHT
BEGIN:STANDARD
TZOFFSETFROM:+0200
TZOFFSETTO:+0100
TZNAME:CET
DTSTART:20241027T010000
END:STANDARD
BEGIN:DAYLIGHT
TZOFFSETFROM:+0100
TZOFFSETTO:+0200
TZNAME:CEST
DTSTART:20250330T010000
END:DAYLIGHT
BEGIN:STANDARD
TZOFFSETFROM:+0200
TZOFFSETTO:+0100
TZNAME:CET
DTSTART:20251026T010000
END:STANDARD
BEGIN:DAYLIGHT
TZOFFSETFROM:+0100
TZOFFSETTO:+0200
TZNAME:CEST
DTSTART:20260329T010000
END:DAYLIGHT
BEGIN:STANDARD
TZOFFSETFROM:+0200
TZOFFSETTO:+0100
TZNAME:CET
DTSTART:20261025T010000
END:STANDARD
END:VTIMEZONE
BEGIN:VEVENT
DTSTART;TZID=Europe/Berlin:20250704T090000
DTEND;TZID=Europe/Berlin:20250705T170000
DTSTAMP:20260425T173525
CREATED:20250511T092327Z
LAST-MODIFIED:20250511T092327Z
UID:10000956-1751619600-1751734800@dgob.info
SUMMARY:Seminar 1
DESCRIPTION:Ausbildungskurs mit Ute Isenburg-Rückold. \nThema: Grundlagen der Ortho-Bionomy® / therapeutische Schlüsselpunkte erkennen im Bereich der HWS-\, BWS-\, Schulterregion und Lumbalgien. \nBitte direkt anmelden unter info@ortho-bionomy.de. Weitere Informationen unter www.ortho-bionomy.de. \nSorry\, this entry is only available in Deutsch at the moment. \n\nDies ist keine Veranstaltung der DGOB – aber wir wollen gerne auf Veranstaltungen aufmerksam machen\, die wir für wichtig halten. Wir übernehmen keine Garantie für die Richtigkeit der Angaben\, bitte schauen Sie bei Fremdveranstaltungen immer auch bei den Anbietern selbst nach\, da wir eventuelle Termin- und Ortsverlegungen oder Absagen nicht in jedem Fall nachhalten können. Bitte achten Sie auch darauf\, dass der Großteil der Seminare kostenpflichtig ist. Vielen Dank!
URL:https://dgob.info/en/veranstaltung/seminar-1-16/
LOCATION:rehamed-neuro\, Industriestraße 3\, Stuttgart\, Baden-Württemberg\, 70565\, Deutschland
CATEGORIES:Ausbildung
END:VEVENT
BEGIN:VEVENT
DTSTART;TZID=Europe/Berlin:20250705T090000
DTEND;TZID=Europe/Berlin:20250706T170000
DTSTAMP:20260425T173525
CREATED:20250718T044321Z
LAST-MODIFIED:20250718T044321Z
UID:10000957-1751706000-1751821200@dgob.info
SUMMARY:Seminar 13
DESCRIPTION:Ausbildungskurs mit  Ulrike Volk. \nThema: Viszerale Techniken\nSeminarinhalte: Halsfaszien\, Lymphfluss\, Bronchien\, der Verdauungstrakt als funktionelle Einheit.\nVoraussetzung: 2 Seminare dynamische Techniken oder ein Residential. \nBitte direkt anmelden unter info@ortho-bionomy.de. Weitere Informationen unter www.ortho-bionomy.de. \nSorry\, this entry is only available in Deutsch at the moment. \n\nDies ist keine Veranstaltung der DGOB – aber wir wollen gerne auf Veranstaltungen aufmerksam machen\, die wir für wichtig halten. Wir übernehmen keine Garantie für die Richtigkeit der Angaben\, bitte schauen Sie bei Fremdveranstaltungen immer auch bei den Anbietern selbst nach\, da wir eventuelle Termin- und Ortsverlegungen oder Absagen nicht in jedem Fall nachhalten können. Bitte achten Sie auch darauf\, dass der Großteil der Seminare kostenpflichtig ist. Vielen Dank! \n\n 
URL:https://dgob.info/en/veranstaltung/seminar-13-6/
LOCATION:Praxis für Physiotherapie\, Schlossstraße\, Heilbronn\, Baden-Württemberg\, 74078\, Deutschland
CATEGORIES:Ausbildung
END:VEVENT
BEGIN:VEVENT
DTSTART;TZID=Europe/Berlin:20250711T090000
DTEND;TZID=Europe/Berlin:20250712T170000
DTSTAMP:20260425T173525
CREATED:20250718T051702Z
LAST-MODIFIED:20250718T051702Z
UID:10000964-1752224400-1752339600@dgob.info
SUMMARY:Seminar 5
DESCRIPTION:Ausbildungskurs mit Christa Hegele-Mack. \nThema: Integration und Bewegungsmuster\, dynamisches Arbeiten u.a. am Schulterblatt\, Kreuzbein\, Becken\, dynamische Reflexe: Rebound-\, Follow-on-response-\, Balance-Reflex)\, Narbenbehandlung. \nBitte direkt anmelden unter info@ortho-bionomy.de. Weitere Informationen unter www.ortho-bionomy.de. \nSorry\, this entry is only available in Deutsch at the moment. \n\nDies ist keine Veranstaltung der DGOB – aber wir wollen gerne auf Veranstaltungen aufmerksam machen\, die wir für wichtig halten. Wir übernehmen keine Garantie für die Richtigkeit der Angaben\, bitte schauen Sie bei Fremdveranstaltungen immer auch bei den Anbietern selbst nach\, da wir eventuelle Termin- und Ortsverlegungen oder Absagen nicht in jedem Fall nachhalten können. Bitte achten Sie auch darauf\, dass der Großteil der Seminare kostenpflichtig ist. Vielen Dank!
URL:https://dgob.info/en/veranstaltung/seminar-5-4/
LOCATION:localfit Fitnessstudio\, Lußweg 4\, Günzburg\, Bayern\, 89312\, Germany
CATEGORIES:Ausbildung
END:VEVENT
BEGIN:VEVENT
DTSTART;TZID=Europe/Berlin:20250712T090000
DTEND;TZID=Europe/Berlin:20250713T170000
DTSTAMP:20260425T173525
CREATED:20250718T051351Z
LAST-MODIFIED:20250718T051351Z
UID:10000963-1752310800-1752426000@dgob.info
SUMMARY:Seminar 6
DESCRIPTION:Ausbildungskurs mit Susanne Seidel. \nThema: Wahrnehmung und Bedeutung von Spontanbewegungen / Körperrhythmen / Wirbelsäule und Beckenring / Nabelbehandlung / dynamische Reflexe im Übergang von struktureller Funktion zur energetischen Organisation (On-Going-Action\, Volery-Syndrom) / Chakren.\nVoraussetzung: 1 Seminare strukturelle Techniken. \nBitte direkt anmelden unter info@ortho-bionomy.de. Weitere Informationen unter www.ortho-bionomy.de. \nSorry\, this entry is only available in Deutsch at the moment. \n\nDies ist keine Veranstaltung der DGOB – aber wir wollen gerne auf Veranstaltungen aufmerksam machen\, die wir für wichtig halten. Wir übernehmen keine Garantie für die Richtigkeit der Angaben\, bitte schauen Sie bei Fremdveranstaltungen immer auch bei den Anbietern selbst nach\, da wir eventuelle Termin- und Ortsverlegungen oder Absagen nicht in jedem Fall nachhalten können. Bitte achten Sie auch darauf\, dass der Großteil der Seminare kostenpflichtig ist. Vielen Dank!
URL:https://dgob.info/en/veranstaltung/seminar-6-3/
LOCATION:Praxis Balance Physiotherapie\, Stegemühlenweg 26\, Göttingen\, Niedersachsen\, 37083\, Deutschland
CATEGORIES:Ausbildung
GEO:51.5254;9.93689
X-APPLE-STRUCTURED-LOCATION;VALUE=URI;X-ADDRESS=Praxis Balance Physiotherapie Stegemühlenweg 26 Göttingen Niedersachsen 37083 Deutschland;X-APPLE-RADIUS=500;X-TITLE=Stegemühlenweg 26:geo:9.93689,51.5254
END:VEVENT
BEGIN:VEVENT
DTSTART;TZID=Europe/Berlin:20250719T090000
DTEND;TZID=Europe/Berlin:20250720T170000
DTSTAMP:20260425T173525
CREATED:20250718T045258Z
LAST-MODIFIED:20250718T045258Z
UID:10000959-1752915600-1753030800@dgob.info
SUMMARY:Seminar 9
DESCRIPTION:Ausbildungskurs mit Ute Isenburg-Rückold. \nThema: Reflextechniken nach Chapman und Goodheart für die Lenden-/Beckenregion/Isotonie/Isometrie/Gangschulung für viele Probleme mit Bewegungsabläufen\, Gelenke und der Statik\, Haltungsarbeit. \nBitte direkt anmelden unter info@ortho-bionomy.de. Weitere Informationen unter www.ortho-bionomy.de. \nSorry\, this entry is only available in Deutsch at the moment. \n\nDies ist keine Veranstaltung der DGOB – aber wir wollen gerne auf Veranstaltungen aufmerksam machen\, die wir für wichtig halten. Wir übernehmen keine Garantie für die Richtigkeit der Angaben\, bitte schauen Sie bei Fremdveranstaltungen immer auch bei den Anbietern selbst nach\, da wir eventuelle Termin- und Ortsverlegungen oder Absagen nicht in jedem Fall nachhalten können. Bitte achten Sie auch darauf\, dass der Großteil der Seminare kostenpflichtig ist. Vielen Dank!
URL:https://dgob.info/en/veranstaltung/seminar-9-3/
LOCATION:rehamed-neuro\, Industriestraße 3\, Stuttgart\, Baden-Württemberg\, 70565\, Deutschland
CATEGORIES:Ausbildung
END:VEVENT
BEGIN:VEVENT
DTSTART;TZID=Europe/Berlin:20250725T090000
DTEND;TZID=Europe/Berlin:20250726T170000
DTSTAMP:20260425T173525
CREATED:20251118T193710Z
LAST-MODIFIED:20251118T194024Z
UID:10000958-1753434000-1753549200@dgob.info
SUMMARY:Seminar 12
DESCRIPTION:Ausbildungskurs mit Kurt Mölich. \nThema: Energetische Techniken\nSeminarinhalte: freie Auraarbeit\, Organenergie\, energetische Reflexe u.a. für die Traumatherapie.\nVoraussetzung: 2 Seminare dynamische Techniken oder ein Residential. \nBitte direkt anmelden unter info@ortho-bionomy.de. Weitere Informationen unter www.ortho-bionomy.de. \nSorry\, this entry is only available in Deutsch at the moment. \n\nDies ist keine Veranstaltung der DGOB – aber wir wollen gerne auf Veranstaltungen aufmerksam machen\, die wir für wichtig halten. Wir übernehmen keine Garantie für die Richtigkeit der Angaben\, bitte schauen Sie bei Fremdveranstaltungen immer auch bei den Anbietern selbst nach\, da wir eventuelle Termin- und Ortsverlegungen oder Absagen nicht in jedem Fall nachhalten können. Bitte achten Sie auch darauf\, dass der Großteil der Seminare kostenpflichtig ist. Vielen Dank!
URL:https://dgob.info/en/veranstaltung/__trashed-3/
LOCATION:rehafit Fitnessstudio\, Lußweg 4\, Günzburg\, Bayern\, 89312
CATEGORIES:Ausbildung
GEO:48.4784749;10.2573777
X-APPLE-STRUCTURED-LOCATION;VALUE=URI;X-ADDRESS=rehafit Fitnessstudio Lußweg 4 Günzburg Bayern 89312;X-APPLE-RADIUS=500;X-TITLE=Lußweg 4:geo:10.2573777,48.4784749
END:VEVENT
END:VCALENDAR